BEGIN:VCALENDAR
VERSION:2.0
PRODID:-//jEvents 1.5 for Joomla//EN
BEGIN:VEVENT
CALSCALE:GREGORIAN
METHOD:PUBLISH

UID:28a07b501e3d2da28dd9799c243359a9
CATEGORIES:Workshop 
SUMMARY:HusseinÉ: ÉFT érzelmi feloldás technika 1/1 (Velence)
LOCATION:Velence, szervezés alatt
DESCRIPTION;ENCODING=QUOTED-PRINTABLE:<p><strong><span style="font-size: 12pt;">ÉFT&nbsp; (ÉRZELMI FELOLDÁS TE
 CHNIKA) TRÉNING,<br /> avagy "a kezed mindig kéznél van"</span></strong>
 <br /><strong><span style="font-size: 12pt;">1 napos workshop Velencén<br 
 /></span></strong></p><p><br /><span style="font-size: 10pt;"><strong>téma
 kör:</strong> EFT, pszicho-akupresszúra, biologikus konfliktusoldás<stro
 ng><br />típus:</strong> intenzív tréning, gyakorlati tréning<strong><b
 r />tréner:</strong> <a href="partnereink/hussein-eva.html" target="_blank
 "><span style="text-decoration: underline;"><strong>Hussein Éva <span styl
 e="font-size: 10pt;"></span></strong></span></a><strong><br /></strong><str
 ong>időtartam:</strong>&nbsp;1 nap, 2026. szeptember 27. 09:00-18:00 órá
 ig (ebédidő: 12:00-13:00 óráig)<span style="font-size: 10pt;"><strong><
 br />helyszín:</strong> Velence, szervezés alatt</span><strong><br />elő
 feltétel:</strong> nincs, de előnyös az <a href="publikaciok/alapismeret
 ek-oktato-videok.html" target="_blank"><span style="text-decoration: underl
 ine;">5 biológiai természettörvény online</span></a>, ingyenes előadá
 s megtekintése<br /><span style="font-size: 10pt;"><strong>létszámkorlá
 t:</strong> nincs megadva</span><strong><br />részvételi díj:</strong> 5
 0.000 Ft / nap / fő<strong><br />jelentkezés:</strong> írásos előregis
 ztráció kötelező az <a href="mailto:
 <script language='JavaScript' typ
 e='text/javascript'>
 <!--
 var prefix = 'm&#97;&#105;lt&#111;:';
 var suff
 ix = '';
 var attribs = '';
 var path = 'hr' + 'ef' + '=';
 var addy99332 =
  '&#101;v&#97;' + '&#64;';
 addy99332 = addy99332 + 'b&#105;&#111;l&#111;g&
 #105;k&#97;' + '&#46;' + 'h&#117;';
 document.write( '<a ' + path + '\'' + 
 prefix + addy99332 + suffix + '\'' + attribs + '>' );
 document.write( addy
 99332 );
 document.write( '<\/a>' );
 //-->
 </script><script language='Jav
 aScript' type='text/javascript'>
 <!--
 document.write( '<span style=\'disp
 lay: none;\'>' );
 //-->
 </script>Ez az email cím védett a spam robotokt
 ól, a megtekintéséhez engedélyezni kell a Javascriptet.
 <script langua
 ge='JavaScript' type='text/javascript'>
 <!--
 document.write( '</' );
 doc
 ument.write( 'span>' );
 //-->
 </script>" target="_blank"><span style="tex
 t-decoration: underline; color: #000080;">
 <script language='JavaScript' t
 ype='text/javascript'>
 <!--
 var prefix = 'm&#97;&#105;lt&#111;:';
 var su
 ffix = '';
 var attribs = '';
 var path = 'hr' + 'ef' + '=';
 var addy1555 
 = '&#101;v&#97;' + '&#64;';
 addy1555 = addy1555 + 'b&#105;&#111;l&#111;g&#
 105;k&#97;' + '&#46;' + 'h&#117;';
 document.write( '<a ' + path + '\'' + p
 refix + addy1555 + suffix + '\'' + attribs + '>' );
 document.write( addy15
 55 );
 document.write( '<\/a>' );
 //-->
 </script><script language='JavaSc
 ript' type='text/javascript'>
 <!--
 document.write( '<span style=\'display
 : none;\'>' );
 //-->
 </script>Ez az email cím védett a spam robotoktól
 , a megtekintéséhez engedélyezni kell a Javascriptet.
 <script language=
 'JavaScript' type='text/javascript'>
 <!--
 document.write( '</' );
 docume
 nt.write( 'span>' );
 //-->
 </script></span></a> e-mail címen<br /><span 
 style="font-size: 10pt;"><strong>jelentkezési határidő:</strong> nincs m
 egadva</span></span></p><p><br /><strong><span style="font-size: 10pt;">le
 rás, tematika:</span></strong><br /><br /><span style="font-size: 10pt;">
 A tréning kellő elméleti és gyakorlati ismeretet biztosít ahhoz, hogy 
 energia-blokkjaidat feloldhasd, valamint a fizikai vagy a lelki elváltozá
 s, tünet alapján megtalálhasd és ugyancsak feloldhasd a kiváltó lelki
  konfliktust is.</span></p><p><span style="font-size: 10pt;">Ez az egy napo
 s, intenzív tréning azért jött létre, mert nagyon gyakran azt tapaszta
 lom, hogy az elváltozásban érintett személy a Biologika (új medicina) 
 ismerete alapján megtalálja ugyan az elváltozást, "betegséget" kivált
 ó lelki konfliktusát, ám a teljes és végleges megoldáshoz szüksége 
 van segítségre, főként visszaeső konfliktus-aktivitás esetén. Ezt a 
 segítséget adja meg az ÉFT (pszicho-akupresszúra).</span><br /><span st
 yle="font-size: 10pt;">Az ÉFT egy olyan energia-pszichológiai módszer, a
 mellyel szinte percek alatt megszüntethetők fájdalmas, (akár gyerekkori
 ) gyötrő érzelmek, lelki traumák által okozott energia-blokkok.</span>
 <br /><span style="font-size: 10pt;">Pl.: szorongás, pánik, depresszió, 
 poszttraumás stressz, fóbiák, függőségek, gyász, kudarc, veszteség,
  düh, harag, önértékelési problémák, fájdalmak, görcsök, asztmás
  roham, alvási zavarok, félelem....és még sok-sok más probléma.</span
 ><br /><span style="font-size: 10pt;">Gyors, hatásos, könnyű elsajátít
 ani, és bárhol, bármikor alkalmazható. Az ÉFT lehetőségei korlátlan
 ok, alkalmas krízistünetek (lelki, fizikai közérzet) elviselhetővé t
 telére is...<br /><br />Megismerkedünk a pszicho-akupresszúra elmélet
 vel, betekintünk a Biologikába, bemutatásra kerül néhány csoportos g
 yakorlat. Ezt követően megtanuljuk, hogyan oldjuk a biologikus konfliktus
 okat, a következmény és diagnózisközlési traumákat. A résztvevők p
 áros és egyéni gyakorlatok során sajátítják el a módszert.</span><s
 pan style="font-size: 10pt;"><br /> Gyakorlati nap, ahol technikai részlet
 eket is tanulunk, (aspektusok, korlátozó hiedelmek, Faster ÉFT), mialatt
  mindenki folyamatos segítséget kap a saját és mások lelki blokkjainak
  oldásához.<br /><br />Előképzettség nem szükséges, de a Biologika (
 új medicina) ismerete előny lehet. Az ÉFT gyors rendkívül hatékony é
 s könnyen megtanulható.</span></p><p><span style="font-size: 10pt;">Célo
 m, hogy minél több ember megismerhesse és rendszeresen alkalmazhassa ezt
  a módszert a testi és lelki egészsége érdekében. </span></p><p><span
  style="font-size: 10pt;"><a href="https://www.youtube.com/watch?v=NJN8UKTT
 weA" target="_blank"><span style="text-decoration: underline;">A tájékozt
 ató videót itt találod</span></a><br /></span></p><p><br /><span style="
 font-size: 10pt;">Mindenkit szeretettel várok a tréningen! <br /><br />Hu
 ssein Éva, tréner<br /><br /></span></p><p><span style="font-size: 10pt;"
 >Jelentkezéskor add meg:</span><br /><span style="font-size: 10pt;">1.) a 
 tréning nevét, helyszínét és időpontját(!)</span><br /><span style="
 font-size: 10pt;">2.) pontos nevedet</span><br /><span style="font-size: 10
 pt;">3.) mobil számodat</span><br /><span style="font-size: 10pt;">4.) e-m
 ail címedet<br /><br /></span></p>
CONTACT:
 
 
 
 
 Ez az email cím védett a spam robotoktól, a megtekintéséhez engedélyezni kell a Javascriptet.
 
 
 ; +36 (30) 661 8398

DTSTAMP:20260419T173512Z
DTSTART:20260927T070000Z
DTEND:20260927T160000Z
SEQUENCE:0
TRANSP:OPAQUE
END:VEVENT
END:VCALENDAR