BEGIN:VCALENDAR
VERSION:2.0
PRODID:-//jEvents 1.5 for Joomla//EN
BEGIN:VEVENT
CALSCALE:GREGORIAN
METHOD:PUBLISH

UID:bcba9fa78d7e07b5ab9e1570d34d2a5e
CATEGORIES:Ismeretterjesztő előadás
SUMMARY:OrlikI: Biologika alap és haladó webinárium
LOCATION:online
DESCRIPTION;ENCODING=QUOTED-PRINTABLE:<p>&nbsp;<strong><span style="font-size: 12pt;">BIOLOGIKA (ÚJ MEDICINA) WE
 BINÁRIUM</span></strong></p><p><strong><span style="font-size: 12pt;">ALAP
 <span class="Apple-converted-space">&nbsp;és HALADÓ&nbsp;</span>előadás
 ok ONLINE videósorozat formájában<br /><br /></span></strong><span style
 ="font-size: 12pt;">Lehetőség van bármely <strong>szombati</strong> napo
 n elkezdeni, nem csak a meghirdetett<br />időpontban! Akit érdekel más k
 ezdési időpont, az kérem írjon az 
 <script language='JavaScript' type=
 'text/javascript'>
 <!--
 var prefix = 'm&#97;&#105;lt&#111;:';
 var suffix
  = '';
 var attribs = '';
 var path = 'hr' + 'ef' + '=';
 var addy7000 = '&
 #105;l&#111;n&#97;' + '&#64;';
 addy7000 = addy7000 + 'b&#105;&#111;l&#111;
 g&#105;k&#97;' + '&#46;' + 'h&#117;';
 document.write( '<a ' + path + '\'' 
 + prefix + addy7000 + suffix + '\'' + attribs + '>' );
 document.write( add
 y7000 );
 document.write( '<\/a>' );
 //-->
 </script><script language='Jav
 aScript' type='text/javascript'>
 <!--
 document.write( '<span style=\'disp
 lay: none;\'>' );
 //-->
 </script>Ez az email cím védett a spam robotokt
 ól, a megtekintéséhez engedélyezni kell a Javascriptet.
 <script langua
 ge='JavaScript' type='text/javascript'>
 <!--
 document.write( '</' );
 doc
 ument.write( 'span>' );
 //-->
 </script> e-mail címre!</span><br /><stron
 g><span style="font-size: 12pt;"> <br /></span></strong></p><p><span style=
 "font-size: 10pt;">témakör: daganatok, sorvadások és más elváltozáso
 k, biológiai értelmük, céljuk, rendeltetésük és lefolyásuk, hangula
 tzavarok és elmebajok&nbsp;</span>&nbsp;</p><p><span style="font-size: 10p
 t;">típus: webinárium</span>&nbsp;&nbsp;</p><p><span style="font-size: 10
 pt;">tréner:<span class="Apple-converted-space">&nbsp;</span></span><span 
 style="text-decoration: underline; color: #000080;"><a href="partnereink/or
 lik-ilona-biologika.html" target="_blank"><span style="font-size: 10pt; col
 or: #000080;"><strong>Orlik Ilona</strong></span></a></span>&nbsp;</p><p><s
 pan style="font-size: 10pt;">helyszín:<strong><span class="Apple-converted
 -space">&nbsp;ONLINE</span></strong></span></p><p><span style="font-size: 1
 0pt;">időtartam: <strong>a kezdéstől számított 5 héten át</strong></
 span>&nbsp;</p><p><span style="font-size: 10pt;">részvételi díj:<br />fe
 lnőtt alapár: 76.200 Ft/fő (azaz netto 60.000 Ft/fő) Részletfizetés l
 ehetséges!<br />Ismétlő kedvezmény Ilonánál végzettek számára: net
 to 30.000 Ft / fő. Részletfizetés lehetséges!<br /></span></p><p><span 
 style="font-size: 10pt;">jelentkezés:<span class="Apple-converted-space">&
 nbsp;</span></span><span style="text-decoration: underline;"><span style="c
 olor: #000000;"><span style="font-size: 10pt;">írásos előregisztráció 
 kötelező</span></span></span><span style="font-size: 10pt;"><span class="
 Apple-converted-space">&nbsp;</span>az <a href="mailto:
 <script language='
 JavaScript' type='text/javascript'>
 <!--
 var prefix = 'm&#97;&#105;lt&#11
 1;:';
 var suffix = '';
 var attribs = '';
 var path = 'hr' + 'ef' + '=';
 
 var addy9218 = '&#105;l&#111;n&#97;' + '&#64;';
 addy9218 = addy9218 + 'b&#
 105;&#111;l&#111;g&#105;k&#97;' + '&#46;' + 'h&#117;';
 document.write( '<a
  ' + path + '\'' + prefix + addy9218 + suffix + '\'' + attribs + '>' );
 do
 cument.write( addy9218 );
 document.write( '<\/a>' );
 //-->
 </script><scr
 ipt language='JavaScript' type='text/javascript'>
 <!--
 document.write( '<
 span style=\'display: none;\'>' );
 //-->
 </script>Ez az email cím védet
 t a spam robotoktól, a megtekintéséhez engedélyezni kell a Javascriptet
 .
 <script language='JavaScript' type='text/javascript'>
 <!--
 document.wr
 ite( '</' );
 document.write( 'span>' );
 //-->
 </script>" target="_blank"
 ><span style="text-decoration: underline;"><span style="color: #000080; tex
 t-decoration: underline;">
 <script language='JavaScript' type='text/javasc
 ript'>
 <!--
 var prefix = 'm&#97;&#105;lt&#111;:';
 var suffix = '';
 var 
 attribs = '';
 var path = 'hr' + 'ef' + '=';
 var addy18927 = '&#105;l&#111
 ;n&#97;' + '&#64;';
 addy18927 = addy18927 + 'b&#105;&#111;l&#111;g&#105;k&
 #97;' + '&#46;' + 'h&#117;';
 document.write( '<a ' + path + '\'' + prefix 
 + addy18927 + suffix + '\'' + attribs + '>' );
 document.write( addy18927 )
 ;
 document.write( '<\/a>' );
 //-->
 </script><script language='JavaScript
 ' type='text/javascript'>
 <!--
 document.write( '<span style=\'display: no
 ne;\'>' );
 //-->
 </script>Ez az email cím védett a spam robotoktól, a 
 megtekintéséhez engedélyezni kell a Javascriptet.
 <script language='Jav
 aScript' type='text/javascript'>
 <!--
 document.write( '</' );
 document.w
 rite( 'span>' );
 //-->
 </script></span></span></a> e-mail címen<br /></s
 pan><span style="font-size: 10pt;">A fizetés előreutalással történik. 
 A jelentkezés után válaszlevélben küldöm a tudnivalókat.</span><br /
 ><span style="font-size: 10pt;">Jelentkezési és fizetési határidő: vid
 eo megosztást megelőzően<br /><br /><br /></span><span style="font-size:
  10pt;">leírás:<br /></span></p><p><span style="font-size: 10pt;">A webin
 árium: öt egymásra épülő, (átlag 4-6 órás) videó előadásokat je
 lentenek,<br />melyeket a hallgató önállóan dolgoz fel 5 héten át.<br
  />Egy videó egységet tehát egy teljes hétig tud tanulmányozni.<br />A
 mikor lejár a hét, akkor már nem lesz elérhető az addig megtekintett r
 ész,<br />hanem egy újabb többórás videó válik nézhetővé egy úja
 bb héten át stb.<br />Ez tehát öt, Biologikával eltöltendő hetet jel
 ent, ami önálló időbeosztást kíván a hallgatótól.<br /><br />Az el
 őadássorozat célja, hogy alapokat adjon a biológiai természettörvény
 ek megismeréséhez,<br />a testben</span><span style="font-size: 10pt;"> l
 ezajló folyamatok megértéséhez.<br /></span></p><p><span style="font-si
 ze: 10pt;">A biológia természettörvényei hitrendszerünktől független
 ül működnek, egyénileg ellenőrizhetőek akár </span><span style="font
 -size: 10pt;">visszamenőleg is.<br />A tapasztalat azt mutatja, hogy az el
 őadásokat hallgatva meg is szünetnek ezek a múltra vonatkozó, visszaig
 azolást adó felismerések.<br /></span></p><p><span style="font-size: 10p
 t;">A Szerv Atlasz alapján egymásra épülő 5 előadás új rálátást 
 ad a betegségek helyes értelmezésére.<br /></span><span style="font-siz
 e: 10pt;">A Biologika ismeretének egyik legnagyobb előnye, hogy képessé
  válunk a komolyabb elváltozások </span><span style="font-size: 10pt;">k
 ialakulását megakadályozni,<br />a már folyamatban lévőket a legészs
 zerűbben kezelni, és döntéseket </span><span style="font-size: 10pt;">h
 ozni saját egészségünk érdekében.</span></p><p><span style="font-size
 : 10pt;">Az előadások nem tekinthetők gyógymódnak, és nem készítene
 k fel gyógyító tevékenység végzésére </span><span style="font-size:
  10pt;">sem.<br />Az ismeretanyag az önmagáért felelősséget vállaló 
 hétköznapi embernek szól. Ennek hiánya akár </span><span style="font-s
 ize: 10pt;">az egészség megőrzésének,<br />helyreállításának gátj
 ává is válhat. Megérteni a bennünk zajló érzelmi és </span><span st
 yle="font-size: 10pt;">testi folyamatokat egy új, minőségibb, általunk 
 irányított életvitel alapját jelentheti.<br />Megszabadulni </span><spa
 n style="font-size: 10pt;">hiedelmeinktől, félelmeinktől, betegségtudat
 unktól egy magunkkal cipelt teher letételét jelenti.<br /></span><span s
 tyle="font-size: 10pt;">A video előadások nemcsak testi szinten tárják 
 fel az elváltozásokat, hanem megmutatják lelki szinten is </span><span s
 tyle="font-size: 10pt;">a kiváltó okokat, érzelmi kilengéseket.<br /></
 span><span style="font-size: 10pt;">Barnai Roberto által készített Szerv
  Atlasz tudásanyagára építkezik a videósorozat.<br /><br />A legfontos
 abb elváltozások és Szerv Atlasz oldalak kerülnek áttekintésre, amely
  Dr. Hamer öt biologiai </span><span style="font-size: 10pt;">természett
 rvényén alapulnak.<br /></span><span style="font-size: 10pt;">Bővebb in
 formációért, látogasson el Orlik Ilona honlapjára: <a href="https://or
 likilona.hu/">https://orlikilona.hu/</a> ahonnan az alábbi </span><span st
 yle="font-size: 10pt;">vélemény is származik:<br /></span><br /><span st
 yle="font-size: 10pt;">“Az online Biologika tanfolyamot választottam, me
 rt messze lakom Ilonától.</span><br /><span style="font-size: 10pt;">Jó 
 választás volt, örülök, hogy ezen a módon sikerült tanulnom.</span><
 br /><span style="font-size: 10pt;">A ... részekre (szerk.) ... tagolt any
 ag, amit hetente kaptam meg, hagyott nekem elegendő időt,<br />hogy </spa
 n><span style="font-size: 10pt;">saját tempómban, szabadidőmben kényelm
 esen hallgassam meg.<br /></span><span style="font-size: 10pt;">Érthető, 
 jól felépített tananyag. Ilona kedvesen és precízen adja át a lényeg
 et.<br /></span><span style="font-size: 10pt;">Általa most nagyon sok mind
 en helyére került, amit eddig a YouTube-on hallgatott videók során nem 
 </span><span style="font-size: 10pt;">értettem.<br />Annak külön örül
 k, hogy fogom tudni használni saját segítői munkámban is.</span><br /
 ><span style="font-size: 10pt;">Köszönöm!</span><br /><span style="font-
 size: 10pt;">Balázs Mónika</span><br /><span style="font-size: 10pt;">Kin
 eziológus” (2020 augusztusa)</span></p><p><span style="font-size: 10pt;"
 ><br /></span></p><p><span style="font-size: 10pt;">tematika:</span><br /><
 span style="font-size: 10pt;">Az öt biológiai természettörvény - alapf
 ogalmak</span><br /><span style="font-size: 10pt;">Barnai Roberto: Biologik
 a Szerv Atlasz felépítése és használata</span><br /><span style="font-
 size: 10pt;">Az agytörzs vezérelte mirigyszövetes szervek elváltozásai
 </span><br /><span style="font-size: 10pt;">A középagy vezérelte simaizo
 mszövetek elváltozásai (miómák)</span><br /><span style="font-size: 10
 pt;">A kisagy vezérelte szervek elváltozásai (hártyaszövetek, bőrirha
 , tejmirigyek)</span><br /><span style="font-size: 10pt;">A velőállomány
  vezérelte szervek elváltozásai és a valódi ciszták</span><br /><span
  style="font-size: 10pt;">Kötőszövetek, vázrendszer</span><br /><span s
 tyle="font-size: 10pt;">A szív elváltozásai</span><br /><span style="fon
 t-size: 10pt;">Vér- és nyirokrendszer (leukémia)</span><br /><span style
 ="font-size: 10pt;">Magas vérnyomás (vesekéreg elváltozása)</span><br 
 /><span style="font-size: 10pt;">Here és petefészekciszta</span><br /><sp
 an style="font-size: 10pt;">A kéregállomány vezérelte szervek elváltoz
 ásai</span><br /><span style="font-size: 10pt;">Férfias és nőies hormon
 állapot</span><br /><span style="font-size: 10pt;">Funkció-kimaradások, 
 bénulások, cukorszint változások</span><br /><span style="font-size: 10
 pt;">Mentális különprogramok</span><br /><span style="font-size: 10pt;">
 Hangulatzavarok és elmebajok - a leggyakoribb tünetek hátterével</span>
 <br /><span style="font-size: 10pt;">(Megzavarodottság, kényszeres sérte
 getés, értékítéleti zavarok,</span><br /><span style="font-size: 10pt;
 ">mánia, depresszió, skizofrénia, fóbiák és paranoiák)<br /><br /></
 span></p><p><span style="font-size: 10pt;">tananyag:<br />Biologika Szerv A
 tlasz</span><br /><span style="font-size: 10pt;">Roberto előadásainak pre
 zentációs anyaga az újmedicina kézikönyvévé nőtte ki magát.</span>
 <br /><span style="font-size: 10pt;">A Szerv Atlasz megvásárolható a web
 shopban: <span style="text-decoration: underline;"><span style="color: #000
 080; text-decoration: underline;"><a href="https://biologikaszervatlasz.hu"
  target="_blank"><span style="color: #000080; text-decoration: underline;">
 biologikaszervatlasz.hu</span></a></span></span><br />A Szerv Atlasz jelenl
 eg az egyetlen&nbsp;</span><span style="font-size: 10pt;">újmedicinás ké
 zikönyv a világon.<br /><br /></span></p><p><span style="font-size: 10pt;
 ">Jelentkezéskor add meg:</span><br /><span style="font-size: 10pt;">1.) a
  tréning nevét, helyszínét és időpontját</span><br /><span style="fo
 nt-size: 10pt;">2.) pontos nevedet</span><br /><span style="font-size: 10pt
 ;">3.) mobil számodat</span><br /><span style="font-size: 10pt;">4.) e-mai
 l címedet</span><br /><span style="font-size: 10pt;">5.) kedvezmény alapj
 át (ha jogosult vagy)</span></p><p><em><span style="font-size: 10pt;"><br 
 /></span></em></p>
CONTACT:
 
 
 
 
 Ez az email cím védett a spam robotoktól, a megtekintéséhez engedélyezni kell a Javascriptet.
 
 
  +36 (20) 483 8742

DTSTAMP:20260425T041029Z
DTSTART:20250712
DTEND:20250712
SEQUENCE:0
TRANSP:OPAQUE
END:VEVENT
END:VCALENDAR