BEGIN:VCALENDAR
VERSION:2.0
PRODID:-//jEvents 1.5 for Joomla//EN
BEGIN:VEVENT
CALSCALE:GREGORIAN
METHOD:PUBLISH

UID:413b61d8edd8b9d6d7e23b5ec465aeaf
CATEGORIES:Egyéb kapcsolódó tanfolyam
SUMMARY:TarjányiN: Biologika vizsgára felkészítés és gyakorlati nap 1/1 (Budapest)
LOCATION:Budapest, szervezés alatt
DESCRIPTION;ENCODING=QUOTED-PRINTABLE:<p><strong><span style="font-size: 12pt;">BIOLOGIKA (ÚJ MEDICINA) VIZSGÁR
 A FELKÉSZÍTÉS ÉS GYAKORLATI NAP</span></strong><br /><strong><span styl
 e="font-size: 12pt;">1 napos VIZSGAFELKÉSZÍTŐ, korrepetálás, tanuláss
 egítés Budapesten</span></strong><br /><br /><span style="font-size: 10pt
 ;"><strong>témakör:</strong> biologika tanulás módszertan, írásbeli 
 s szóbeli vizsgahelyzet kipróbálása, agyi térképek tanulása, kérd
 sek megbeszélése</span><br /><span style="font-size: 10pt;"><strong>típ
 us:</strong> intenzív workshop, gyakorlati nap</span><br /><span style="fo
 nt-size: 10pt;"><strong>tréner:</strong> <a href="partnereink/tarjanyi-nan
 etta.html" target="_blank"><span style="text-decoration: underline; color: 
 #000080;"><strong>Tarjányi Nanetta</strong></span></a></span><br /><span s
 tyle="font-size: 10pt;"><strong>időtartam:</strong> 1 nap, 2020. július 2
 1. 10:00-18:00 óráig</span><br /><span style="font-size: 10pt;">ebédszü
 net: 13.30-14.30 óráig</span><br /><span style="font-size: 10pt;">beszél
 getés, kérdések,vizsgastressz oldás: 9-10 és 18:00-19:00 óráig</span
 ><br /><span style="font-size: 10pt;"><strong>helyszín:</strong> Budapest,
  külföldön élők számára skype-os lehetőség lesz adott</span><br />
 <span style="font-size: 10pt;"><strong>bontási lehetőség:</strong> nincs
 </span><br /><span style="font-size: 10pt;"><strong>előfeltétel:</strong>
  alap és haladó biologika tanfolyami végzettség bármelyik biologika tr
 énernél</span><br /><span style="font-size: 10pt;"><strong>létszámkorl
 t:</strong> 6+3 fő</span><br /><strong><span style="font-size: 10pt;">ré
 szvételi díjak:</span></strong><br /><span style="font-size: 10pt;">2020.
  július 14. előtti jelentkezés esetén a részvételi díj: 15.000 Ft / 
 fő / 1 nap</span><br /><span style="font-size: 10pt;">2020. július 14. ut
 áni jelentkezés esetén a részvételi díj: 18.000 Ft / fő / 1 nap</spa
 n><br /><span style="font-size: 10pt;">Második korrepetáláson résztvev
 knek: 10.000 Ft / fő / 1 nap</span><br /><span style="font-size: 10pt;">N
 anettánál négynapos tanfolyamot végzett vagy kétnaposat kétszer ismé
 teltek számára: 10.000 Ft / fő / nap</span><br /><span style="font-size:
  10pt;"><strong>jelentkezés:</strong> írásos előregisztráció kötelez
 ő a <span style="text-decoration: underline;"><a href="mailto:
 <script la
 nguage='JavaScript' type='text/javascript'>
 <!--
 var prefix = 'm&#97;&#10
 5;lt&#111;:';
 var suffix = '';
 var attribs = '';
 var path = 'hr' + 'ef' 
 + '=';
 var addy66129 = 'n&#97;n&#101;tt&#97;' + '&#64;';
 addy66129 = addy
 66129 + 'b&#105;&#111;l&#111;g&#105;k&#97;' + '&#46;' + 'h&#117;';
 documen
 t.write( '<a ' + path + '\'' + prefix + addy66129 + suffix + '\'' + attribs
  + '>' );
 document.write( addy66129 );
 document.write( '<\/a>' );
 //-->

  </script><script language='JavaScript' type='text/javascript'>
 <!--
 docu
 ment.write( '<span style=\'display: none;\'>' );
 //-->
 </script>Ez az ema
 il cím védett a spam robotoktól, a megtekintéséhez engedélyezni kell 
 a Javascriptet.
 <script language='JavaScript' type='text/javascript'>
 <!-
 -
 document.write( '</' );
 document.write( 'span>' );
 //-->
 </script>" t
 arget="_blank"><span style="text-decoration: underline;">
 <script language
 ='JavaScript' type='text/javascript'>
 <!--
 var prefix = 'm&#97;&#105;lt&#
 111;:';
 var suffix = '';
 var attribs = '';
 var path = 'hr' + 'ef' + '=';
 
 var addy12180 = 'n&#97;n&#101;tt&#97;' + '&#64;';
 addy12180 = addy12180 
 + 'b&#105;&#111;l&#111;g&#105;k&#97;' + '&#46;' + 'h&#117;';
 document.writ
 e( '<a ' + path + '\'' + prefix + addy12180 + suffix + '\'' + attribs + '>'
  );
 document.write( addy12180 );
 document.write( '<\/a>' );
 //-->
 </scr
 ipt><script language='JavaScript' type='text/javascript'>
 <!--
 document.w
 rite( '<span style=\'display: none;\'>' );
 //-->
 </script>Ez az email cí
 m védett a spam robotoktól, a megtekintéséhez engedélyezni kell a Java
 scriptet.
 <script language='JavaScript' type='text/javascript'>
 <!--
 doc
 ument.write( '</' );
 document.write( 'span>' );
 //-->
 </script></span></
 a></span> e-mail címen</span><br /><span style="font-size: 10pt;"><strong>
 jelentkezési határidő:</strong> nincs megadva<br /><br /><strong>leírá
 s:</strong></span><br /><span style="font-size: 10pt;">A tanfolyam célja a
  biologika tanulási folyamatának szakmai segítése, a vizsgára való fe
 lkészítés, felmerülő kérdések megválaszolása.</span><br /><span st
 yle="font-size: 10pt;">Figyelem! A korrepetálásra felkészülés szüksé
 ges, a lentebb található szempontok alapján. Házi feladatot kaptok, ami
 t a megbeszélt időben ellenőrzök. A Szerv Atlasz folyamatos tanulása, 
 a videók hallgatása addig is fontos!<br /><br /><strong>tematika:</strong
 ></span><br /><span style="font-size: 10pt;">A biologika és az adott egyé
 n optimális tanulás módszertana, kérdéstípusok buktatói, teszt, táb
 lázat, kifejtős, rajzolós, felsorolós, példák, kivételek, beugratós
  kérdés lehetőségek.</span><br /><span style="font-size: 10pt;">Szóbel
 i vizsgaszitiáció kipróbálása</span><br /><span style="font-size: 10pt
 ;">Kérdéseid megbeszélése<br /><br />A tanfolyamhoz bíztosítjuk:</spa
 n><br /><span style="font-size: 10pt;">- egy sorvezető, ami segít a tanul
 ásban</span><br /><span style="font-size: 10pt;">- 9:00-10:00-ig és 18:00
 -19:00 óráig a személyesen jelenlévők két-két vizsgaszituációval, 
 vagy biologika tanulással kapcsolatos blokkjukat oldhatják wingwave coach
 inggal</span><br /><span style="font-size: 10pt;">- házi feladatként kaps
 z egy másfél órás vizsgafeladatsorhoz hasonló feladatsort, amin gyakor
 olhatsz és amit átbeszélünk a javítás után<br /><br />A korrepetál
 sra kérlek, készülj fel a következőkkel:</span><br /><span style="fon
 t-size: 10pt;">1. Írd össze, hogyan szoktál tanulni!</span><br /><span s
 tyle="font-size: 10pt;">a.)időbeosztás: pl.: ha van 10 percem, ha buszon 
 ülök, minden nap kicsit, ha van három napom, magamra zárva az ajtót st
 b.</span><br /><span style="font-size: 10pt;">b.) módszer: írok jegyzetet
 , vázlatot, kidolgozom a tételeket, végigolvasom többször és ami megm
 arad, hangosan felmondom valakinek</span><br /><span style="font-size: 10pt
 ;">2. C típusú vizsgások!</span><br /><span style="font-size: 10pt;">a.)
  Rajzold le otthon a négy agyi területet a gócokkal (agytörzs, kisagy, 
 agyvelő, agykéreg), jelezd, hogy memorizálás után vagy előtt vagy, me
 gnézzük, hogy jól rajzolod-e az arányokat, kamrákat, vonalakat, gócok
 at. Megbeszéljük a támpontokat a jó memorizáláshoz. Mutatok agyi felv
 ételeket különböző szögekből, hogy hogy kell elképzelni térben a f
 ejben.</span><br /><span style="font-size: 10pt;">3. Írd össze a kérdés
 eidet!<br /><br /><strong>tananyag:</strong> Biologika Szerv Atlasz. A Szer
 v Atlasz megvásárolható a tréningen postaköltség nélkül illetve el
 re a <a href="https://webshop.biologika.hu" target="_blank"><span style="c
 olor: #000080;"><strong><span style="text-decoration: underline;">webshopba
 n</span></strong></span></a>.<br /><br />Jelentkezéskor add meg:</span><br
  /><span style="font-size: 10pt;">1.) a tréning nevét, helyszínét és i
 dőpontját</span><br /><span style="font-size: 10pt;">2.) pontos nevedet</
 span><br /><span style="font-size: 10pt;">3.) mobil számodat</span><br /><
 span style="font-size: 10pt;">4.) e-mail címedet</span><br /><span style="
 font-size: 10pt;">5.) kedvezmény alapját (ha jogosult vagy)<br /><br /><b
 r /></span></p>
CONTACT:
 
 
 
 
 Ez az email cím védett a spam robotoktól, a megtekintéséhez engedélyezni kell a Javascriptet.
 
 
 

DTSTAMP:20260422T151451Z
DTSTART:20200721T080000Z
DTEND:20200721T160000Z
SEQUENCE:0
TRANSP:OPAQUE
END:VEVENT
END:VCALENDAR