BEGIN:VCALENDAR
VERSION:2.0
PRODID:-//jEvents 1.5 for Joomla//EN
BEGIN:VEVENT
CALSCALE:GREGORIAN
METHOD:PUBLISH

UID:3b92ef6aedffb13ae29ea73550085e79
CATEGORIES:Alap szeminÃ¡rium 
SUMMARY:TarjÃ¡nyiN: Biologika alap tanfolyam 1/2 (Budapest)
LOCATION:Budapest, szervezÃ©s alatt
DESCRIPTION;ENCODING=QUOTED-PRINTABLE:<p><strong><span style="font-size: 12pt;">BIOLOGIKA (ÃšJ MEDICINA) TRÃ‰NING
 </span></strong><br /><strong><span style="font-size: 12pt;">2 napos ALAP t
 anfolyam Budapesten</span></strong><br /><br /><span style="font-size: 10pt
 ;"><strong>tÃ©makÃ¶r:</strong> az agy mÅ±kÃ¶dÃ©se, a tudatszÅ±kÃ¼lÃ©s jelen
 sÃ©ge, a Szerv Atlasz hasznÃ¡lata, hormonszint Ã©s Ã©letvitel, daganatok, s
 orvadÃ¡sok Ã©s mÃ¡s elvÃ¡ltozÃ¡sok, biolÃ³giai Ã©rtelmÃ¼k, cÃ©ljuk, rendelt
 etÃ©sÃ¼k Ã©s lefolyÃ¡suk.</span><br /><span style="font-size: 10pt;"><stron
 g>tÃ­pus:</strong> intenzÃ­v trÃ©ning, tanfolyam</span><br /><span style="f
 ont-size: 10pt;"><strong>trÃ©ner:</strong> <a href="partnereink/tarjanyi-na
 netta.html" target="_blank"><span style="text-decoration: underline; color:
  #000080;"><strong>TarjÃ¡nyi Nanetta</strong></span></a></span><br /><span 
 style="font-size: 10pt;"><strong>idÅ‘tartam:</strong> 2 nap, 2020. jÃºlius 
 18-19. 10:00-19:00 Ã³rÃ¡ig</span><br /><span style="font-size: 10pt;">ebÃ©d
 szÃ¼net: 13:30-14:30 Ã³rÃ¡ig</span><br /><span style="font-size: 10pt;">kÃ©
 rdÃ©sek, vÃ¡laszok: 18:00-19:00 Ã³rÃ¡ig</span><br /><span style="font-size:
  10pt;"><strong>helyszÃ­n:</strong> Budapest, tovÃ¡bbi informÃ¡ciÃ³ e-mailb
 en</span><br /><span style="font-size: 10pt;"><strong>bontÃ¡si lehetÅ‘sÃ©g:
 </strong> nincs</span><br /><span style="font-size: 10pt;"><strong>elÅ‘felt
 Ã©tel:</strong> <a href="https://alapismeretek.biologika.hu" target="_blank
 "><span style="text-decoration: underline; color: #000080;">5 biolÃ³giai te
 rmÃ©szettÃ¶rvÃ©ny online</span></a>, ingyenes elÅ‘adÃ¡s megtekintÃ©se legal
 Ã¡bb kÃ©tszer</span><br /><span style="font-size: 10pt;"><strong>nyelv:</st
 rong> magyar nyelven</span><br /><span style="font-size: 10pt;"><strong>lÃ©
 tszÃ¡mkorlÃ¡t:</strong> 10 fÅ‘</span><br /><strong><span style="font-size: 
 10pt;">rÃ©szvÃ©teli dÃ­jak: </span></strong><span style="font-size: 10pt;">
 30.000 HUF / fÅ‘/ 2 nap</span><br /><span style="font-size: 10pt;">ismÃ©tlÅ
 ‘ (csak NanettÃ¡nÃ¡l): 15.000 HUF / fÅ‘ / 2 nap</span><br /><span style="fo
 nt-size: 10pt;"><strong>jelentkezÃ©s:</strong> Ã­rÃ¡sos elÅ‘regisztrÃ¡ciÃ³ 
 kÃ¶telezÅ‘ a <span style="text-decoration: underline; color: #000080;"><a h
 ref="mailto:
 <script language='JavaScript' type='text/javascript'>
 <!--
 
 var prefix = 'm&#97;&#105;lt&#111;:';
 var suffix = '';
 var attribs = '';

  var path = 'hr' + 'ef' + '=';
 var addy1366 = 'n&#97;n&#101;tt&#97;' + '&#
 64;';
 addy1366 = addy1366 + 'b&#105;&#111;l&#111;g&#105;k&#97;' + '&#46;' 
 + 'h&#117;';
 document.write( '<a ' + path + '\'' + prefix + addy1366 + suf
 fix + '\'' + attribs + '>' );
 document.write( addy1366 );
 document.write(
  '<\/a>' );
 //-->
 </script><script language='JavaScript' type='text/javas
 cript'>
 <!--
 document.write( '<span style=\'display: none;\'>' );
 //-->

  </script>Ez az email cÃ­m vÃ©dett a spam robotoktÃ³l, a megtekintÃ©sÃ©hez 
 engedÃ©lyezni kell a Javascriptet.
 <script language='JavaScript' type='tex
 t/javascript'>
 <!--
 document.write( '</' );
 document.write( 'span>' );
 
 //-->
 </script>" target="_blank"><span style="text-decoration: underline; 
 color: #000080;">
 <script language='JavaScript' type='text/javascript'>
 <
 !--
 var prefix = 'm&#97;&#105;lt&#111;:';
 var suffix = '';
 var attribs =
  '';
 var path = 'hr' + 'ef' + '=';
 var addy85926 = 'n&#97;n&#101;tt&#97;'
  + '&#64;';
 addy85926 = addy85926 + 'b&#105;&#111;l&#111;g&#105;k&#97;' + 
 '&#46;' + 'h&#117;';
 document.write( '<a ' + path + '\'' + prefix + addy85
 926 + suffix + '\'' + attribs + '>' );
 document.write( addy85926 );
 docum
 ent.write( '<\/a>' );
 //-->
 </script><script language='JavaScript' type='
 text/javascript'>
 <!--
 document.write( '<span style=\'display: none;\'>' 
 );
 //-->
 </script>Ez az email cÃ­m vÃ©dett a spam robotoktÃ³l, a megtekin
 tÃ©sÃ©hez engedÃ©lyezni kell a Javascriptet.
 <script language='JavaScript'
  type='text/javascript'>
 <!--
 document.write( '</' );
 document.write( 's
 pan>' );
 //-->
 </script></span></a></span> e-mail cÃ­men</span><br /><spa
 n style="font-size: 10pt;"><strong>jelentkezÃ©si hatÃ¡ridÅ‘:</strong> nincs
  megadva<br /><br /><strong>leÃ­rÃ¡s:</strong></span><br /><span style="fon
 t-size: 10pt;">A tanfolyam cÃ©lja, hogy alapokat adjon a biolÃ³giai termÃ©s
 zettÃ¶rvÃ©nyek megismerÃ©sÃ©hez, a testben lezajlÃ³ folyamatok megÃ©rtÃ©sÃ©
 hez.</span><br /><span style="font-size: 10pt;">A biolÃ³gia termÃ©szettÃ¶rv
 Ã©nyei hitrendszerÃ¼nktÅ‘l fÃ¼ggetlenÃ¼l mÅ±kÃ¶dnek, egyÃ©nileg ellenÅ‘rizh
 etÅ‘ek akÃ¡r visszamenÅ‘leg is.</span><br /><span style="font-size: 10pt;">
 A tanfolyami ismeretek elsajÃ¡tÃ­tÃ¡sa Ãºj rÃ¡lÃ¡tÃ¡st biztosÃ­t a betegsÃ©
 gek helyes Ã©rtelmezÃ©sÃ©re. SegÃ­tsÃ©get nyÃºjt megalapozott dÃ¶ntÃ©seket 
 hozni az egyÃ©n szÃ¡mÃ¡ra sajÃ¡t egÃ©szsÃ©ge Ã©rdekÃ©ben. A biologika ismer
 etÃ©nek legnagyobb elÅ‘nye, hogy kÃ©pessÃ© vÃ¡lunk a komolyabb elvÃ¡ltozÃ¡s
 ok kialakulÃ¡sÃ¡t megakadÃ¡lyozni, a mÃ¡r folyamatban lÃ©vÅ‘ket a legegysze
 rÅ±bben kezelni.<br /><br />A tanfolyam nem gyÃ³gymÃ³d, nem gyÃ³gyÃ­t, nem 
 kÃ©szÃ­t fel gyÃ³gyÃ­tÃ³ tevÃ©kenysÃ©g vÃ©gzÃ©sÃ©re. Az ismeretanyag az Ã¶n
 magukÃ©rt felelÅ‘ssÃ©get vÃ¡llalÃ³ laikusoknak szÃ³l. MegÃ©rteni a bennÃ¼nk
  lÃ©vÅ‘ Ã©rzelmi Ã©s testi folyamatokat egy Ãºj, minÅ‘sÃ©gibb Ã¡ltalunk irÃ
 ¡nyÃ­tott Ã©letvitel alapjÃ¡t jelentheti. Megszabadulni hiedelmeinktÅ‘l, fÃ
 ©lelmeinktÅ‘l,</span><br /><span style="font-size: 10pt;">betegsÃ©gtudatunk
 tÃ³l egy magunkkal cipelt teher letÃ©telÃ©t jelenti. A tanfolyam nem csak t
 esti szinten tÃ¡rja fel az elvÃ¡ltozÃ¡sokat, hanem megmutatja lelki szinten
  is a kivÃ¡ltÃ³ okokat, Ã©rzelmi kilengÃ©seket. A trÃ©ning a Barnai Roberto
  Ã¡ltal kÃ©szÃ­tett Szerv Atlasz tudÃ¡sanyagÃ¡n alapul.<br /><br />A kÃ©tna
 pos alaptanfolyam rendszerszemlÃ©lete a tovÃ¡bbi tÃ¡jÃ©kozÃ³dÃ¡s alapja. KÃ
 ©tszer valÃ³ ismÃ©tlÃ©se elmÃ©lyÃ­ti a tudÃ¡st annyira, hogy a kÃ©tnapos ha
 ladÃ³ra alaposan felkÃ©szÃ¼ljÃ¼nk. Ne feledjÃ¼k, nem egy Ãºj ismeretet szer
 zÃ¼nk, hanem a rÃ©gi, Ã©vtizedeken Ã¡t tartÃ³ rossz beidegzÅ‘dÃ©seket Ã­rju
 k Ã¡t!</span><br /><span style="font-size: 10pt;">A hallgatÃ³ jegyzetet kap
  Ã©s a Szerv Atlasz hasznÃ¡latÃ¡ba is betekintÃ©st nyer.<br /><br /><strong
 >tematika:<br /></strong></span><strong><span style="font-size: 10pt;">1. n
 ap</span></strong><br /><span style="font-size: 10pt;">Az automatikus agy m
 Å±kÃ¶dÃ©se, a biologika alapjai</span><br /><span style="font-size: 10pt;">
 Az Ã¶t biolÃ³giai termÃ©szettÃ¶rvÃ©ny - Dr. Ryke Geerd Hamer munkÃ¡ssÃ¡ga</
 span><br /><span style="font-size: 10pt;">HormonÃ¡llapotok, a kezÅ±sÃ©g fon
 tossÃ¡ga</span><br /><span style="font-size: 10pt;">Barnai Roberto: Biologi
 ka Szerv Atlasz felÃ©pÃ­tÃ©se Ã©s hasznÃ¡lata (amennyiben igÃ©ny van rÃ¡), 
 tovÃ¡bbi</span><br /><span style="font-size: 10pt;">szakirodalom Ã©s tÃ¡jÃ©
 kozÃ³dÃ¡si pontok<br /><br /><strong>2. nap</strong></span><br /><span styl
 e="font-size: 10pt;">Fontosabb biolÃ³giai elvÃ¡ltozÃ¡sok, betegsÃ©glefutÃ¡s
 ok</span><br /><span style="font-size: 10pt;">Elmezavarok Ã©rintÅ‘legesen<b
 r /><br /><strong>tananyag:</strong> Biologika Szerv Atlasz (nem kÃ¶telezÅ‘
 ) Ã©s jegyzet (jegyzetet biztosÃ­tunk). <br />A Szerv Atlasz megvÃ¡sÃ¡rolha
 tÃ³ a <a href="https://webshop.biologika.hu" target="_blank"><span style="t
 ext-decoration: underline; color: #000080;"><strong>webshopban</strong></sp
 an></a> valamint a trÃ©ningen.<br /><br />JelentkezÃ©skor add meg:</span><b
 r /><span style="font-size: 10pt;">1.) a trÃ©ning nevÃ©t, helyszÃ­nÃ©t Ã©s 
 idÅ‘pontjÃ¡t</span><br /><span style="font-size: 10pt;">2.) pontos nevedet<
 /span><br /><span style="font-size: 10pt;">3.) mobil szÃ¡modat</span><br />
 <span style="font-size: 10pt;">4.) e-mail cÃ­medet</span><br /><span style=
 "font-size: 10pt;">5.) kedvezmÃ©ny alapjÃ¡t (ha jogosult vagy)<br /><br /><
 br /></span></p>
CONTACT:
 
 
 
 
 Ez az email cÃ­m vÃ©dett a spam robotoktÃ³l, a megtekintÃ©sÃ©hez engedÃ©lyezni kell a Javascriptet.
 
 
 

DTSTAMP:20260422T152044Z
DTSTART:20200718T080000Z
DTEND:20200718T170000Z
SEQUENCE:0
TRANSP:OPAQUE
END:VEVENT
END:VCALENDAR