BEGIN:VCALENDAR
VERSION:2.0
PRODID:-//jEvents 1.5 for Joomla//EN
BEGIN:VEVENT
CALSCALE:GREGORIAN
METHOD:PUBLISH

UID:c3dbbe07a93cdf2ad09b8c22581e259c
CATEGORIES:Alap szeminárium 
SUMMARY:TarjányiN: Biologika alap tanfolyam 1/3 (Szabadka, Szerbia)
LOCATION:Szabadka (Szerbia), szervezés alatt
DESCRIPTION;ENCODING=QUOTED-PRINTABLE:<p><strong><span style="font-size: 12pt;">BIOLOGIKA (ÚJ MEDICINA) TRÉNING
 </span></strong><br /><strong><span style="font-size: 12pt;">2,5 napos ALAP
  tanfolyam Szabadkán</span></strong><br /><br /><span style="font-size: 10
 pt;"><strong>témakör:</strong> az agy működése, a tudatszűkülés jel
 ensége, túlélési dinamikák, a Szerv Atlasz használata, hormonszint é
 s életvitel, daganatok, sorvadások és más elváltozások, biológiai é
 rtelmük, céljuk, rendeltetésük és lefolyásuk.</span><br /><span style
 ="font-size: 10pt;"><strong>típus:</strong> intenzív tréning, tanfolyam<
 /span><br /><span style="font-size: 10pt;"><strong>tréner:</strong> <a hre
 f="partnereink/tarjanyi-nanetta.html" target="_blank"><span style="text-dec
 oration: underline; color: #000080;"><strong>Tarjányi Nanetta</strong></sp
 an></a></span><br /><span style="font-size: 10pt;"><strong>időtartam:</str
 ong> 2 és fél nap, 2020. február 7. 17:00-20:00 óráig és február 8-9
 . 10:00-19:00 óráig</span><br /><span style="font-size: 10pt;">ebédszün
 et: 13:30-14:30 óráig</span><br /><span style="font-size: 10pt;">kérdés
 ek, válaszok: 18:00-19:00 óráig</span><br /><span style="font-size: 10pt
 ;"><strong>helyszín:</strong> Szabadka, további információ e-mailben</s
 pan><br /><span style="font-size: 10pt;"><strong>bontási lehetőség:</str
 ong> nincs</span><br /><span style="font-size: 10pt;"><strong>előfeltétel
 :</strong> <a href="https://alapismeretek.biologika.hu" target="_blank"><sp
 an style="text-decoration: underline; color: #000080;">5 biológiai termés
 zettörvény online</span></a>, ingyenes előadás megtekintése legalább 
 kétszer</span><br /><span style="font-size: 10pt;"><strong>nyelv:</strong>
  magyar nyelven, szerb tolmácsolással</span><br /><span style="font-size:
  10pt;"><strong>létszámkorlát:</strong> nincs</span><br /><strong><span 
 style="font-size: 10pt;">részvételi díjak:</span></strong><br /><span st
 yle="font-size: 10pt;">2020. február 5. előtti jelentkezés esetén a ré
 szvételi díj: 30.000 HUF vagy 11.500 RSD / fő / 2,5 nap</span><br /><spa
 n style="font-size: 10pt;">2020. február 5. utáni jelentkezés esetén a 
 részvételi díj: 36.000 HUF vagy 13.900 RSD / fő / 2,5 nap</span><br /><
 span style="font-size: 10pt;">ismétlő (csak Nanettánál): 15.000 HUF vag
 y 5.750 RSD fő / 2,5 nap</span><br /><span style="font-size: 10pt;">nyugd
 jas, házaspároknak személyenként: 20.000 HUF vagy 7.700 RSD / fő / 2,
 5 nap</span><br /><span style="font-size: 10pt;">18 év alattiaknak: ingyen
 es</span><br /><span style="font-size: 10pt;">február 5-éig 6.500 HUF, 2.
 500 RSD / fő előleget kell fizetni, amennyiben mégsem tud eljönni, átr
 uházható, vagy a következő tanfolyamon felhasználható</span><br /><sp
 an style="font-size: 10pt;">a pénteki előadás ára: 4.000 HUF vagy 1.500
  RSD / fő / 3,5 óra, aki ott dönt úgy, hogy jön a tanfolyamra is, anna
 k az előadás díja beleszámít a tanfolyam díjába</span><br /><span st
 yle="font-size: 10pt;"><strong>jelentkezés:</strong> írásos előregisztr
 áció kötelező a +381 (64) 23 11 926 telefonszámon vagy a <a href="mail
 to:
 <script language='JavaScript' type='text/javascript'>
 <!--
 var prefi
 x = 'm&#97;&#105;lt&#111;:';
 var suffix = '';
 var attribs = '';
 var path
  = 'hr' + 'ef' + '=';
 var addy315 = 'sz&#105;n&#101;sv&#105;l&#97;gs&#117;
 ' + '&#64;';
 addy315 = addy315 + 'gm&#97;&#105;l' + '&#46;' + 'c&#111;m';

  document.write( '<a ' + path + '\'' + prefix + addy315 + suffix + '\'' + a
 ttribs + '>' );
 document.write( addy315 );
 document.write( '<\/a>' );
 //
 -->
 </script><script language='JavaScript' type='text/javascript'>
 <!--
 
 document.write( '<span style=\'display: none;\'>' );
 //-->
 </script>Ez az
  email cím védett a spam robotoktól, a megtekintéséhez engedélyezni k
 ell a Javascriptet.
 <script language='JavaScript' type='text/javascript'>

  <!--
 document.write( '</' );
 document.write( 'span>' );
 //-->
 </script
 >" target="_blank"><span style="text-decoration: underline; color: #000080;
 "><span style="color: #000080; text-decoration: underline;">
 <script langu
 age='JavaScript' type='text/javascript'>
 <!--
 var prefix = 'm&#97;&#105;l
 t&#111;:';
 var suffix = '';
 var attribs = '';
 var path = 'hr' + 'ef' + '
 =';
 var addy8509 = 'sz&#105;n&#101;sv&#105;l&#97;gs&#117;' + '&#64;';
 add
 y8509 = addy8509 + 'gm&#97;&#105;l' + '&#46;' + 'c&#111;m';
 document.write
 ( '<a ' + path + '\'' + prefix + addy8509 + suffix + '\'' + attribs + '>' )
 ;
 document.write( addy8509 );
 document.write( '<\/a>' );
 //-->
 </script
 ><script language='JavaScript' type='text/javascript'>
 <!--
 document.writ
 e( '<span style=\'display: none;\'>' );
 //-->
 </script>Ez az email cím v
 édett a spam robotoktól, a megtekintéséhez engedélyezni kell a Javascr
 iptet.
 <script language='JavaScript' type='text/javascript'>
 <!--
 docume
 nt.write( '</' );
 document.write( 'span>' );
 //-->
 </script></span></spa
 n></a> e-mail címen</span><br /><span style="font-size: 10pt;"><strong>jel
 entkezési határidő:</strong> nincs<br /><br /><strong>leírás:</strong>
 </span><br /><span style="font-size: 10pt;">A tanfolyam célja, hogy alapok
 at adjon a biológiai természettörvények megismeréséhez, a testben lez
 ajló folyamatok megértéséhez.</span><br /><span style="font-size: 10pt;
 ">A biológia természettörvényei hitrendszerünktől függetlenül műk
 dnek, egyénileg ellenőrizhetőek akár visszamenőleg is.</span><br /><s
 pan style="font-size: 10pt;">A tanfolyami ismeretek elsajátítása új rá
 látást biztosít a betegségek helyes értelmezésére. Segítséget nyú
 jt megalapozott döntéseket hozni az egyén számára saját egészsége 
 rdekében. A biologika ismeretének legnagyobb előnye, hogy képessé vá
 lunk a komolyabb elváltozások kialakulását megakadályozni, a már foly
 amatban lévőket a legegyszerűbben kezelni.<br /><br />A tanfolyam nem gy
 ógymód, nem gyógyít, nem készít fel gyógyító tevékenység végzé
 sére. Az ismeretanyag az önmagukért felelősséget vállaló laikusoknak
  szól. Megérteni a bennünk lévő érzelmi és testi folyamatokat egy ú
 j, minőségibb általunk irányított életvitel alapját jelentheti. Megs
 zabadulni hiedelmeinktől, félelmeinktől,</span><br /><span style="font-s
 ize: 10pt;">betegségtudatunktól egy magunkkal cipelt teher letételét je
 lenti. A tanfolyam nem csak testi szinten tárja fel az elváltozásokat, h
 anem megmutatja lelki szinten is a kiváltó okokat, érzelmi kilengéseket
 . A tréning a Barnai Roberto által készített Szerv Atlasz tudásanyagá
 n alapul.<br /><br />A kétnapos alaptanfolyam rendszerszemlélete a továb
 bi tájékozódás alapja. Kétszer való ismétlése elmélyíti a tudást
  annyira, hogy a kétnapos haladóra alaposan felkészüljünk. Ne feledjü
 k, nem egy új ismeretet szerzünk, hanem a régi, évtizedeken át tartó 
 rossz beidegződéseket írjuk át!</span><br /><span style="font-size: 10p
 t;">A hallgató jegyzetet kap és a Szerv Atlasz használatába is betekint
 ést nyer.<br /><br /><strong>tematika:</strong></span><br /><strong><span 
 style="font-size: 10pt;">0. nap</span></strong><br /><span style="font-size
 : 10pt;">(február 7-e, 17:00-20:00 óráig)</span><br /><span style="font-
 size: 10pt;">Az öt biológiai természettörvény - Dr. Ryke Geerd Hamer m
 unkássága, az újmedicina alapjai</span><br /><span style="font-size: 10p
 t;">20:00-20:30 kérdések - válaszok<br /><br /><strong>1. nap</strong></
 span><br /><span style="font-size: 10pt;">(február 8. 10:00-19:00 óráig)
 </span><br /><span style="font-size: 10pt;">Az automatikus agy működése,
  a biologika alapjai</span><br /><span style="font-size: 10pt;">Az öt biol
 ógiai természettörvény - Dr. Ryke Geerd Hamer munkássága (rövid ism
 tlés)</span><br /><span style="font-size: 10pt;">Hormonállapotok, a kez
 ség fontossága</span><br /><span style="font-size: 10pt;">Barnai Roberto
 : Biologika Szerv Atlasz felépítése és használata (amennyiben igény v
 an rá), további</span><br /><span style="font-size: 10pt;">szakirodalom 
 s tájékozódási pontok<br /><br /><strong>2. nap</strong></span><br /><
 span style="font-size: 10pt;">(február 9. 10:00-18:00 óráig)</span><br /
 ><span style="font-size: 10pt;">Fontosabb biológiai elváltozások, betegs
 églefutások</span><br /><span style="font-size: 10pt;">Elmezavarok érint
 őlegesen<br /><br /><strong>tananyag:</strong> Biologika Szerv Atlasz és 
 jegyzet (jegyzetet biztosítunk). <br />A Szerv Atlasz megvásárolható a 
 <a href="https://webshop.biologika.hu" target="_blank"><span style="text-de
 coration: underline; color: #000080;">webshopban</span></a> valamint a tré
 ningen, korlátozott mennyiségben (kérünk előzetes jelzést 2020 febur
 r 1-ig a <a href="mailto:
 <script language='JavaScript' type='text/javasc
 ript'>
 <!--
 var prefix = 'm&#97;&#105;lt&#111;:';
 var suffix = '';
 var 
 attribs = '';
 var path = 'hr' + 'ef' + '=';
 var addy3029 = 'n&#97;n&#101;
 tt&#97;' + '&#64;';
 addy3029 = addy3029 + 'b&#105;&#111;l&#111;g&#105;k&#9
 7;' + '&#46;' + 'h&#117;';
 document.write( '<a ' + path + '\'' + prefix + 
 addy3029 + suffix + '\'' + attribs + '>' );
 document.write( addy3029 );
 d
 ocument.write( '<\/a>' );
 //-->
 </script><script language='JavaScript' ty
 pe='text/javascript'>
 <!--
 document.write( '<span style=\'display: none;\
 '>' );
 //-->
 </script>Ez az email cím védett a spam robotoktól, a megt
 ekintéséhez engedélyezni kell a Javascriptet.
 <script language='JavaScr
 ipt' type='text/javascript'>
 <!--
 document.write( '</' );
 document.write
 ( 'span>' );
 //-->
 </script>" target="_blank"><span style="text-decoratio
 n: underline;"><span style="text-decoration: underline;">
 <script language
 ='JavaScript' type='text/javascript'>
 <!--
 var prefix = 'm&#97;&#105;lt&#
 111;:';
 var suffix = '';
 var attribs = '';
 var path = 'hr' + 'ef' + '=';
 
 var addy76855 = 'n&#97;n&#101;tt&#97;' + '&#64;';
 addy76855 = addy76855 
 + 'b&#105;&#111;l&#111;g&#105;k&#97;' + '&#46;' + 'h&#117;';
 document.writ
 e( '<a ' + path + '\'' + prefix + addy76855 + suffix + '\'' + attribs + '>'
  );
 document.write( addy76855 );
 document.write( '<\/a>' );
 //-->
 </scr
 ipt><script language='JavaScript' type='text/javascript'>
 <!--
 document.w
 rite( '<span style=\'display: none;\'>' );
 //-->
 </script>Ez az email cí
 m védett a spam robotoktól, a megtekintéséhez engedélyezni kell a Java
 scriptet.
 <script language='JavaScript' type='text/javascript'>
 <!--
 doc
 ument.write( '</' );
 document.write( 'span>' );
 //-->
 </script></span></
 span></a> e-mail címre). Ára: 20.000 HUF vagy 7.700 RSD<br /><br />Jelent
 kezéskor add meg:</span><br /><span style="font-size: 10pt;">1.) a trénin
 g nevét, helyszínét és időpontját</span><br /><span style="font-size:
  10pt;">2.) pontos nevedet</span><br /><span style="font-size: 10pt;">3.) m
 obil számodat</span><br /><span style="font-size: 10pt;">4.) e-mail címed
 et</span><br /><span style="font-size: 10pt;">5.) kedvezmény alapját (ha 
 jogosult vagy)<br /><br /><br /></span></p>
CONTACT:
 
 
 
 
 Ez az email cím védett a spam robotoktól, a megtekintéséhez engedélyezni kell a Javascriptet.
 
 
 

DTSTAMP:20260422T151318Z
DTSTART:20200207T160000Z
DTEND:20200207T190000Z
SEQUENCE:0
TRANSP:OPAQUE
END:VEVENT
END:VCALENDAR