BEGIN:VCALENDAR
VERSION:2.0
PRODID:-//jEvents 1.5 for Joomla//EN
BEGIN:VEVENT
CALSCALE:GREGORIAN
METHOD:PUBLISH

UID:ed4022d7c1458b1f0aa554a8ece0d1c8
CATEGORIES:Egyéb kapcsolódó tanfolyam
SUMMARY:HusseinÉ: ÉFT érzelmi feloldás technika 1/2 (Zilah, Románia )
LOCATION:Zilah (Románia), szervezés alatt
DESCRIPTION;ENCODING=QUOTED-PRINTABLE:<p><strong><span style="font-size: 12pt;">ÉFT&nbsp; (ÉRZELMI FELOLDÁS TE
 CHNIKA) TRÉNING,<br /> avagy "a kezed mindig kéznél van"</span></strong>
 <br /><strong><span style="font-size: 12pt;">2 napos tanfolyam Zilahon</spa
 n></strong><br /><br /><span style="font-size: 10pt;"><strong>témakör:</s
 trong> EFT, pszicho-akupresszúra, biologikus konfliktusoldás<strong><br /
 >típus:</strong> intenzív tréning, gyakorlati tanfolyam<strong><br />tr
 ner:</strong> <a href="partnereink/hussein-eva.html" target="_blank"><span
  style="text-decoration: underline;"><strong>Hussein Éva <span style="font
 -size: 10pt;"></span></strong></span></a><strong><br /></strong><strong>id
 tartam:</strong> 2 nap, 2019. július 20-21. 10:00-17:00 óráig (ebédid
 : 13:00-14:00 óráig)<span style="font-size: 10pt;"><strong><br />helysz
 n:</strong> Zilah, szervezés alatt</span><strong><br />előfeltétel:</st
 rong> nincs, de előnyös az <a href="publikaciok/alapismeretek-oktato-vide
 ok.html" target="_blank"><span style="text-decoration: underline;">5 bioló
 giai természettörvény online</span></a>, ingyenes előadás megtekintés
 e<br /><strong>nyelv:</strong> magyar nyelven<br /><span style="font-size: 
 10pt;"><strong>létszámkorlát:</strong> nincs megadva</span><strong><br /
 >részvételi díj:</strong> 30.000 Ft / 2 nap / fő<strong><br />jelentkez
 és:</strong> írásos előregisztráció kötelező az <a href="mailto:
 <
 script language='JavaScript' type='text/javascript'>
 <!--
 var prefix = 'm
 &#97;&#105;lt&#111;:';
 var suffix = '';
 var attribs = '';
 var path = 'hr
 ' + 'ef' + '=';
 var addy73180 = '&#97;ng&#101;l&#97;p&#117;s&#111;k' + '&#
 64;';
 addy73180 = addy73180 + 'y&#97;h&#111;&#111;' + '&#46;' + 'c&#111;m'
 ;
 document.write( '<a ' + path + '\'' + prefix + addy73180 + suffix + '\''
  + attribs + '>' );
 document.write( addy73180 );
 document.write( '<\/a>' 
 );
 //-->
 </script><script language='JavaScript' type='text/javascript'>
 
 <!--
 document.write( '<span style=\'display: none;\'>' );
 //-->
 </script
 >Ez az email cím védett a spam robotoktól, a megtekintéséhez engedély
 ezni kell a Javascriptet.
 <script language='JavaScript' type='text/javascr
 ipt'>
 <!--
 document.write( '</' );
 document.write( 'span>' );
 //-->
 </
 script>" target="_blank"><span style="text-decoration: underline; color: #0
 00080;"><span style="color: #000080; text-decoration: underline;">
 <script
  language='JavaScript' type='text/javascript'>
 <!--
 var prefix = 'm&#97;&
 #105;lt&#111;:';
 var suffix = '';
 var attribs = '';
 var path = 'hr' + 'e
 f' + '=';
 var addy29925 = '&#97;ng&#101;l&#97;p&#117;s&#111;k' + '&#64;';

  addy29925 = addy29925 + 'y&#97;h&#111;&#111;' + '&#46;' + 'c&#111;m';
 doc
 ument.write( '<a ' + path + '\'' + prefix + addy29925 + suffix + '\'' + att
 ribs + '>' );
 document.write( addy29925 );
 document.write( '<\/a>' );
 //
 -->
 </script><script language='JavaScript' type='text/javascript'>
 <!--
 
 document.write( '<span style=\'display: none;\'>' );
 //-->
 </script>Ez az
  email cím védett a spam robotoktól, a megtekintéséhez engedélyezni k
 ell a Javascriptet.
 <script language='JavaScript' type='text/javascript'>

  <!--
 document.write( '</' );
 document.write( 'span>' );
 //-->
 </script
 ></span></span></a> e-mail címen<br /><span style="font-size: 10pt;"><stro
 ng>jelentkezési határidő:</strong> nincs megadva</span></span><br /><br 
 /><strong><span style="font-size: 10pt;">leírás, tematika:<br /></span></
 strong><br /><span style="font-size: 10pt;">A tanfolyam kellő elméleti é
 s gyakorlati ismeretet biztosít ahhoz, hogy energia-blokkjaidat feloldhasd
 , valamint a fizikai vagy a lelki elváltozás, tünet alapján megtalálha
 sd és ugyancsak feloldhasd a kiváltó lelki konfliktust is.<br /><br />Ez
  a két napos, intenzív tréning azért jött létre, mert nagyon gyakran 
 azt tapasztalom, hogy az elváltozásban érintett személy a Biologika (ú
 j medicina) ismerete alapján megtalálja ugyan az elváltozást, "betegsé
 get" kiváltó lelki konfliktusát, ám a teljes és végleges megoldáshoz
  szüksége van segítségre, főként visszaeső konfliktus-aktivitás ese
 tén. Ezt a segítséget adja meg az ÉFT (pszicho-akupresszúra).<br /><br
  /></span><span style="font-size: 10pt;">Az ÉFT egy olyan energia-pszichol
 ógiai módszer, amellyel szinte percek alatt megszüntethetők fájdalmas,
  (akár gyerekkori) gyötrő érzelmek, lelki traumák által okozott energ
 ia-blokkok.</span><br /><span style="font-size: 10pt;">Pl.: szorongás, pá
 nik, depresszió, poszttraumás stressz, fóbiák, függőségek, gyász, k
 udarc, veszteség, düh, harag, önértékelési problémák, fájdalmak, g
 örcsök, asztmás roham, alvási zavarok, félelem....és még sok-sok má
 s probléma.</span><br /><span style="font-size: 10pt;">Gyors, hatásos, k
 nnyű elsajátítani, és bárhol, bármikor alkalmazható. Az ÉFT lehet
 ségei korlátlanok, alkalmas krízistünetek (lelki, fizikai közérzet) 
 elviselhetővé tételére is...<br /><br /><strong>1. nap:</strong> <br />
 megismerkedünk a pszicho-akupresszúra elméletével, betekintünk a Biolo
 gikába, bemutatásra kerül néhány csoportos gyakorlat. Ezt követően m
 egtanuljuk, hogyan oldjuk a biologikus konfliktusokat, a következmény és
  diagnózisközlési traumákat. A résztvevők páros és egyéni gyakorla
 tok során sajátítják el a módszert.<br /><br /></span><span style="fon
 t-size: 10pt;"><strong>2. nap:</strong><br /> gyakorlati nap, ahol technika
 i részleteket is tanulunk, (aspektusok, korlátozó hiedelmek, Faster ÉFT
 ), mialatt mindenki folyamatos segítséget kap a saját és mások lelki b
 lokkjainak oldásához.<br /><br />Előképzettség nem szükséges, de a B
 iologika (új medicina) ismerete előny lehet. Az ÉFT gyors rendkívül ha
 tékony és könnyen megtanulható.<br /><br />Célom, hogy minél több em
 ber megismerhesse és rendszeresen alkalmazhassa ezt a módszert a testi é
 s lelki egészsége érdekében.<br /><br /><a href="https://www.youtube.co
 m/watch?v=NJN8UKTTweA" target="_blank"><span style="text-decoration: underl
 ine;">A tájékoztató videót itt találod</span></a></span><br /><br /><s
 pan style="font-size: 10pt;">Mindenkit szeretettel várok a tréningen!<br 
 /><br />Hussein Éva, tréner<br /><br />Jelentkezéskor add meg:</span><br
  /><span style="font-size: 10pt;">1.) a tréning nevét, helyszínét és i
 dőpontját(!)</span><br /><span style="font-size: 10pt;">2.) pontos nevede
 t</span><br /><span style="font-size: 10pt;">3.) mobil számodat</span><br 
 /><span style="font-size: 10pt;">4.) e-mail címedet<br /><br /></span></p>
CONTACT:
 
 
 
 
 Ez az email cím védett a spam robotoktól, a megtekintéséhez engedélyezni kell a Javascriptet.
 
 
   +40 (74) 096 9727

DTSTAMP:20260419T201145Z
DTSTART:20190720T080000Z
DTEND:20190720T150000Z
SEQUENCE:0
TRANSP:OPAQUE
END:VEVENT
END:VCALENDAR