BEGIN:VCALENDAR
VERSION:2.0
PRODID:-//jEvents 1.5 for Joomla//EN
BEGIN:VEVENT
CALSCALE:GREGORIAN
METHOD:PUBLISH

UID:7e548bc92bf74c152fc01846a95a71c9
CATEGORIES:Workshop 
SUMMARY:LengyelZs: Biologika workshop a veséről és a húgyúti elváltozásokról 1/1 (Budapest)
LOCATION:1011 Budapest, Halász utca 1. I./1.
DESCRIPTION;ENCODING=QUOTED-PRINTABLE:<p><strong><span style="font-size: 12pt;">BIOLOGIKA (ÚJ MEDICINA) WORKSHOP
  a VESÉRŐL és a HÚGYÚTI elváltozásokról Budapesten</span></strong><
 br /><br /><span style="font-size: 10pt;"><strong>témakör:</strong> a Sze
 rv Atlasz használata, az 5 Természettörvény ismertetése, a vese és a 
 húgyúti elváltozások biológiai értelme, érzelmi háttere, céljuk, r
 endeltetésük és lefolyásuk.</span><br /><span style="font-size: 10pt;">
 <strong>típus:</strong> workshop</span><br /><span style="font-size: 10pt;
 "><strong>tréner:</strong> <a href="partnereink/lengyel-zsuzsanna.html" ta
 rget="_blank"><span style="text-decoration: underline; color: #000080;">Len
 gyel Zsu</span></a></span><br /><span style="font-size: 10pt;"><strong>idő
 tartam:</strong> 2019. július 25. 16:00 – 19:30 óráig</span><br /><spa
 n style="font-size: 10pt;"><strong>helyszín:</strong> 1011 Budapest, Halá
 sz utca 1. I./1.</span><br /><span style="font-size: 10pt;"><strong>bontás
 i lehetőség:</strong> nincs</span><br /><span style="font-size: 10pt;"><s
 trong>előfeltétel:</strong> nincs</span><br /><span style="font-size: 10p
 t;"><strong>létszámkorlát:</strong> nincs megadva</span><br /><span styl
 e="font-size: 10pt;"><strong>részvételi díj:</strong> 22.000 Ft / fő</s
 pan><br /><span style="font-size: 10pt;"><strong>jelentkezés:</strong> ír
 ásban, mely előfeltétele a tréningen való részvételnek! - a <a href=
 "mailto:
 <script language='JavaScript' type='text/javascript'>
 <!--
 var 
 prefix = 'm&#97;&#105;lt&#111;:';
 var suffix = '';
 var attribs = '';
 var
  path = 'hr' + 'ef' + '=';
 var addy7073 = 'zs&#117;' + '&#64;';
 addy7073 
 = addy7073 + 'b&#105;&#111;l&#111;g&#105;k&#97;' + '&#46;' + 'h&#117;';
 do
 cument.write( '<a ' + path + '\'' + prefix + addy7073 + suffix + '\'' + att
 ribs + '>' );
 document.write( addy7073 );
 document.write( '<\/a>' );
 //-
 ->
 </script><script language='JavaScript' type='text/javascript'>
 <!--
 d
 ocument.write( '<span style=\'display: none;\'>' );
 //-->
 </script>Ez az 
 email cím védett a spam robotoktól, a megtekintéséhez engedélyezni ke
 ll a Javascriptet.
 <script language='JavaScript' type='text/javascript'>
 
 <!--
 document.write( '</' );
 document.write( 'span>' );
 //-->
 </script>
 " target="_blank"><span style="text-decoration: underline; color: #000080;"
 ><span style="color: #000080; text-decoration: underline;">
 <script langua
 ge='JavaScript' type='text/javascript'>
 <!--
 var prefix = 'm&#97;&#105;lt
 &#111;:';
 var suffix = '';
 var attribs = '';
 var path = 'hr' + 'ef' + '=
 ';
 var addy81682 = 'zs&#117;' + '&#64;';
 addy81682 = addy81682 + 'b&#105;
 &#111;l&#111;g&#105;k&#97;' + '&#46;' + 'h&#117;';
 document.write( '<a ' +
  path + '\'' + prefix + addy81682 + suffix + '\'' + attribs + '>' );
 docum
 ent.write( addy81682 );
 document.write( '<\/a>' );
 //-->
 </script><scrip
 t language='JavaScript' type='text/javascript'>
 <!--
 document.write( '<sp
 an style=\'display: none;\'>' );
 //-->
 </script>Ez az email cím védett 
 a spam robotoktól, a megtekintéséhez engedélyezni kell a Javascriptet.

  <script language='JavaScript' type='text/javascript'>
 <!--
 document.writ
 e( '</' );
 document.write( 'span>' );
 //-->
 </script></span></span></a> 
 e-mail címen.</span><br /><span style="font-size: 10pt;">Fizetés előreut
 alással történik. Regisztrációt követően küldjük a további inform
 ációkat.</span><br /><span style="font-size: 10pt;">Érdeklődés: a +36 
 (20) 981 2988 telefonszámon.</span><br /><span style="font-size: 10pt;"><s
 trong>jelentkezési határidő:</strong> 2019.07.23.<br /><br /><strong>le
 rás:</strong></span><br /><span style="font-size: 10pt;">A Workshop célj
 a, hogy alapokat adjon a biológiai természettörvények megismerésén ke
 resztül a vese és húgyútak értelmes biológiai különprogramjainak me
 gértéséhez. Megismerjük az elváltozások érzelmi háttereit és a tes
 tben lezajló folyamatokat.</span><br /><span style="font-size: 10pt;">(ves
 e alulműködés, veseleállás, veseciszta, vesemedence-gyulladás, vesek
 , vesefájdalmak, vesegörcsök, hólyagpolip, hólyagrák, véres vizelet
 , görcsöcs vizelési inger, húgyvezeték-, húgycsőgyulladás, stb.)<br
  /><br />Ismeretanyag: Biologika Szerv Atlasz zöld hátteres része (Az 5 
 Természettörvény), valamint az érintett szervek.<br /><br />Jelentkezé
 skor add meg:</span><br /><span style="font-size: 10pt;">1.) a workshop nev
 ét, helyszínét és időpontját</span><br /><span style="font-size: 10pt
 ;">2.) pontos nevedet és címedet (számlázáshoz)</span><br /><span styl
 e="font-size: 10pt;">3.) mobil számodat</span><br /><span style="font-size
 : 10pt;">4.) e-mail címedet</span><br /><span style="font-size: 10pt;">5.)
  Biologika Szerv Atlaszt kérek/nem kérek<br /></span><br /><span style="f
 ont-size: 10pt;">Facebook esemény: <a href="https://www.facebook.com/event
 s/2049812778658212/" target="_blank">https://www.facebook.com/events/204981
 2778658212/</a></span></p><p><span style="font-size: 10pt;">Weboldal: <a hr
 ef="http://www.thetatikum.hu"><span style="text-decoration: underline;">www
 .thetatikum.hu<br /><br /><br /></span></a></span></p>
CONTACT:
 
 
 
 
 Ez az email cím védett a spam robotoktól, a megtekintéséhez engedélyezni kell a Javascriptet.
 
 
  +36 (20) 981 2988

DTSTAMP:20260419T183418Z
DTSTART:20190725T140000Z
DTEND:20190725T173000Z
SEQUENCE:0
TRANSP:OPAQUE
END:VEVENT
END:VCALENDAR