BEGIN:VCALENDAR
VERSION:2.0
PRODID:-//jEvents 1.5 for Joomla//EN
BEGIN:VEVENT
CALSCALE:GREGORIAN
METHOD:PUBLISH

UID:0b74277554d2c889d2bda57cb8b76405
CATEGORIES:Alap szeminÃ¡rium 
SUMMARY:OrlikI: Biologika alap Ã©s haladÃ³ tanfolyam 1/4 (Szeged)
LOCATION:Szeged, szervezÃ©s alatt
DESCRIPTION;ENCODING=QUOTED-PRINTABLE:<p><strong><span style="font-size: 12pt;">BIOLOGIKA (ÃšJ MEDICINA) TRÃ‰NING
 </span></strong><br /><strong><span style="font-size: 12pt;">4 napos ALAP Ã
 ©s HALADÃ“ tanfolyam Szegeden<br /><br /></span></strong><span style="font-
 size: 10pt;"><strong>tÃ©makÃ¶r:</strong> daganatok, sorvadÃ¡sok Ã©s mÃ¡s el
 vÃ¡ltozÃ¡sok, biolÃ³giai Ã©rtelmÃ¼k, cÃ©ljuk, rendeltetÃ©sÃ¼k Ã©s lefolyÃ¡s
 uk, hangulatzavarok Ã©s elmebajok<strong></strong><strong><br />tipus: </st
 rong>intenzÃ­v trÃ©ning, tanfolyam<strong> <br />trÃ©ner</strong>: <a href=
 "partnereink/orlik-ilona-biologika.html" target="_blank"><span style="text-
 decoration: underline;"><strong><span style="color: #000080; text-decoratio
 n: underline;">Orlik Ilona</span><br /></strong></span></a><span style="fon
 t-size: 10pt;"><strong>idÅ‘tartam:</strong> 4 nap, 2019. augusztus 17-18. Ã
 ©s 24-25. 09:00-17:00 Ã³rÃ¡ig</span><strong><br />helyszÃ­n:</strong> Szege
 d, szervezÃ©s alatt, fÃ¼gg a lÃ©tszÃ¡mtÃ³l - tovÃ¡bbi informÃ¡ciÃ³ e-mailbe
 n<br />ebÃ©dszÃ¼net: 12:00-13:00 Ã³rÃ¡ig<strong><br />elÅ‘feltÃ©tel:</stron
 g> <span style="font-size: 10pt;"><span style="text-decoration: underline;"
 ><a href="https://alapismeretek.biologika.hu" target="_blank"><span style="
 color: #000080; text-decoration: underline;">5 biolÃ³giai termÃ©szettÃ¶rvÃ©
 ny online, ingyenes elÅ‘adÃ¡s megtekintÃ©se legalÃ¡bb kÃ©tszer</span></a></
 span></span></span><span style="font-size: 10pt;"><strong><br />rÃ©szvÃ©tel
 i dÃ­jak</strong>:<br />felnÅ‘tt alapÃ¡r: 2019. augusztus 5-ig tÃ¶rtÃ©nÅ‘ r
 egisztrÃ¡ciÃ³ esetÃ©n: netto 60.000 Ft / fÅ‘ / 4 nap</span><br /><span styl
 e="font-size: 10pt;">2019. augusztus 5 utÃ¡ni regisztrÃ¡ciÃ³ esetÃ©n: netto
  67.000 Ft / fÅ‘ / 4 nap</span><br /><span style="font-size: 10pt;">60 Ã©v 
 feletti felnÅ‘tt: 40.000 Ft / fÅ‘ / 4 nap</span><br /><span style="font-siz
 e: 10pt;">Nappali tagozatos diÃ¡k (18-25 Ã©v kÃ¶zÃ¶tt): 40.000 Ft / fÅ‘ / 4
  nap</span><br /><span style="font-size: 10pt;">FiatalkorÃº (12-18 Ã©v kÃ¶z
 Ã¶tt): ingyenes, a rÃ©szvÃ©tel mindÃ¶ssze elÅ‘regisztrÃ¡ciÃ³hoz kÃ¶tÃ¶tt<st
 rong><br />jelentkezÃ©s:</strong> Ã­rÃ¡sos elÅ‘regisztrÃ¡ciÃ³ kÃ¶telezÅ‘ a 
 <span style="text-decoration: underline; color: #000080;"><a href="mailto:

  <script language='JavaScript' type='text/javascript'>
 <!--
 var prefix = 
 'm&#97;&#105;lt&#111;:';
 var suffix = '';
 var attribs = '';
 var path = '
 hr' + 'ef' + '=';
 var addy78197 = '&#105;c&#97;' + '&#64;';
 addy78197 = a
 ddy78197 + 'b&#105;&#111;l&#111;g&#105;k&#97;' + '&#46;' + 'h&#117;';
 docu
 ment.write( '<a ' + path + '\'' + prefix + addy78197 + suffix + '\'' + attr
 ibs + '>' );
 document.write( addy78197 );
 document.write( '<\/a>' );
 //-
 ->
 </script><script language='JavaScript' type='text/javascript'>
 <!--
 d
 ocument.write( '<span style=\'display: none;\'>' );
 //-->
 </script>Ez az 
 email cÃ­m vÃ©dett a spam robotoktÃ³l, a megtekintÃ©sÃ©hez engedÃ©lyezni ke
 ll a Javascriptet.
 <script language='JavaScript' type='text/javascript'>
 
 <!--
 document.write( '</' );
 document.write( 'span>' );
 //-->
 </script>
 " target="_blank"><span style="color: #000080; text-decoration: underline;"
 >
 <script language='JavaScript' type='text/javascript'>
 <!--
 var prefix 
 = 'm&#97;&#105;lt&#111;:';
 var suffix = '';
 var attribs = '';
 var path =
  'hr' + 'ef' + '=';
 var addy34401 = '&#105;c&#97;' + '&#64;';
 addy34401 =
  addy34401 + 'b&#105;&#111;l&#111;g&#105;k&#97;' + '&#46;' + 'h&#117;';
 do
 cument.write( '<a ' + path + '\'' + prefix + addy34401 + suffix + '\'' + at
 tribs + '>' );
 document.write( addy34401 );
 document.write( '<\/a>' );
 /
 /-->
 </script><script language='JavaScript' type='text/javascript'>
 <!--

  document.write( '<span style=\'display: none;\'>' );
 //-->
 </script>Ez a
 z email cÃ­m vÃ©dett a spam robotoktÃ³l, a megtekintÃ©sÃ©hez engedÃ©lyezni 
 kell a Javascriptet.
 <script language='JavaScript' type='text/javascript'>
 
 <!--
 document.write( '</' );
 document.write( 'span>' );
 //-->
 </scrip
 t></span></a></span> e-mail cÃ­men</span><br /><span style="font-size: 10pt
 ;">A jelentkezÃ©sed utÃ¡n vÃ¡laszlevÃ©lben kÃ¼ldÃ¶m a tudnivalÃ³kat.<strong
 ><br />jelentkezÃ©si hatÃ¡ridÅ‘</strong>: 2019. augusztus 5.</span><br /><b
 r /><strong><span style="font-size: 10pt;">leÃ­rÃ¡s:</span></strong><br /><
 span style="font-size: 10pt;">A tanfolyam cÃ©lja, hogy alapokat adjon a bio
 lÃ³giai termÃ©szettÃ¶rvÃ©nyek megismerÃ©sÃ©hez, a testben</span><br /><span
  style="font-size: 10pt;">lezajlÃ³ folyamatok megÃ©rtÃ©sÃ©hez.<br /><br />A
  biolÃ³gia termÃ©szettÃ¶rvÃ©nyei hitrendszerÃ¼nktÅ‘l fÃ¼ggetlenÃ¼l mÅ±kÃ¶dn
 ek, egyÃ©nileg ellenÅ‘rizhetÅ‘ek akÃ¡r</span><br /><span style="font-size: 
 10pt;">visszamenÅ‘leg is.<br /><br />A tanfolyami ismeretek elsajÃ¡tÃ­tÃ¡sa
  Ãºj rÃ¡lÃ¡tÃ¡st biztosÃ­t a betegsÃ©gek helyes Ã©rtelmezÃ©sÃ©re. SegÃ­tsÃ©
 get</span><br /><span style="font-size: 10pt;">nyÃºjt megalapozott dÃ¶ntÃ©s
 eket hozni az egyÃ©n szÃ¡mÃ¡ra sajÃ¡t egÃ©szsÃ©ge Ã©rdekÃ©ben. A Biologika<
 /span><br /><span style="font-size: 10pt;">ismeretÃ©nek egyik legnagyobb el
 Å‘nye, hogy kÃ©pessÃ© vÃ¡lunk a komolyabb elvÃ¡ltozÃ¡sok kialakulÃ¡sÃ¡t</sp
 an><br /><span style="font-size: 10pt;">megakadÃ¡lyozni, a mÃ¡r folyamatban
  lÃ©vÅ‘ket a legÃ©sszerÅ±bben kezelni.<br /><br />A tanfolyam nem gyÃ³gymÃ³
 d, nem gyÃ³gyÃ­t, nem kÃ©szÃ­t fel gyÃ³gyÃ­tÃ³ tevÃ©kenysÃ©g vÃ©gzÃ©sÃ©re. 
 Az</span><br /><span style="font-size: 10pt;">ismeretanyag az Ã¶nmagÃ¡Ã©rt 
 felelÅ‘ssÃ©get vÃ¡llalÃ³ hÃ©tkÃ¶znapi embernek szÃ³l. Ennek hiÃ¡nya akÃ¡r a
 z</span><br /><span style="font-size: 10pt;">egÃ©szsÃ©g megÅ‘rzÃ©sÃ©nek, he
 lyreÃ¡llÃ­tÃ¡sÃ¡nak gÃ¡tjÃ¡vÃ¡ is vÃ¡lhat. MegÃ©rteni a bennÃ¼nk zajlÃ³ Ã©r
 zelmi Ã©s testi</span><br /><span style="font-size: 10pt;">folyamatokat egy
  Ãºj, minÅ‘sÃ©gibb, Ã¡ltalunk irÃ¡nyÃ­tott Ã©letvitel alapjÃ¡t jelentheti. 
 Megszabadulni<br />hiedelmeinktÅ‘l, fÃ©lelmeinktÅ‘l, betegsÃ©gtudatunktÃ³l 
 egy magunkkal cipelt teher letÃ©telÃ©t jelenti.<br /><br />A tanfolyam nem 
 csak testi szinten tÃ¡rja fel az elvÃ¡ltozÃ¡sokat, hanem megmutatja lelki s
 zinten is a kivÃ¡ltÃ³</span><br /><span style="font-size: 10pt;">okokat, Ã©
 rzelmi kilengÃ©seket.<br /><br />A trÃ©ning Barnai Roberto Ã¡ltal kÃ©szÃ­te
 tt Szerv Atlasz tudÃ¡sanyagÃ¡n alapul.</span><br /><span style="font-size: 
 10pt;">A tanfolyamon a legfontosabb elvÃ¡ltozÃ¡sok Ã©s Szerv Atlasz oldalak
  kerÃ¼lnek Ã¡ttekintÃ©sre.</span><br /><br /><strong><span style="font-size
 : 10pt;">tematika:<br /></span></strong><strong><span style="font-size: 10p
 t;">1. nap</span></strong><br /><span style="font-size: 10pt;">Az Ã¶t biolÃ
 ³giai termÃ©szettÃ¶rvÃ©ny - alapfogalmak</span><br /><span style="font-size
 : 10pt;">Barnai Roberto: Biologika Szerv Atlasz felÃ©pÃ­tÃ©se Ã©s hasznÃ¡la
 ta</span><br /><span style="font-size: 10pt;">Az agytÃ¶rzs vezÃ©relte mirig
 yszÃ¶vetes szervek elvÃ¡ltozÃ¡sai</span><br /><span style="font-size: 10pt;
 ">Az kÃ¶zÃ©pagy vezÃ©relte simaizomszÃ¶vetek elvÃ¡ltozÃ¡sai (miÃ³mÃ¡k)</spa
 n><br /><br /><strong><span style="font-size: 10pt;">2. nap</span></strong>
 <br /><span style="font-size: 10pt;">A kisagy vezÃ©relte szervek elvÃ¡ltozÃ
 ¡sai (hÃ¡rtyaszÃ¶vetek, bÅ‘rirha, tejmirigyek)</span><br /><span style="fon
 t-size: 10pt;">A velÅ‘Ã¡llomÃ¡ny vezÃ©relte szervek elvÃ¡ltozÃ¡sai Ã©s a va
 lÃ³di cisztÃ¡k</span><br /><span style="font-size: 10pt;">KÃ¶tÅ‘szÃ¶vetek, 
 vÃ¡zrendszer</span><br /><span style="font-size: 10pt;">A szÃ­v elvÃ¡ltozÃ¡
 sai</span><br /><span style="font-size: 10pt;">VÃ©r- Ã©s nyirokrendszer (le
 ukÃ©mia)</span><br /><span style="font-size: 10pt;">Magas vÃ©rnyomÃ¡s (vese
 kÃ©reg elvÃ¡ltozÃ¡sa)</span><br /><span style="font-size: 10pt;">Here Ã©s p
 etefÃ©szekciszta</span><br /><br /><strong><span style="font-size: 10pt;">3
 . nap</span></strong><br /><span style="font-size: 10pt;">A kÃ©regÃ¡llomÃ¡n
 y vezÃ©relte szervek elvÃ¡ltozÃ¡sai</span><br /><span style="font-size: 10p
 t;">FÃ©rfias Ã©s nÅ‘ies hormonÃ¡llapot</span><br /><span style="font-size: 
 10pt;">FunkciÃ³-kimaradÃ¡sok, bÃ©nulÃ¡sok, cukorszint vÃ¡ltozÃ¡sok</span><b
 r /><br /><strong><span style="font-size: 10pt;">4. nap</span></strong><br 
 /><span style="font-size: 10pt;">MentÃ¡lis kÃ¼lÃ¶nprogramok</span><br /><sp
 an style="font-size: 10pt;">Hangulatzavarok Ã©s elmebajok - a leggyakoribb 
 tÃ¼netek hÃ¡tterÃ©vel</span><br /><span style="font-size: 10pt;">(Megzavaro
 dottsÃ¡g, kÃ©nyszeres sÃ©rtegetÃ©s, Ã©rtÃ©kÃ­tÃ©leti zavarok,</span><br /><
 span style="font-size: 10pt;">mÃ¡nia, depressziÃ³, skizofrÃ©nia, fÃ³biÃ¡k Ã
 ©s paranoiÃ¡k)<br /><br /><strong>tananyag:</strong> Biologika Szerv Atlasz
 </span><br /><span style="font-size: 10pt;">Roberto elÅ‘adÃ¡sainak prezentÃ
 ¡ciÃ³s anyaga az Ãºj medicina kÃ©zikÃ¶nyvÃ©vÃ© nÅ‘tte ki magÃ¡t. A Szerv At
 lasz</span><br /><span style="font-size: 10pt;">megvÃ¡sÃ¡rolhatÃ³ a <a href
 ="https://webshop.biologika.hu" target="_blank"><span style="text-decoratio
 n: underline; color: #000080;">webshopban</span></a> vagy a trÃ©ningen. A S
 zerv Atlasz jelenleg az egyetlen Ãºj medicinÃ¡s</span><br /><span style="fo
 nt-size: 10pt;">kÃ©zikÃ¶nyv a vilÃ¡gon.<br /><br />JelentkezÃ©skor add meg:
 <br />1.) a trÃ©ning nevÃ©t, helyszÃ­nÃ©t Ã©s idÅ‘pontjÃ¡t</span><br /><spa
 n style="font-size: 10pt;">2.) pontos nevedet</span><br /><span style="font
 -size: 10pt;">3.) mobil szÃ¡modat</span><br /><span style="font-size: 10pt;
 ">4.) e-mail cÃ­medet</span><br /><span style="font-size: 10pt;">5.) kedvez
 mÃ©ny alapjÃ¡t (ha jogosult vagy)<br /><br /><br /></span></p>
CONTACT:
 
 
 
 
 Ez az email cÃ­m vÃ©dett a spam robotoktÃ³l, a megtekintÃ©sÃ©hez engedÃ©lyezni kell a Javascriptet.
 
 
  +36 (20) 483 8742

DTSTAMP:20260419T184259Z
DTSTART:20190817T070000Z
DTEND:20190817T150000Z
SEQUENCE:0
TRANSP:OPAQUE
END:VEVENT
END:VCALENDAR