BEGIN:VCALENDAR
VERSION:2.0
PRODID:-//jEvents 1.5 for Joomla//EN
BEGIN:VEVENT
CALSCALE:GREGORIAN
METHOD:PUBLISH

UID:997ee3c18cd610b59d1a59f324ac97bb
CATEGORIES:Ismeretterjesztő előadás
SUMMARY:AndocsiV: Biologika ismeretterjesztő előadás (Szeged-Tápé)
LOCATION:Szeged-Tápé, Sárgarigó Élményház
DESCRIPTION;ENCODING=QUOTED-PRINTABLE:<p><strong><span style="font-size: 12pt;">BIOLOGIKA (ÚJ MEDICINA) ISMERETT
 ERJESZTŐ ELŐADÁS SZEGEDEN&nbsp;</span></strong>&nbsp;&nbsp;&nbsp;&nbsp;&
 nbsp;&nbsp;&nbsp;&nbsp;&nbsp;&nbsp;&nbsp;&nbsp;&nbsp;&nbsp;&nbsp;&nbsp;&nbs
 p;&nbsp;&nbsp;&nbsp;&nbsp;&nbsp;&nbsp; &nbsp;<br />&nbsp;</p><p><span style
 ="font-size: 10pt;"><strong>témakör:</strong> a leggyakoribb stressz okoz
 ta betegségek, pl. magas vérnyomás, szívinfarktus, cukorbetegség, maga
 s koleszterin, stb.</span><br /><span style="font-size: 10pt;"><strong>típ
 us:</strong> előadás</span><br /><strong><span style="font-size: 10pt;">t
 réner: <span style="color: #000080;"><a href="https://www.biologika.hu/par
 tnereink/andocsi-valeria.html" target="_blank"><span style="text-decoration
 : underline; color: #000080;">Andocsi Valéria</span></a></span></span></st
 rong><br /><span style="font-size: 10pt;"><strong>időtartam:</strong> 2019
 . július 25. 17:00-20:00 óráig</span><br /><span style="font-size: 10pt;
 "><strong>helyszín:</strong> Szeged-Tápé, Sárgarigó Élményház</span
 ><br /><span style="font-size: 10pt;"><strong>bontási lehetőség:</strong
 > nincs</span><br /><span style="font-size: 10pt;"><strong>előfeltétel:</
 strong> nincs</span><br /><span style="font-size: 10pt;"><strong>nyelv:</st
 rong> magyar nyelven</span><br /><span style="font-size: 10pt;"><strong>lé
 tszámkorlát:</strong> nincs megadva</span><br /><strong><span style="font
 -size: 10pt;">részvételi díjak:</span></strong><br /><span style="font-s
 ize: 10pt;">Felnőtt alapár: 3.000 Ft / fő</span><br /><span style="font-
 size: 10pt;">Családtagok (testvérek, házaspár): 1.500 Ft / fő</span><b
 r /><span style="font-size: 10pt;">Felnőtt 60 év felett: 1.000 Ft / fő</
 span><br /><span style="font-size: 10pt;">Felnőtt, de nappali tagozatos di
 ák (18-25 év között): 1.000 Ft / fő</span><br /><span style="font-size
 : 10pt;">Fiatalkorú (12-18 év között): ingyenes, a részvétel mindöss
 ze előregisztrációhoz kötött<br /><strong>jelentkezés:</strong> előr
 egisztráció kötelező a&nbsp;<span style="font-size: 10pt;">+36 (30) 675
 9751 telefonszámon</span> vagy a <a href="mailto:
 <script language='JavaS
 cript' type='text/javascript'>
 <!--
 var prefix = 'm&#97;&#105;lt&#111;:';
 
 var suffix = '';
 var attribs = '';
 var path = 'hr' + 'ef' + '=';
 var a
 ddy8889 = 's&#97;rg&#97;r&#105;g&#111;&#101;lm&#101;nyh&#97;z' + '&#64;';
 
 addy8889 = addy8889 + 'gm&#97;&#105;l' + '&#46;' + 'c&#111;m';
 document.wr
 ite( '<a ' + path + '\'' + prefix + addy8889 + suffix + '\'' + attribs + '>
 ' );
 document.write( addy8889 );
 document.write( '<\/a>' );
 //-->
 </scr
 ipt><script language='JavaScript' type='text/javascript'>
 <!--
 document.w
 rite( '<span style=\'display: none;\'>' );
 //-->
 </script>Ez az email cí
 m védett a spam robotoktól, a megtekintéséhez engedélyezni kell a Java
 scriptet.
 <script language='JavaScript' type='text/javascript'>
 <!--
 doc
 ument.write( '</' );
 document.write( 'span>' );
 //-->
 </script>" target=
 "_blank"><span style="text-decoration: underline; color: #000080;"><span st
 yle="color: #000080; text-decoration: underline;">
 <script language='JavaS
 cript' type='text/javascript'>
 <!--
 var prefix = 'm&#97;&#105;lt&#111;:';
 
 var suffix = '';
 var attribs = '';
 var path = 'hr' + 'ef' + '=';
 var a
 ddy26070 = 's&#97;rg&#97;r&#105;g&#111;&#101;lm&#101;nyh&#97;z' + '&#64;';

  addy26070 = addy26070 + 'gm&#97;&#105;l' + '&#46;' + 'c&#111;m';
 document
 .write( '<a ' + path + '\'' + prefix + addy26070 + suffix + '\'' + attribs 
 + '>' );
 document.write( addy26070 );
 document.write( '<\/a>' );
 //-->
 
 </script><script language='JavaScript' type='text/javascript'>
 <!--
 docum
 ent.write( '<span style=\'display: none;\'>' );
 //-->
 </script>Ez az emai
 l cím védett a spam robotoktól, a megtekintéséhez engedélyezni kell a
  Javascriptet.
 <script language='JavaScript' type='text/javascript'>
 <!--
 
 document.write( '</' );
 document.write( 'span>' );
 //-->
 </script></sp
 an></span></a> e-mail címen</span><br /><span style="font-size: 10pt;"><st
 rong>jelentkezési határidő:</strong> nincs megadva</span><br /><br /><st
 rong><span style="font-size: 10pt;">leírás:</span></strong><br /><span st
 yle="font-size: 10pt;">Bizonyítást nyert, hogy minden látszólag érthet
 etlen elváltozást az azt létrehozó biológiai szervezet HELYRE TUDJA Á
 LLÍTANI!<br />Ha megérthetjük a betegségek értelmét és kialakulásuk
  okait, sokat javíthatunk egészségi állapotunkon, életminőségünkön
 ! <br />Az előadást ajánljuk mindenkinek, aki szeretné elkerülni, hogy
  megbetegedjen, vagy meglévő betegségéből mielőbb szeretne kigyógyul
 ni!<br />Tegye meg az első lépést, érdeklődjön! </span><span style="f
 ont-size: 10pt;"><br /><br />Jelentkezéskor add meg:</span><br /><span sty
 le="font-size: 10pt;">1.) a tréning nevét, helyszínét és időpontját<
 /span><br /><span style="font-size: 10pt;">2.) pontos nevedet</span><br /><
 span style="font-size: 10pt;">3.) mobil számodat</span><br /><span style="
 font-size: 10pt;">4.) e-mail címedet</span><br /><span style="font-size: 1
 0pt;">5.) kedvezmény alapját (ha jogosult vagy)<br /><br /></span></p>
CONTACT:
 
 
 
 
 Ez az email cím védett a spam robotoktól, a megtekintéséhez engedélyezni kell a Javascriptet.
 
 
    +36 (30) 675 9751

DTSTAMP:20260419T201106Z
DTSTART:20190725T150000Z
DTEND:20190725T180000Z
SEQUENCE:0
TRANSP:OPAQUE
END:VEVENT
END:VCALENDAR