BEGIN:VCALENDAR
VERSION:2.0
PRODID:-//jEvents 1.5 for Joomla//EN
BEGIN:VEVENT
CALSCALE:GREGORIAN
METHOD:PUBLISH

UID:04ee07946ce895862432b6aaf9c59076
CATEGORIES:CT-olvasás kurzus
SUMMARY:TarjányiN: Biologika CT olvasás tanfolyam 1/2 (Kolozsvár, Románia)
LOCATION:Románia, Kolozsvár, Mócok útja 102.
DESCRIPTION;ENCODING=QUOTED-PRINTABLE:<p><strong><span style="font-size: 12pt;">BIOLOGIKA CT OLVASÁS TRÉNING</s
 pan></strong><br /><strong><span style="font-size: 12pt;">2 napos gyakorlat
 i tanfolyam Kolozsváron</span></strong><br /><br /><span style="font-size:
  10pt;"><strong>témakör:</strong> a CT felvételeken található formáci
 ók és jelentésük</span><br /><span style="font-size: 10pt;"><strong>tí
 pus:</strong> technikai jellegű tanfolyam </span><br /><span style="font-s
 ize: 10pt;"><strong>tréner: <a href="partnereink/tarjanyi-nanetta.html" ta
 rget="_blank"><span style="text-decoration: underline; color: #000080;">Tar
 jányi Nanetta</span></a></strong> (minden tudást és gyakorlati tapasztal
 atot Barnai Robertónak köszönhetően!)</span><br /><span style="font-siz
 e: 10pt;"><strong>időtartam:</strong> 2 nap, 2019. július 3-4.</span><br 
 /><span style="font-size: 10pt;"><strong>helyszín:</strong> Kolozsvár, M
 cok útja 102.</span><br /><span style="font-size: 10pt;"><strong>előfelt
 étel:</strong> A CT-olvasás tréningen csak az vehet részt, aki gyakorlo
 tt az újmedicinában.</span><br /><span style="font-size: 10pt;">Jelentkez
 hetnek biologika, újmedicina, recall healing konzulensek, akik szeretnéne
 k jobban belemélyedni </span><br /><span style="font-size: 10pt;">az agyun
 k és a koponya CT képek rejtelmeibe, és munkájukhoz, hivatásukhoz hasz
 nát venni.</span><br /><span style="font-size: 10pt;"><strong>nyelv:</stro
 ng> magyar nyelven román tolmácsolással</span><br /><span style="font-si
 ze: 10pt;"><strong>létszámkorlát:</strong> 6 fő</span><br /><span style
 ="font-size: 10pt;"><strong>részvételi díj:</strong> 120.000 Ft vagy 1.8
 00 RON vagy 400 EUR / fő / 2 nap</span><br /><span style="font-size: 10pt;
 "><strong>jelentkezés:</strong> írásos előregisztráció kötelező a <
 a href="mailto:
 <script language='JavaScript' type='text/javascript'>
 <!-
 -
 var prefix = 'm&#97;&#105;lt&#111;:';
 var suffix = '';
 var attribs = '
 ';
 var path = 'hr' + 'ef' + '=';
 var addy21772 = 'kr&#105;szt&#105;n&#97;
 .b&#101;nk&#111;' + '&#64;';
 addy21772 = addy21772 + 'bbsc&#111;ns&#117;lt
 &#105;ng' + '&#46;' + 'n&#101;t';
 document.write( '<a ' + path + '\'' + pr
 efix + addy21772 + suffix + '\'' + attribs + '>' );
 document.write( addy21
 772 );
 document.write( '<\/a>' );
 //-->
 </script><script language='JavaS
 cript' type='text/javascript'>
 <!--
 document.write( '<span style=\'displa
 y: none;\'>' );
 //-->
 </script>Ez az email cím védett a spam robotoktó
 l, a megtekintéséhez engedélyezni kell a Javascriptet.
 <script language
 ='JavaScript' type='text/javascript'>
 <!--
 document.write( '</' );
 docum
 ent.write( 'span>' );
 //-->
 </script>" target="_blank"><span style="text-
 decoration: underline;"><span style="text-decoration: underline;">
 <script
  language='JavaScript' type='text/javascript'>
 <!--
 var prefix = 'm&#97;&
 #105;lt&#111;:';
 var suffix = '';
 var attribs = '';
 var path = 'hr' + 'e
 f' + '=';
 var addy1441 = 'kr&#105;szt&#105;n&#97;.b&#101;nk&#111;' + '&#64
 ;';
 addy1441 = addy1441 + 'bbsc&#111;ns&#117;lt&#105;ng' + '&#46;' + 'n&#1
 01;t';
 document.write( '<a ' + path + '\'' + prefix + addy1441 + suffix + 
 '\'' + attribs + '>' );
 document.write( addy1441 );
 document.write( '<\/a
 >' );
 //-->
 </script><script language='JavaScript' type='text/javascript'
 >
 <!--
 document.write( '<span style=\'display: none;\'>' );
 //-->
 </scr
 ipt>Ez az email cím védett a spam robotoktól, a megtekintéséhez enged
 lyezni kell a Javascriptet.
 <script language='JavaScript' type='text/java
 script'>
 <!--
 document.write( '</' );
 document.write( 'span>' );
 //-->

  </script></span></span></a> e-mail címen</span><br /><span style="font-si
 ze: 10pt;"><strong>szükséges:</strong> CD olvasóval rendelkező laptop, 
 letöltött radiant program</span><br /><br /><strong><span style="font-siz
 e: 10pt;">leírás:</span></strong><br /><span style="font-size: 10pt;">A h
 agyományos orvostudományban oktatottól eltérő módon itt más az elemz
 és tudományos háttere, környezete, </span><br /><span style="font-size:
  10pt;">más az elemzés metódusa (érzelemvilágra-való utalásokat olva
 sunk a képből nem betegségeket, pl. meszesedést), </span><br /><span st
 yle="font-size: 10pt;">és más a biologikás CT elemzés terminológiája 
 is. Tudván, hogy az agy, mint szervezetünk vezérlőközpontja </span><br
  /><span style="font-size: 10pt;">képes sérülést elszenvedni, és sebhe
 lyeket hátrahagyni, ebből következtetni lehet a tulajdonos érzelmi beá
 llítottságára, gyakoribb konfliktusainak tartalmára, és arra, hogy van
 /volt az érzelmi konfliktusaival.<br /><br />A kurzus nem terápiás vagy 
 diagnosztikai kurzus, hanem önismereti, újmedicinás, biologikás esetfel
 tárást segítő ismeretanyag.</span><br /><span style="font-size: 10pt;">
 A tréningnek azok veszik leginkább hasznát, akik konzultációkhoz, kuta
 tásaikhoz, több támpontot szeretnének, hogy miről érdemes beszélgetn
 i/kutatni, és miről nem.<br /><br />AKI KÉRI annak meg is nézzük, kiel
 emezzük a többiek előtt, amennyiben friss CT-je van.<br /><br />"Nem az
 rt kell sok kitartás és gyakorlás a CT olvasáshoz, hogy meglássuk az 
 eltéréseket, a pacákat, azt mindenki látja.</span><br /><span style="fo
 nt-size: 10pt;">Hanem hogy eligazodjunk, hogy tisztán lássunk a sebhelyek
  tengerében." /Barnai Roberto/<br /><br />"A CT-felvétel egy érzelemvil
 g önéletrajz dátumok nélkül. A dátumokhoz kell a kérdezés."<br /><
 br />"A CT-ből az orvosok diagnosztizálnak, a biologikások pedig kérdez
 nek és segítenek rávilágítani a gyenge pontokra." /Tarjányi Nanetta/<
 br /><br /><strong>tematika:</strong></span><br /><span style="font-size: 1
 0pt;">Mi az a CT?</span><br /><span style="font-size: 10pt;">Mely esetekben
  nem szükséges CT felvétel, és mikor feltétlenül fontos?</span><br />
 <span style="font-size: 10pt;">Melyek a Magyarországon jó felvételt kés
 zítő cégek?</span><br /><span style="font-size: 10pt;">Hogy néz ki mana
 pság egy CT-felvétel? Hogyan nyissuk meg a CD-t megtekintésre?</span><br
  /><span style="font-size: 10pt;">Mit látunk a képen - anatómiailag és 
 sebhelyileg</span><br /><span style="font-size: 10pt;">Hogyan kell lapozni 
 a képet kezelni?</span><br /><span style="font-size: 10pt;">Mit keresünk 
 a CT-képen?</span><br /><span style="font-size: 10pt;">Melyik folt, milyen
  kérdés?</span><br /><span style="font-size: 10pt;">A rétegfelvételek s
 zöge, magassága</span><br /><span style="font-size: 10pt;">Hogyan néz ki
  az agy a különböző rétegmagasságban?</span><br /><span style="font-s
 ize: 10pt;">Hol találjuk a biológiai konfliktusok gócait, sebhelyeit</sp
 an><br /><span style="font-size: 10pt;">Fókuszálási gyakorlatok élesben
  - gócméretre, színmélységre és a finom árnyalatkülönbség érzék
 elése</span><br /><span style="font-size: 10pt;">A szem "monitorra szoktat
 ása".</span><br /><span style="font-size: 10pt;">Mik azok a leggyakoribb m
 egtévesztő formációk amelyek félreértésre adnak okot</span><br /><sp
 an style="font-size: 10pt;">Hogy néz ki az, amikor több kisebb közeli g
 c egymásba ér, és egy nagyobb látszatát keltik</span><br /><span styl
 e="font-size: 10pt;">Mi az, ami még látható és mi az, ami már nem lát
 ható a CT-képen?</span><br /><span style="font-size: 10pt;">Hogy néz ki 
 a agyi-idegszövet-sebhelyesedés, és hogyan néznek ki a korábbi, régeb
 bi gócok?</span><br /><span style="font-size: 10pt;">A konfliktus-aktív g
 ócok szerkezete, alakulása, változása a folyamatok során.</span><br />
 <span style="font-size: 10pt;">A megoldás utáni gócok szerkezete, alakul
 ása, változása a folyamatok során.</span><br /><span style="font-size: 
 10pt;">Hogyan működik az agyi ödémásodás, és ez hogy néz ki a CT-k
 pen?</span><br /><span style="font-size: 10pt;">Konzultációs koponya CT 
 szerkezeti rajz oktatás, és rajztesztek </span><br /><span style="font-si
 ze: 10pt;">Mit és hogyan jegyzetelünk, hogy illusztráljuk a beszélgeté
 s témáját?</span><br /><span style="font-size: 10pt;">Mi az amiben más 
 az újmedicinás, biologikás elemzés, mint a hagyományos?</span><br /><s
 pan style="font-size: 10pt;">Mi az, amit véletlenül sem szabad elkövetni
  CT nézegetés közben?</span><br /><span style="font-size: 10pt;">A (tör
 vényileg is) előírt illetékességi határok tiszteletben tartásának f
 ontossága.</span><br /><span style="font-size: 10pt;">Hogyan kommunikálju
 nk a klienssel úgy, hogy ne okozzunk neki DHS-t, hogy ne vigyen haza fix k
 épet az elváltozásáról, az agyáról? Hogyan építsük őt a jó ön
 rtékelés és az egészség irányába?<br /><br />Jelentkezéskor add me
 g:<br />1.) a tréning nevét, helyszínét és időpontját(!)</span><br /
 ><span style="font-size: 10pt;">2.) pontos nevedet</span><br /><span style=
 "font-size: 10pt;">3.) mobil számodat</span><br /><span style="font-size: 
 10pt;">4.) e-mail címedet</span><br /><span style="font-size: 10pt;">5.) k
 edvezmény alapját (ha jogosult vagy)<br /><br /><br /></span></p>
CONTACT:
 
 
 
 
 Ez az email cím védett a spam robotoktól, a megtekintéséhez engedélyezni kell a Javascriptet.
 
 
 

DTSTAMP:20260420T010256Z
DTSTART:20190703T080000Z
DTEND:20190703T160000Z
SEQUENCE:0
TRANSP:OPAQUE
END:VEVENT
END:VCALENDAR