BEGIN:VCALENDAR
VERSION:2.0
PRODID:-//jEvents 1.5 for Joomla//EN
BEGIN:VEVENT
CALSCALE:GREGORIAN
METHOD:PUBLISH

UID:073e19bc15bf299547f901b883d2b39a
CATEGORIES:Egyéb kapcsolódó tanfolyam
SUMMARY:AndocsiV: Biologika tanfolyam a női problémákról 1/1 (Szeged-Tápé)
LOCATION:Szeged-Tápé, Sárgarigó Élményház
DESCRIPTION;ENCODING=QUOTED-PRINTABLE:<p><strong><span style="font-size: 12pt;">BIOLOGIKA (ÚJ MEDICINA) TRÉNING
 &nbsp;&nbsp;&nbsp;&nbsp;&nbsp;&nbsp;&nbsp;&nbsp;&nbsp;&nbsp;&nbsp;&nbsp;&nb
 sp;&nbsp;&nbsp;&nbsp;&nbsp;&nbsp;&nbsp;&nbsp;&nbsp;&nbsp;&nbsp;&nbsp;&nbsp;
 &nbsp;&nbsp;&nbsp;&nbsp;&nbsp;&nbsp; &nbsp;</span></strong><br /><strong><s
 pan style="font-size: 12pt;">1 napos tanfolyam a NŐI PROBLÉMÁKRÓL Szege
 den<br /><br /></span></strong></p><p><span style="font-size: 10pt;"><stron
 g>témakör:</strong> női problémákról nem csak nőknek</span><br /><sp
 an style="font-size: 10pt;"><strong>tréner:</strong> <span style="color: #
 000080;"><a href="https://www.biologika.hu/partnereink/andocsi-valeria.html
 " target="_blank"><span style="text-decoration: underline; color: #000080;"
 ><strong>Andocsi Valéria</strong></span></a></span></span><br /><span styl
 e="font-size: 10pt;"><strong>időtartam:</strong> 1 nap, 2019. július 23. 
 10:00-18:00 óráig</span><br /><span style="font-size: 10pt;"><strong>ebé
 dszünet:</strong> 13:00-14:00 óráig</span><br /><span style="font-size: 
 10pt;">kérdések, válaszok: 17:00-19:00 óráig</span><br /><span style="
 font-size: 10pt;"><strong>helyszín:</strong> Szeged - Tápé, Sárgarigó 
 Élményház</span><br /><span style="font-size: 10pt;">bontási lehetősé
 g: nincs</span><br /><span style="font-size: 10pt;"><strong>előfeltétel:<
 /strong> <a href="https://alapismeretek.biologika.hu" target="_blank"><span
  style="text-decoration: underline; color: #000080;">5 biológiai természe
 ttörvény online</span></a>, ingyenes előadás megtekintése </span><br /
 ><span style="font-size: 10pt;"><strong>nyelv:</strong> magyar nyelven</spa
 n><br /><span style="font-size: 10pt;"><strong>létszámkorlát:</strong> n
 incs megadva</span><br /><strong><span style="font-size: 10pt;">részvétel
 i díjak:</span></strong><br /><span style="font-size: 10pt;">Felnőtt alap
 ár (1 nap): 20.000 Ft / fő </span><br /><span style="font-size: 10pt;">Cs
 aládtagok (testvérek, házaspár): 20 % kedvezmény: 16.000 Ft / fő</spa
 n><br /><span style="font-size: 10pt;">Felnőtt 60 év felett: 15.000 Ft / 
 fő</span><br /><span style="font-size: 10pt;">Felnőtt, de nappali tagozat
 os diák (18-25 év között): 10.000 Ft / fő</span><br /><span style="fon
 t-size: 10pt;">Fiatalkorú (12-18 év között): ingyenes, a részvétel mi
 ndössze előregisztrációhoz kötött</span></p><p><span style="font-size
 : 10pt;"><strong>jelentkezés:</strong> előregisztráció kötelező&nbsp;
 <span style="font-size: 10pt;">+36 (30) 675 9751 telefonszámon</span> vagy
  a <span style="text-decoration: underline; color: #000080;"><a href="mailt
 o:
 <script language='JavaScript' type='text/javascript'>
 <!--
 var prefix
  = 'm&#97;&#105;lt&#111;:';
 var suffix = '';
 var attribs = '';
 var path 
 = 'hr' + 'ef' + '=';
 var addy14443 = 's&#97;rg&#97;r&#105;g&#111;&#101;lm&
 #101;nyh&#97;z' + '&#64;';
 addy14443 = addy14443 + 'gm&#97;&#105;l' + '&#4
 6;' + 'c&#111;m';
 document.write( '<a ' + path + '\'' + prefix + addy14443
  + suffix + '\'' + attribs + '>' );
 document.write( addy14443 );
 document
 .write( '<\/a>' );
 //-->
 </script><script language='JavaScript' type='tex
 t/javascript'>
 <!--
 document.write( '<span style=\'display: none;\'>' );

  //-->
 </script>Ez az email cím védett a spam robotoktól, a megtekinté
 séhez engedélyezni kell a Javascriptet.
 <script language='JavaScript' ty
 pe='text/javascript'>
 <!--
 document.write( '</' );
 document.write( 'span
 >' );
 //-->
 </script>" target="_blank"><span style="color: #000080; text-
 decoration: underline;">
 <script language='JavaScript' type='text/javascri
 pt'>
 <!--
 var prefix = 'm&#97;&#105;lt&#111;:';
 var suffix = '';
 var at
 tribs = '';
 var path = 'hr' + 'ef' + '=';
 var addy20026 = 's&#97;rg&#97;r
 &#105;g&#111;&#101;lm&#101;nyh&#97;z' + '&#64;';
 addy20026 = addy20026 + '
 gm&#97;&#105;l' + '&#46;' + 'c&#111;m';
 document.write( '<a ' + path + '\'
 ' + prefix + addy20026 + suffix + '\'' + attribs + '>' );
 document.write( 
 addy20026 );
 document.write( '<\/a>' );
 //-->
 </script><script language=
 'JavaScript' type='text/javascript'>
 <!--
 document.write( '<span style=\'
 display: none;\'>' );
 //-->
 </script>Ez az email cím védett a spam robo
 toktól, a megtekintéséhez engedélyezni kell a Javascriptet.
 <script la
 nguage='JavaScript' type='text/javascript'>
 <!--
 document.write( '</' );

  document.write( 'span>' );
 //-->
 </script></span></a></span> e-mail cím
 en</span><br /><span style="font-size: 10pt;"><strong>jelentkezési határi
 dő:</strong> nincs megadva</span><br /><br /><strong><span style="font-siz
 e: 10pt;">leírás:<br /></span></strong><span style="font-size: 10pt;">„
  Hagyma Mama este az ágyban: hagyj ma! – avagy a nemi érdektelenség le
 lki háttere; a meddőség lehetséges okai; az endometriózis; mióma; <br
  />a méhnyálkahártya és petevezeték elváltozásai; a „nehéz napok
  és a „hiszti” összefüggései; a méhszájseb; méhnyakrák és m
 s elváltozásokról egésznapos interaktív előadás keretében.<br /><b
 r />A Szerv Atlasz a tanfolyam helyszínén megvásárolható vagy a <a hre
 f="https://webshop.biologika.hu" target="_blank"><span style="color: #0000f
 f;"><span style="font-size: 10pt;"><span style="color: #000080;"><span styl
 e="text-decoration: underline; color: #000080;">webshopban</span></span></s
 pan></span></a> megrendelhető.</span><br /><br /><span style="font-size: 1
 0pt;">Jelentkezéskor add meg:</span><br /><span style="font-size: 10pt;">1
 .) a tréning nevét, helyszínét és időpontját</span><br /><span style
 ="font-size: 10pt;">2.) pontos nevedet</span><br /><span style="font-size: 
 10pt;">3.) mobil számodat</span><br /><span style="font-size: 10pt;">4.) e
 -mail címedet</span><br /><span style="font-size: 10pt;">5.) kedvezmény a
 lapját (ha jogosult vagy)</span></p>
CONTACT:
 
 
 
 
 Ez az email cím védett a spam robotoktól, a megtekintéséhez engedélyezni kell a Javascriptet.
 
 
    +36 (30) 675 9751

DTSTAMP:20260423T120328Z
DTSTART:20190723T080000Z
DTEND:20190723T160000Z
SEQUENCE:0
TRANSP:OPAQUE
END:VEVENT
END:VCALENDAR