BEGIN:VCALENDAR
VERSION:2.0
PRODID:-//jEvents 1.5 for Joomla//EN
BEGIN:VEVENT
CALSCALE:GREGORIAN
METHOD:PUBLISH

UID:9df1868258fafaef72dc2ebd1045da51
CATEGORIES:Ismeretterjesztő előadás
SUMMARY:AndocsiV: Biologika ismeretterjesztő előadás (Szeged-Tápé)
LOCATION:Szeged-Tápé, Sárgarigó Élményház
DESCRIPTION;ENCODING=QUOTED-PRINTABLE:<p><strong><span style="font-size: 12pt;">BIOLOGIKA (ÚJ MEDICINA) ISMERETT
 ERJESZTŐ ELŐADÁS SZEGEDEN&nbsp;</span></strong>&nbsp;&nbsp;&nbsp;&nbsp;&
 nbsp;&nbsp;&nbsp;&nbsp;&nbsp;&nbsp;&nbsp;&nbsp;&nbsp;&nbsp;&nbsp;&nbsp;&nbs
 p;&nbsp;&nbsp;&nbsp;&nbsp;&nbsp;&nbsp; &nbsp;<br />&nbsp;</p><p><span style
 ="font-size: 10pt;"><strong>témakör:</strong>daganatok, sorvadások és m
 ás elváltozások, biológiai értelmük, céljuk, rendeltetésük és lef
 olyásuk</span><br /><span style="font-size: 10pt;"><strong>típus:</strong
 > előadás</span><br /><strong><span style="font-size: 10pt;">tréner: <sp
 an style="color: #000080;"><a href="https://www.biologika.hu/partnereink/an
 docsi-valeria.html" target="_blank"><span style="text-decoration: underline
 ; color: #000080;">Andocsi Valéria</span></a></span></span></strong><br />
 <span style="font-size: 10pt;"><strong>időtartam:</strong> 2019. június 2
 2. 17:00-20:00 óráig</span><br /><span style="font-size: 10pt;"><strong>h
 elyszín:</strong> Szeged-Tápé, Sárgarigó Élményház</span><br /><spa
 n style="font-size: 10pt;"><strong>bontási lehetőség:</strong> nincs</sp
 an><br /><span style="font-size: 10pt;"><strong>előfeltétel:</strong> nin
 cs</span><br /><span style="font-size: 10pt;"><strong>nyelv:</strong> magya
 r nyelven</span><br /><span style="font-size: 10pt;"><strong>létszámkorl
 t:</strong> nincs megadva</span><br /><strong><span style="font-size: 10pt
 ;">részvételi díjak:</span></strong><br /><span style="font-size: 10pt;"
 >Felnőtt alapár: 2.000 Ft tanfolyami részvevőknek a tanfolyam árába b
 eszámítjuk</span><br /><span style="font-size: 10pt;">Családtagok (testv
 érek, házaspár): 1.500 Ft / fő</span><br /><span style="font-size: 10pt
 ;">Felnőtt 60 év felett: 1.000 Ft / fő</span><br /><span style="font-siz
 e: 10pt;">Felnőtt, de nappali tagozatos diák (18-25 év között): 1.000 
 Ft / fő</span><br /><span style="font-size: 10pt;">Fiatalkorú (12-18 év 
 között): ingyenes, a részvétel mindössze előregisztrációhoz kötöt
 t<br /><strong>jelentkezés:</strong> előregisztráció kötelező a&nbsp;
 <span style="font-size: 10pt;">+36 (30) 6759751 telefonszámon</span> vagy 
 a <span style="text-decoration: underline; color: #000080;"><a href="mailto
 :
 <script language='JavaScript' type='text/javascript'>
 <!--
 var prefix 
 = 'm&#97;&#105;lt&#111;:';
 var suffix = '';
 var attribs = '';
 var path =
  'hr' + 'ef' + '=';
 var addy2148 = 's&#97;rg&#97;r&#105;g&#111;&#101;lm&#1
 01;nyh&#97;z' + '&#64;';
 addy2148 = addy2148 + 'gm&#97;&#105;l' + '&#46;' 
 + 'c&#111;m';
 document.write( '<a ' + path + '\'' + prefix + addy2148 + su
 ffix + '\'' + attribs + '>' );
 document.write( addy2148 );
 document.write
 ( '<\/a>' );
 //-->
 </script><script language='JavaScript' type='text/java
 script'>
 <!--
 document.write( '<span style=\'display: none;\'>' );
 //-->
 
 </script>Ez az email cím védett a spam robotoktól, a megtekintéséhez
  engedélyezni kell a Javascriptet.
 <script language='JavaScript' type='te
 xt/javascript'>
 <!--
 document.write( '</' );
 document.write( 'span>' );

  //-->
 </script>" target="_blank"><span style="color: #000080; text-decora
 tion: underline;">
 <script language='JavaScript' type='text/javascript'>
 
 <!--
 var prefix = 'm&#97;&#105;lt&#111;:';
 var suffix = '';
 var attribs 
 = '';
 var path = 'hr' + 'ef' + '=';
 var addy2056 = 's&#97;rg&#97;r&#105;g
 &#111;&#101;lm&#101;nyh&#97;z' + '&#64;';
 addy2056 = addy2056 + 'gm&#97;&#
 105;l' + '&#46;' + 'c&#111;m';
 document.write( '<a ' + path + '\'' + prefi
 x + addy2056 + suffix + '\'' + attribs + '>' );
 document.write( addy2056 )
 ;
 document.write( '<\/a>' );
 //-->
 </script><script language='JavaScript
 ' type='text/javascript'>
 <!--
 document.write( '<span style=\'display: no
 ne;\'>' );
 //-->
 </script>Ez az email cím védett a spam robotoktól, a 
 megtekintéséhez engedélyezni kell a Javascriptet.
 <script language='Jav
 aScript' type='text/javascript'>
 <!--
 document.write( '</' );
 document.w
 rite( 'span>' );
 //-->
 </script></span></a></span> e-mail címen</span><b
 r /><span style="font-size: 10pt;"><strong>jelentkezési határidő:</stron
 g> nincs megadva</span><br /><br /><strong><span style="font-size: 10pt;">l
 eírás:</span></strong><br /><span style="font-size: 10pt;">Bizonyítást 
 nyert, hogy minden látszólag érthetetlen elváltozást az azt létrehoz
  biológiai szervezet HELYRE TUDJA ÁLLÍTANI!</span><br /><span style="fo
 nt-size: 10pt;">Végre megérthetjük a betegségek értelmét és kialakul
 ásuk okait!</span><br /><span style="font-size: 10pt;">Járjon utána, gy
 ződjön meg róla!&nbsp; „Mert kezelhetetlen betegségek helyett csak 
 rtelmes biológiai különprogramok vannak”.</span><br /><span style="fo
 nt-size: 10pt;">Az előadást ajánljuk mindenkinek, aki szeretné elkerül
 ni, hogy megbetegedjen, vagy meglévő betegségéből mielőbb szeretne ki
 gyógyulni!</span><br /><span style="font-size: 10pt;">Tegye meg az első l
 épést, érdeklődjön!<br /><br />Jelentkezéskor add meg:</span><br /><s
 pan style="font-size: 10pt;">1.) a tréning nevét, helyszínét és időpo
 ntját</span><br /><span style="font-size: 10pt;">2.) pontos nevedet</span>
 <br /><span style="font-size: 10pt;">3.) mobil számodat</span><br /><span 
 style="font-size: 10pt;">4.) e-mail címedet</span><br /><span style="font-
 size: 10pt;">5.) kedvezmény alapját (ha jogosult vagy)<br /><br /></span>
 </p>
CONTACT:
 
 
 
 
 Ez az email cím védett a spam robotoktól, a megtekintéséhez engedélyezni kell a Javascriptet.
 
 
    +36 (30) 675 9751

DTSTAMP:20260420T091148Z
DTSTART:20190622T150000Z
DTEND:20190622T180000Z
SEQUENCE:0
TRANSP:OPAQUE
END:VEVENT
END:VCALENDAR