BEGIN:VCALENDAR
VERSION:2.0
PRODID:-//jEvents 1.5 for Joomla//EN
BEGIN:VEVENT
CALSCALE:GREGORIAN
METHOD:PUBLISH

UID:22fd9ef2416015d0a03ef7b3334867ce
CATEGORIES:EgyÃ©b kapcsolÃ³dÃ³ tanfolyam
SUMMARY:GajÃ¡ryE: MuscuLogika haladÃ³ tanfolyam 1/1 (TÃ¶rÃ¶kbÃ¡lint)
LOCATION:2045 TÃ¶rÃ¶kbÃ¡lint, MunkÃ¡csy M. utca 83.
DESCRIPTION;ENCODING=QUOTED-PRINTABLE:<p><strong><span style="font-size: 12pt;">MUSCULOGIKA trÃ©ning - Fejen lÃ©v
 Å‘ extra pontok</span></strong><br /><span style="font-size: 10pt;"><strong
 ><span style="font-size: 12pt;">1 napos HALADÃ“ MUSCULOGIKA tanfolyam TÃ¶rÃ
 ¶kbÃ¡linton</span></strong><br /><br /><strong>tÃ©makÃ¶r:</strong> Musculog
 ika trÃ©ning, mozgÃ¡sszervi korlÃ¡tok javÃ­tÃ¡sa, fejen lÃ©vÅ‘ extra pontok
 </span><br /><span style="font-size: 10pt;"><strong>tÃ­pus:</strong> intenz
 Ã­v trÃ©ning, gyakorlati tanfolyam</span><br /><span style="font-size: 10pt
 ;"><strong>trÃ©ner: <a href="partnereink/gajary-erika-biologika-ujmedicina-
 konzulens.html" target="_blank"><span style="text-decoration: underline; co
 lor: #000080;">GajÃ¡ry Erika</span></a></strong></span><br /><span style="f
 ont-size: 10pt;"><strong>idÅ‘tartam:</strong> 2019. jÃºnius 10. 10:00-17:00
  Ã³rÃ¡ig</span><br /><span style="font-size: 10pt;"><strong>helyszÃ­n:</str
 ong> 2045 TÃ¶rÃ¶kbÃ¡lint, MunkÃ¡csy M. u. 83., MunkÃ¡csy MihÃ¡ly MÅ±velÅ‘dÃ
 ©si HÃ¡z TÃ¶rÃ¶kbÃ¡lint</span><br /><span style="font-size: 10pt;"><strong>
 elÅ‘feltÃ©tel:</strong> Musculogika 4 napos alaptanfolyami vÃ©gzettsÃ©g</sp
 an><br /><span style="font-size: 10pt;"><strong>lÃ©tszÃ¡mkorlÃ¡t:</strong> 
 nincs megadva</span><br /><span style="font-size: 10pt;"><strong>rÃ©szvÃ©te
 li dÃ­j:</strong> 15.000 Ft / fÅ‘ / nap</span><br /><span style="font-size:
  10pt;">&nbsp;&nbsp;&nbsp;&nbsp;&nbsp;&nbsp;&nbsp;&nbsp;&nbsp;&nbsp; ismÃ©t
 lÅ‘: 7.500 Ft / fÅ‘ / nap</span><br /><span style="font-size: 10pt;"><stron
 g>jelentkezÃ©s:</strong> Ã­rÃ¡sos elÅ‘regisztrÃ¡ciÃ³ kÃ¶telezÅ‘ a <a href="
 mailto:
 <script language='JavaScript' type='text/javascript'>
 <!--
 var p
 refix = 'm&#97;&#105;lt&#111;:';
 var suffix = '';
 var attribs = '';
 var 
 path = 'hr' + 'ef' + '=';
 var addy45478 = 'm&#117;sc&#117;l&#111;g&#105;k&
 #97;' + '&#64;';
 addy45478 = addy45478 + 'm&#117;sc&#117;l&#111;g&#105;k&#
 97;' + '&#46;' + 'h&#117;';
 document.write( '<a ' + path + '\'' + prefix +
  addy45478 + suffix + '\'' + attribs + '>' );
 document.write( addy45478 );
 
 document.write( '<\/a>' );
 //-->
 </script><script language='JavaScript'
  type='text/javascript'>
 <!--
 document.write( '<span style=\'display: non
 e;\'>' );
 //-->
 </script>Ez az email cÃ­m vÃ©dett a spam robotoktÃ³l, a m
 egtekintÃ©sÃ©hez engedÃ©lyezni kell a Javascriptet.
 <script language='Java
 Script' type='text/javascript'>
 <!--
 document.write( '</' );
 document.wr
 ite( 'span>' );
 //-->
 </script>" target="_blank"><span style="text-decora
 tion: underline; color: #000080;"><span style="color: #000080; text-decorat
 ion: underline;">
 <script language='JavaScript' type='text/javascript'>
 <
 !--
 var prefix = 'm&#97;&#105;lt&#111;:';
 var suffix = '';
 var attribs =
  '';
 var path = 'hr' + 'ef' + '=';
 var addy3484 = 'm&#117;sc&#117;l&#111;
 g&#105;k&#97;' + '&#64;';
 addy3484 = addy3484 + 'm&#117;sc&#117;l&#111;g&#
 105;k&#97;' + '&#46;' + 'h&#117;';
 document.write( '<a ' + path + '\'' + p
 refix + addy3484 + suffix + '\'' + attribs + '>' );
 document.write( addy34
 84 );
 document.write( '<\/a>' );
 //-->
 </script><script language='JavaSc
 ript' type='text/javascript'>
 <!--
 document.write( '<span style=\'display
 : none;\'>' );
 //-->
 </script>Ez az email cÃ­m vÃ©dett a spam robotoktÃ³l
 , a megtekintÃ©sÃ©hez engedÃ©lyezni kell a Javascriptet.
 <script language=
 'JavaScript' type='text/javascript'>
 <!--
 document.write( '</' );
 docume
 nt.write( 'span>' );
 //-->
 </script></span></span></a> e-mail cÃ­men</spa
 n><br /><span style="font-size: 10pt;"><strong>jelentkezÃ©si hatÃ¡ridÅ‘:</s
 trong> 2019. mÃ¡jus 21.</span><br /><br /><span style="font-size: 10pt;"><s
 trong>leÃ­rÃ¡s:</strong><br />Az Ã¡ltalam MuscuLogikÃ¡nak elnevezett mÃ³dsz
 er az izmok/Ã­nszalagok rendellenessÃ©ge miatt lÃ©trejÃ¶tt mozgÃ¡sszervi ko
 rlÃ¡tozottsÃ¡gok Ã©s fÃ¡jdalmak azonnali megszÃ¼ntetÃ©sÃ©t vagy lÃ©nyeges j
 avulÃ¡sÃ¡t teszi lehetÅ‘vÃ©.</span><br /><span style="font-size: 10pt;">A s
 ajÃ¡t tÃ¶bb Ã©vtizedes gyakorlatomon Ã©s megfigyelÃ©seimen keresztÃ¼l Ã©s a
  BioLogikus gondolkozÃ¡st alaptÃ©telnek tekintve leÃ­rom azokat a tapasztal
 atokat Ã©s kezelÃ©si eljÃ¡rÃ¡sokat, amik Ã¼zembiztosan mÅ±kÃ¶dnek minden em
 ber szÃ¡mÃ¡ra.</span><br /><span style="font-size: 10pt;">TestÃ¼nket, csont
 rendszerÃ¼nket, megszÃ¡mlÃ¡lhatatlan mennyisÃ©gÅ± izom Ã©s Ã­nszalag tartja
  Ã¶ssze Ã©s tartja szÃ©t olyan tisztes tÃ¡volsÃ¡gban, hogy terhelÃ©s hatÃ¡s
 Ã¡ra a csontok ne Ã©rjenek egymÃ¡shoz, fÃ¡jdalmat Ã©s kÃ­nt okozva ezzel.</
 span><br /><span style="font-size: 10pt;">MeglÃ¡tÃ¡som szerint fizikai szin
 ten az izom/Ã­nszalag mÅ±kÃ¶dÃ©s az egÃ©szsÃ©g alfÃ¡ja Ã©s omegÃ¡ja, melyne
 k hÃ¡tterÃ©ben az automatikus agy, mint egy bio-szÃ¡mÃ­tÃ³gÃ©p biztosÃ­tja 
 a kÃ¶vetkezÅ‘ mÃ¡sodperc tÃºlÃ©lÃ©sÃ©hez szÃ¼ksÃ©ges optimÃ¡lisan legjobb b
 iolÃ³giai megoldÃ¡st.</span><br /><span style="font-size: 10pt;">IzommÅ±kÃ¶
 dÃ©s szabÃ¡lyozza a vÃ©rkeringÃ©st, a nyirokkeringÃ©st, az Ã©rzÃ©kelÃ©st, l
 Ã¡tÃ¡st, hallÃ¡st, az anyagcserÃ©t, a lÃ©gzÃ©st, stb. Ã©s szinte minden, am
 i a testÃ¼nkben Ã©s a testÃ¼nkkel tÃ¶rtÃ©nik, a kÃ¼lÃ¶nbÃ¶zÅ‘, izmaink/Ã­ns
 zalagjaink Ã¡llapotÃ¡tÃ³l meghatÃ¡rozÃ³an fÃ¼gg.</span><br /><span style="f
 ont-size: 10pt;">A mÃ³dszer nem Ã¶ngyÃ³gyÃ­tÃ¡sra valÃ³, de minÃ©l tÃ¶bben 
 vagyunk kÃ©pesek egymÃ¡snak segÃ­teni, annÃ¡l jobban kitÃ¡gul ez a szemlÃ©l
 etmÃ³d Ã©s aszerint fog nÃ¶vekedni Ã©s Ã¶sszeadÃ³dni ez a csodÃ¡latos felis
 merÃ©s, Ã©s testÃ¼nk eddig rejtett, de mÃ¡ra mÃ¡r meglehetÅ‘sen feltÃ©rkÃ©p
 ezett Ã¶ngyÃ³gyÃ­tÃ³ kÃ©pessÃ©ge.</span><br /><br /><strong><span style="fo
 nt-size: 10pt;">tematika:</span></strong><br /><span style="font-size: 10pt
 ;">homlokÃ¼reg, arcÃ¼reg</span><br /><span style="font-size: 10pt;">fejfÃ¡j
 Ã¡sok</span><br /><span style="font-size: 10pt;">Ã¡llkapocs</span><br /><sp
 an style="font-size: 10pt;">fogak</span><br /><span style="font-size: 10pt;
 ">nyÃ¡ltermelÃ©s</span><br /><span style="font-size: 10pt;">orrszÃ¡razsÃ¡g,
  orrfolyÃ¡s</span><br /><span style="font-size: 10pt;">szÃ©dÃ¼lÃ©s</span><b
 r /><span style="font-size: 10pt;">vÃ©rnyomÃ¡s</span><br /><span style="fon
 t-size: 10pt;">arcidegbÃ©nulÃ¡s</span><br /><span style="font-size: 10pt;">
 nagyothallÃ¡s, fÃ¼lzÃºgÃ¡s,</span><br /><span style="font-size: 10pt;">lÃ¡t
 Ã¡sproblÃ©mÃ¡k<br /><br />JelentkezÃ©skor add meg:</span><br /><span style=
 "font-size: 10pt;">1.) a trÃ©ning nevÃ©t, helyszÃ­nÃ©t Ã©s idÅ‘pontjÃ¡t(!)<
 /span><br /><span style="font-size: 10pt;">2.) pontos nevedet</span><br /><
 span style="font-size: 10pt;">3.) mobil szÃ¡modat</span><br /><span style="
 font-size: 10pt;">4.) e-mail cÃ­medet<br />5.) alaptanfolyamon kapott oklev
 Ã©l szÃ¡mÃ¡t<br /><br /><br /></span></p>
CONTACT:
 
 
 
 
 Ez az email cÃ­m vÃ©dett a spam robotoktÃ³l, a megtekintÃ©sÃ©hez engedÃ©lyezni kell a Javascriptet.
 
 
 

DTSTAMP:20260420T091404Z
DTSTART:20190610T080000Z
DTEND:20190610T150000Z
SEQUENCE:0
TRANSP:OPAQUE
END:VEVENT
END:VCALENDAR