BEGIN:VCALENDAR
VERSION:2.0
PRODID:-//jEvents 1.5 for Joomla//EN
BEGIN:VEVENT
CALSCALE:GREGORIAN
METHOD:PUBLISH

UID:33cddf6b611d6d4c27face39705689be
CATEGORIES:EgyÃ©b kapcsolÃ³dÃ³ tanfolyam
SUMMARY:GajÃ¡ryE: MuscuLogika haladÃ³ tanfolyam 1/1 (TÃ¶rÃ¶kbÃ¡lint)
LOCATION:2045 TÃ¶rÃ¶kbÃ¡lint, MunkÃ¡csy M. utca 83.
DESCRIPTION;ENCODING=QUOTED-PRINTABLE:<p><strong><span style="font-size: 12pt;">MUSCULOGIKA trÃ©ning - Fejen lÃ©v
 Å‘ extra pontok</span></strong><br /><span style="font-size: 10pt;"><strong
 ><span style="font-size: 12pt;">1 napos HALADÃ“ MUSCULOGIKA tanfolyam TÃ¶rÃ
 ¶kbÃ¡linton</span></strong><br /><br /><strong>tÃ©makÃ¶r:</strong> Musculog
 ika trÃ©ning, mozgÃ¡sszervi korlÃ¡tok javÃ­tÃ¡sa, fejen lÃ©vÅ‘ extra pontok
 </span><br /><span style="font-size: 10pt;"><strong>tÃ­pus:</strong> intenz
 Ã­v trÃ©ning, gyakorlati tanfolyam</span><br /><span style="font-size: 10pt
 ;"><strong>trÃ©ner: <a href="partnereink/gajary-erika-biologika-ujmedicina-
 konzulens.html" target="_blank"><span style="text-decoration: underline; co
 lor: #000080;">GajÃ¡ry Erika</span></a></strong></span><br /><span style="f
 ont-size: 10pt;"><strong>idÅ‘tartam:</strong> 2019. jÃºnius 9. 10:00-17:00 
 Ã³rÃ¡ig</span><br /><span style="font-size: 10pt;"><strong>helyszÃ­n:</stro
 ng> 2045 TÃ¶rÃ¶kbÃ¡lint, MunkÃ¡csy M. u. 83., MunkÃ¡csy MihÃ¡ly MÅ±velÅ‘dÃ©
 si HÃ¡z TÃ¶rÃ¶kbÃ¡lint</span><br /><span style="font-size: 10pt;"><strong>e
 lÅ‘feltÃ©tel:</strong> Musculogika 4 napos alaptanfolyami vÃ©gzettsÃ©g</spa
 n><br /><span style="font-size: 10pt;"><strong>lÃ©tszÃ¡mkorlÃ¡t:</strong> n
 incs megadva</span><br /><span style="font-size: 10pt;"><strong>rÃ©szvÃ©tel
 i dÃ­j:</strong> 15.000 Ft / fÅ‘ / nap</span><br /><span style="font-size: 
 10pt;">&nbsp;&nbsp;&nbsp;&nbsp;&nbsp;&nbsp;&nbsp;&nbsp;&nbsp;&nbsp; ismÃ©tl
 Å‘: 7.500 Ft / fÅ‘ / nap</span><br /><span style="font-size: 10pt;"><strong
 >jelentkezÃ©s:</strong> Ã­rÃ¡sos elÅ‘regisztrÃ¡ciÃ³ kÃ¶telezÅ‘ a <a href="m
 ailto:
 <script language='JavaScript' type='text/javascript'>
 <!--
 var pr
 efix = 'm&#97;&#105;lt&#111;:';
 var suffix = '';
 var attribs = '';
 var p
 ath = 'hr' + 'ef' + '=';
 var addy85316 = 'm&#117;sc&#117;l&#111;g&#105;k&#
 97;' + '&#64;';
 addy85316 = addy85316 + 'm&#117;sc&#117;l&#111;g&#105;k&#9
 7;' + '&#46;' + 'h&#117;';
 document.write( '<a ' + path + '\'' + prefix + 
 addy85316 + suffix + '\'' + attribs + '>' );
 document.write( addy85316 );

  document.write( '<\/a>' );
 //-->
 </script><script language='JavaScript' 
 type='text/javascript'>
 <!--
 document.write( '<span style=\'display: none
 ;\'>' );
 //-->
 </script>Ez az email cÃ­m vÃ©dett a spam robotoktÃ³l, a me
 gtekintÃ©sÃ©hez engedÃ©lyezni kell a Javascriptet.
 <script language='JavaS
 cript' type='text/javascript'>
 <!--
 document.write( '</' );
 document.wri
 te( 'span>' );
 //-->
 </script>" target="_blank"><span style="text-decorat
 ion: underline; color: #000080;"><span style="color: #000080; text-decorati
 on: underline;">
 <script language='JavaScript' type='text/javascript'>
 <!
 --
 var prefix = 'm&#97;&#105;lt&#111;:';
 var suffix = '';
 var attribs = 
 '';
 var path = 'hr' + 'ef' + '=';
 var addy8555 = 'm&#117;sc&#117;l&#111;g
 &#105;k&#97;' + '&#64;';
 addy8555 = addy8555 + 'm&#117;sc&#117;l&#111;g&#1
 05;k&#97;' + '&#46;' + 'h&#117;';
 document.write( '<a ' + path + '\'' + pr
 efix + addy8555 + suffix + '\'' + attribs + '>' );
 document.write( addy855
 5 );
 document.write( '<\/a>' );
 //-->
 </script><script language='JavaScr
 ipt' type='text/javascript'>
 <!--
 document.write( '<span style=\'display:
  none;\'>' );
 //-->
 </script>Ez az email cÃ­m vÃ©dett a spam robotoktÃ³l,
  a megtekintÃ©sÃ©hez engedÃ©lyezni kell a Javascriptet.
 <script language='
 JavaScript' type='text/javascript'>
 <!--
 document.write( '</' );
 documen
 t.write( 'span>' );
 //-->
 </script></span></span></a> e-mail cÃ­men</span
 ><br /><span style="font-size: 10pt;"><strong>jelentkezÃ©si hatÃ¡ridÅ‘:</st
 rong> 2019. mÃ¡jus 21.</span><br /><br /><span style="font-size: 10pt;"><st
 rong>leÃ­rÃ¡s:</strong><br />Az Ã¡ltalam MuscuLogikÃ¡nak elnevezett mÃ³dsze
 r az izmok/Ã­nszalagok rendellenessÃ©ge miatt lÃ©trejÃ¶tt mozgÃ¡sszervi kor
 lÃ¡tozottsÃ¡gok Ã©s fÃ¡jdalmak azonnali megszÃ¼ntetÃ©sÃ©t vagy lÃ©nyeges ja
 vulÃ¡sÃ¡t teszi lehetÅ‘vÃ©.</span><br /><span style="font-size: 10pt;">A sa
 jÃ¡t tÃ¶bb Ã©vtizedes gyakorlatomon Ã©s megfigyelÃ©seimen keresztÃ¼l Ã©s a 
 BioLogikus gondolkozÃ¡st alaptÃ©telnek tekintve leÃ­rom azokat a tapasztala
 tokat Ã©s kezelÃ©si eljÃ¡rÃ¡sokat, amik Ã¼zembiztosan mÅ±kÃ¶dnek minden emb
 er szÃ¡mÃ¡ra.</span><br /><span style="font-size: 10pt;">TestÃ¼nket, csontr
 endszerÃ¼nket, megszÃ¡mlÃ¡lhatatlan mennyisÃ©gÅ± izom Ã©s Ã­nszalag tartja 
 Ã¶ssze Ã©s tartja szÃ©t olyan tisztes tÃ¡volsÃ¡gban, hogy terhelÃ©s hatÃ¡sÃ
 ¡ra a csontok ne Ã©rjenek egymÃ¡shoz, fÃ¡jdalmat Ã©s kÃ­nt okozva ezzel.</s
 pan><br /><span style="font-size: 10pt;">MeglÃ¡tÃ¡som szerint fizikai szint
 en az izom/Ã­nszalag mÅ±kÃ¶dÃ©s az egÃ©szsÃ©g alfÃ¡ja Ã©s omegÃ¡ja, melynek
  hÃ¡tterÃ©ben az automatikus agy, mint egy bio-szÃ¡mÃ­tÃ³gÃ©p biztosÃ­tja a
  kÃ¶vetkezÅ‘ mÃ¡sodperc tÃºlÃ©lÃ©sÃ©hez szÃ¼ksÃ©ges optimÃ¡lisan legjobb bi
 olÃ³giai megoldÃ¡st.</span><br /><span style="font-size: 10pt;">IzommÅ±kÃ¶d
 Ã©s szabÃ¡lyozza a vÃ©rkeringÃ©st, a nyirokkeringÃ©st, az Ã©rzÃ©kelÃ©st, lÃ
 ¡tÃ¡st, hallÃ¡st, az anyagcserÃ©t, a lÃ©gzÃ©st, stb. Ã©s szinte minden, ami
  a testÃ¼nkben Ã©s a testÃ¼nkkel tÃ¶rtÃ©nik, a kÃ¼lÃ¶nbÃ¶zÅ‘, izmaink/Ã­nsz
 alagjaink Ã¡llapotÃ¡tÃ³l meghatÃ¡rozÃ³an fÃ¼gg.</span><br /><span style="fo
 nt-size: 10pt;">A mÃ³dszer nem Ã¶ngyÃ³gyÃ­tÃ¡sra valÃ³, de minÃ©l tÃ¶bben v
 agyunk kÃ©pesek egymÃ¡snak segÃ­teni, annÃ¡l jobban kitÃ¡gul ez a szemlÃ©le
 tmÃ³d Ã©s aszerint fog nÃ¶vekedni Ã©s Ã¶sszeadÃ³dni ez a csodÃ¡latos felism
 erÃ©s, Ã©s testÃ¼nk eddig rejtett, de mÃ¡ra mÃ¡r meglehetÅ‘sen feltÃ©rkÃ©pe
 zett Ã¶ngyÃ³gyÃ­tÃ³ kÃ©pessÃ©ge.</span><br /><br /><strong><span style="fon
 t-size: 10pt;">tematika:</span></strong><br /><span style="font-size: 10pt;
 ">homlokÃ¼reg, arcÃ¼reg</span><br /><span style="font-size: 10pt;">fejfÃ¡jÃ
 ¡sok</span><br /><span style="font-size: 10pt;">Ã¡llkapocs</span><br /><spa
 n style="font-size: 10pt;">fogak</span><br /><span style="font-size: 10pt;"
 >nyÃ¡ltermelÃ©s</span><br /><span style="font-size: 10pt;">orrszÃ¡razsÃ¡g, 
 orrfolyÃ¡s</span><br /><span style="font-size: 10pt;">szÃ©dÃ¼lÃ©s</span><br
  /><span style="font-size: 10pt;">vÃ©rnyomÃ¡s</span><br /><span style="font
 -size: 10pt;">arcidegbÃ©nulÃ¡s</span><br /><span style="font-size: 10pt;">n
 agyothallÃ¡s, fÃ¼lzÃºgÃ¡s,</span><br /><span style="font-size: 10pt;">lÃ¡tÃ
 ¡sproblÃ©mÃ¡k<br /><br />JelentkezÃ©skor add meg:</span><br /><span style="
 font-size: 10pt;">1.) a trÃ©ning nevÃ©t, helyszÃ­nÃ©t Ã©s idÅ‘pontjÃ¡t(!)</
 span><br /><span style="font-size: 10pt;">2.) pontos nevedet</span><br /><s
 pan style="font-size: 10pt;">3.) mobil szÃ¡modat</span><br /><span style="f
 ont-size: 10pt;">4.) e-mail cÃ­medet<br />5.) alaptanfolyamon kapott oklevÃ
 ©l szÃ¡mÃ¡t<br /><br /><br /></span></p>
CONTACT:
 
 
 
 
 Ez az email cÃ­m vÃ©dett a spam robotoktÃ³l, a megtekintÃ©sÃ©hez engedÃ©lyezni kell a Javascriptet.
 
 
 

DTSTAMP:20260420T073137Z
DTSTART:20190609T080000Z
DTEND:20190609T150000Z
SEQUENCE:0
TRANSP:OPAQUE
END:VEVENT
END:VCALENDAR