BEGIN:VCALENDAR
VERSION:2.0
PRODID:-//jEvents 1.5 for Joomla//EN
BEGIN:VEVENT
CALSCALE:GREGORIAN
METHOD:PUBLISH

UID:074a8d93f34451f3005a20b46c653bdd
CATEGORIES:Alap szeminárium 
SUMMARY:LengyelZs: Biologika alap és haladó tanfolyam 1/4 (Zürich, Svájc)
LOCATION:Zürich (Svájc), szervezés alatt
DESCRIPTION;ENCODING=QUOTED-PRINTABLE:<p><span style="font-size: 10pt;"></span><span style="font-size: 10pt;"><st
 rong><span style="font-size: 12pt;">BIOLOGIKA (ÚJ MEDICINA) TRÉNING</span
 ></strong><br /><strong><span style="font-size: 12pt;">4 napos ALAP és HAL
 ADÓ tanfolyam Zürichben</span></strong><br /><br /><strong>témakör:</st
 rong> Biologika tréning, elváltozástan, a megbetegedések mechanizmusa</
 span><br /><span style="font-size: 10pt;"><strong>típus:</strong> intenzí
 v tréning, tanfolyam</span><br /><span style="font-size: 10pt;"><strong>tr
 éner:</strong> <span style="color: #000080;"><a href="partnereink/lengyel-
 zsuzsanna.html" target="_blank"><span style="text-decoration: underline; co
 lor: #000080;"><strong>Lengyel Zsu</strong></span></a></span><br /><strong>
 időtartam:</strong> 4 nap, 2019. szeptember 5-6-7-8. 10:00-16:00 óráig <
 /span><br /><span style="font-size: 10pt;"><strong>helyszín:</strong> Zür
 ich, a pontos helyszín szervezés alatt, további információ e-mailben<b
 r /></span><span style="font-size: 10pt;"><strong>bontási lehetőség:</st
 rong> nincs. Az oklevélre való jogosultság feltétele, mind a 4 napon va
 ló részvétel.<br /><span style="font-size: 10pt;"><strong>előfeltétel:
 </strong> javasolt az alapismeretek előadás megnézése, legalább kétsz
 er: <span style="color: #000080;"><a href="http://www.alapismeretek.biologi
 ka.hu" target="_blank"><span style="text-decoration: underline; color: #000
 080;">www.alapismeretek.biologika.hu</span></a></span></span></span><br /><
 span style="font-size: 10pt;"><strong>nyelv:</strong> A tréninget magyar n
 yelven tartjuk!<br /><strong>létszámkorlát:</strong> nincs megadva<br />
 <strong>részvételi díjak:</strong> A részvételi díj befizetése előr
 eutalással történik.</span><br /><span style="font-size: 10pt;">&nbsp;&n
 bsp;&nbsp;&nbsp;&nbsp;&nbsp;&nbsp;&nbsp;&nbsp;&nbsp; 2019. augusztus 5. el
 tti jelentkezés és befizetés esetén a részvételi díj: 450 CHF / fő
 <br /><span style="font-size: 10pt;">&nbsp;&nbsp;&nbsp;&nbsp;&nbsp;&nbsp;&n
 bsp;&nbsp;&nbsp;&nbsp; </span>2019. augusztus 5. után a részvételi díj:
  490 CHF / fő<br /><strong>jelentkezés:</strong>&nbsp;</span><span style=
 "font-size: 10pt;">írásos előregisztráció kötelező a <span style="te
 xt-decoration: underline; color: #000080;"><a href="mailto:
 <script langua
 ge='JavaScript' type='text/javascript'>
 <!--
 var prefix = 'm&#97;&#105;lt
 &#111;:';
 var suffix = '';
 var attribs = '';
 var path = 'hr' + 'ef' + '=
 ';
 var addy31953 = 'zs&#117;' + '&#64;';
 addy31953 = addy31953 + 'b&#105;
 &#111;l&#111;g&#105;k&#97;' + '&#46;' + 'h&#117;';
 document.write( '<a ' +
  path + '\'' + prefix + addy31953 + suffix + '\'' + attribs + '>' );
 docum
 ent.write( addy31953 );
 document.write( '<\/a>' );
 //-->
 </script><scrip
 t language='JavaScript' type='text/javascript'>
 <!--
 document.write( '<sp
 an style=\'display: none;\'>' );
 //-->
 </script>Ez az email cím védett 
 a spam robotoktól, a megtekintéséhez engedélyezni kell a Javascriptet.

  <script language='JavaScript' type='text/javascript'>
 <!--
 document.writ
 e( '</' );
 document.write( 'span>' );
 //-->
 </script>" target="_blank"><
 span style="text-decoration: underline; color: #000080;">
 <script language
 ='JavaScript' type='text/javascript'>
 <!--
 var prefix = 'm&#97;&#105;lt&#
 111;:';
 var suffix = '';
 var attribs = '';
 var path = 'hr' + 'ef' + '=';
 
 var addy30108 = 'zs&#117;' + '&#64;';
 addy30108 = addy30108 + 'b&#105;&#
 111;l&#111;g&#105;k&#97;' + '&#46;' + 'h&#117;';
 document.write( '<a ' + p
 ath + '\'' + prefix + addy30108 + suffix + '\'' + attribs + '>' );
 documen
 t.write( addy30108 );
 document.write( '<\/a>' );
 //-->
 </script><script 
 language='JavaScript' type='text/javascript'>
 <!--
 document.write( '<span
  style=\'display: none;\'>' );
 //-->
 </script>Ez az email cím védett a 
 spam robotoktól, a megtekintéséhez engedélyezni kell a Javascriptet.
 <
 script language='JavaScript' type='text/javascript'>
 <!--
 document.write(
  '</' );
 document.write( 'span>' );
 //-->
 </script></span></a></span> e-
 mail címen</span><span style="font-size: 10pt;"><br /></span><span style="
 font-size: 10pt;">A jelentkezésed után küldöm az utalási adatokat és 
 a tudnivalókat.</span><br /><span style="font-size: 10pt;"><strong>jelentk
 ezési határidő:</strong> nincs megadva<br /><br /><strong>leírás, tema
 tika:</strong><br />A tanfolyam az új medicináról, a biológiai termész
 ettörvényekről és összefüggésekről szól. Megtanít új nézőpontb
 ól szemlélni betegségeinket.</span><br /><span style="font-size: 10pt;">
 Az előadás számos esetpéldával segíti megérteni és könnyen megjegy
 ezhetővé tenni az elváltozások tüneteit, okait, lefutásukat. Így leh
 etőséget ad arra, hogy betegségeinket megismerjük, lefolyásukat nyomon
  követhessük így a rettegett ismeretlent kiiktathatjuk az életünkből.
 </span><br /><span style="font-size: 10pt;">A tanulmányok és a Szerv Atla
 sz megismerésének célja, hogy önjáróvá váljunk, a megértéssel fel
 elősségteljesebben, tudatosabban tudjunk élni, ne legyünk a betegségek
  kiszolgáltatott áldozatai, hanem egészségünk magabiztos, felelős meg
 teremtői legyünk.</span><br /><span style="font-size: 10pt;">Rengeteg mó
 dszert megismerhetünk a konfliktusok, elváltozások kezelésére, ugyanak
 kor a konkrét megbetegedéseket megelőző érzelmi konfliktusok beazonos
 tására csak egyet ismerünk, ami egzakt, utánkövethető a három szint
 en: lélek – agy – szerv és igazolható. Az új medicina nem gyógymó
 d, hanem kulcs a zárban, amivel az egészség házába léphetünk. Ismere
 te ahhoz szükséges, hogy soha többé ne alakulhasson ki akkora elváltoz
 ásunk, mely súlyos vagy halálos legyen, vagy ha már van valamilyen elv
 ltozásunk, értsük, hogy milyen tünetek fognak következni, miért és 
 meddig fog tartani. A biológiai különprogramokról szól (régi nevén b
 etegségek), amelynek nem tárgya a mérgezés, baleset, sugárzás és az 
 élet ellenes táplálkozás.<br /><br /></span><span style="font-size: 10p
 t;">A négy napos tréningen a tematika szerint nem térünk ki minden egye
 s Szerv Atlasz lapra, ugyanakkor </span><span style="font-size: 10pt;">megi
 smerjük a leggyakoribb szervi elváltozások (betegségtünetek) biológia
 i hátterét, összefüggéseit.<br /><br /><strong>1. nap:</strong></span>
 <br /><span style="font-size: 10pt;">Barnai Roberto: Biologika Szerv Atlasz
  felépítése és használata</span><br /><span style="font-size: 10pt;">A
 z öt biológiai természettörvény - Dr. Ryke Geerd Hamer munkássága</s
 pan><br /><span style="font-size: 10pt;">A különböző agyi vezérlőköz
 pontok és azok bekábelezése a szervekhez</span><br /><span style="font-s
 ize: 10pt;">Lefutás- és folyamatismeretek.</span><br /><span style="font-
 size: 10pt;">Az agytörzs vezérelte szervek és lehetséges elváltozásai
 k, betegségnevek, tünetek</span><br /><span style="font-size: 10pt;">Legf
 ontosabb mirigyszöveteink, melyeken elváltozásokat tudunk produkálni.</
 span><br /><span style="font-size: 10pt;">A középagy vezérelte szervek 
 s lehetséges elváltozásaik, betegségnevek, tünetek</span><br /><span 
 style="font-size: 10pt;">A miómák vagyis simaizomszövetek sajátos műk
 dése, izomdaganatok, görcsölések<br /><br /><strong>2. nap:</strong></
 span><br /><span style="font-size: 10pt;">A kisagy vezérelte szervek és l
 ehetséges elváltozásaik, betegségnevek, tünetek</span><br /><span styl
 e="font-size: 10pt;">A hártyaszövetek sajátos működése (hashártya, m
 ellhártya, szívburok, agyhártya)</span><br /><span style="font-size: 10p
 t;">A velőállomány vezérelte szervek és lehetséges elváltozásaik, b
 etegségnevek, tünetek<br /><br /><strong>3. nap:</strong></span><br /><sp
 an style="font-size: 10pt;">A kéregállomány vezérelte szervek és lehet
 séges elváltozásaik, betegségnevek, tünetek</span><br /><span style="f
 ont-size: 10pt;">Férfias/nőies hormonállapot, bénulások, vércukorszin
 t változások<br /><br /><strong>4. nap:</strong></span><br /><span style=
 "font-size: 10pt;">Hangulatzavarok és elmebajok - a leggyakoribb tünetek 
 hátterével</span><br /><span style="font-size: 10pt;">(Megzavarodottság,
  kényszeres sértegetés, értékítéleti zavarok, </span><span style="fo
 nt-size: 10pt;">mánia, depresszió, skizofrénia, fóbiák és paranoiák)
 <br /><br /><span style="font-size: 10pt;"><strong>tananyag:</strong> A tan
 folyam prezentációs anyaga és akkreditált tankönyve a Biologika Szerv 
 Atlasz.<br />Ha szeretnél beletekinteni, beleolvasgatni itt megteheted: <a
  href="https://megtekintes.szervatlasz.hu" target="_blank"><span style="tex
 t-decoration: underline; color: #000080;">www.megtekintes.szervatlasz.hu </
 span></a></span><br /><span style="font-size: 10pt;">Előre jelzett igény 
 szerint a tréningen megvásárolható.</span><br /><br />Jelentkezéskor a
 dd meg:<br /><br /></span><span style="font-size: 10pt;">1.) a tréning nev
 ét, helyszínét, időpontját</span><br /><span style="font-size: 10pt;">
 2.) pontos nevedet és címedet</span><br /><span style="font-size: 10pt;">
 3.) mobil számodat</span><br /><span style="font-size: 10pt;">4.) e-mail c
 ímedet</span><br /><span style="font-size: 10pt;">5.) Biologika Szerv Atla
 szt kérek/nem kérek (magyar nyelvű)</span></p><p><span style="font-size:
  10pt;"></span><br /><span style="font-size: 10pt;">Facebook esemény: <spa
 n style="text-decoration: underline; color: #000080;"><a href="https://www.
 facebook.com/events/676276326135977/" target="_blank"><span style="color: #
 000080; text-decoration: underline;">https://www.facebook.com/events/676276
 326135977/</span></a></span></span><br /><span style="font-size: 10pt;">Hon
 lap: <span style="text-decoration: underline; color: #000080;"><a href="htt
 p://www.thetatikum.hu" target="_blank"><span style="color: #000080; text-de
 coration: underline;">http://www.thetatikum.hu</span></a></span></span></p>
CONTACT:
 
 
 
 
 Ez az email cím védett a spam robotoktól, a megtekintéséhez engedélyezni kell a Javascriptet.
 
 
  +36 (20) 981 2988

DTSTAMP:20260419T181234Z
DTSTART:20190905T080000Z
DTEND:20190905T140000Z
SEQUENCE:0
TRANSP:OPAQUE
END:VEVENT
END:VCALENDAR