BEGIN:VCALENDAR
VERSION:2.0
PRODID:-//jEvents 1.5 for Joomla//EN
BEGIN:VEVENT
CALSCALE:GREGORIAN
METHOD:PUBLISH

UID:800e6139cf008895ba66a3bda26fe59d
CATEGORIES:Nyilvános összejövetel
SUMMARY:TarjányiN: Biologika bevezető előadás 1/1 (Szabadka, Szerbia)
LOCATION:Szabadka (Szerbia) szervezés alatt
DESCRIPTION;ENCODING=QUOTED-PRINTABLE:<p><strong><span style="font-size: 12pt;">BIOLOGIKA (ÚJ MEDICINA) BEVEZET
  ELŐADÁS</span></strong><br /><strong><span style="font-size: 12pt;">3 
 rás Bevezető Előadás és nyilvános konzultáció Szabadkán</span></s
 trong><br /><strong><span style="font-size: 12pt;">magyar és szerb nyelven
 </span></strong></p><p><br /><span style="font-size: 10pt;"><strong>témak
 r:</strong> Mi az új medicina, biologika? Hogyan működnek a betegségle
 futások, elmezavarok, viselkedészavarok? Mi a testünk logikája? Hogyan 
 szabadulhatunk meg az áttétek, fertőzések, rák, autoimmun betegségekt
 ől való félelmektől? Az öt biológiai természettörvény - Dr. Ryke G
 eerd Hamer munkássága</span><br /><span style="font-size: 10pt;"><strong>
 típus:</strong> előadás</span><br /><span style="font-size: 10pt;"><stro
 ng>tréner:</strong> <a href="partnereink/tarjanyi-nanetta.html" target="_b
 lank"><span style="text-decoration: underline; color: #000080;"><strong>Tar
 jányi Nanetta</strong></span></a></span><br /><span style="font-size: 10pt
 ;"><strong>időtartam:</strong> 3 óra,&nbsp; 2019. május 17. 17:00-20:00 
 óráig</span><br /><span style="font-size: 10pt;"><strong>helyszín:</stro
 ng> Szabadka, szervezés alatt, függ a létszámtól - további informáci
 ó e-mailben</span><br /><span style="font-size: 10pt;"><strong>előfeltét
 el:</strong> nincs</span><br /><span style="font-size: 10pt;"><strong>nyelv
 :</strong> magyarul szerb fordítással</span><br /><span style="font-size:
  10pt;"><strong>létszámkorlát:</strong> nincs megadva</span><br /><span 
 style="font-size: 10pt;"><strong>részvételi díj:</strong>&nbsp; 2.000 Ft
  vagy 800 RSD, a részvételi díj a tanfolyami hallgatóknak a tanfolyam d
 íjába számít</span><br /><span style="font-size: 10pt;"><strong>jelentk
 ezés:</strong> írásos előregisztráció kötelező a <span style="text-
 decoration: underline; color: #000080;"><a href="mailto:
 <script language=
 'JavaScript' type='text/javascript'>
 <!--
 var prefix = 'm&#97;&#105;lt&#1
 11;:';
 var suffix = '';
 var attribs = '';
 var path = 'hr' + 'ef' + '=';

  var addy40446 = 'sz&#105;n&#101;sv&#105;l&#97;gs&#117;' + '&#64;';
 addy40
 446 = addy40446 + 'gm&#97;&#105;l' + '&#46;' + 'c&#111;m';
 document.write(
  '<a ' + path + '\'' + prefix + addy40446 + suffix + '\'' + attribs + '>' )
 ;
 document.write( addy40446 );
 document.write( '<\/a>' );
 //-->
 </scrip
 t><script language='JavaScript' type='text/javascript'>
 <!--
 document.wri
 te( '<span style=\'display: none;\'>' );
 //-->
 </script>Ez az email cím 
 védett a spam robotoktól, a megtekintéséhez engedélyezni kell a Javasc
 riptet.
 <script language='JavaScript' type='text/javascript'>
 <!--
 docum
 ent.write( '</' );
 document.write( 'span>' );
 //-->
 </script>" target="_
 blank"><span style="color: #000080; text-decoration: underline;">
 <script 
 language='JavaScript' type='text/javascript'>
 <!--
 var prefix = 'm&#97;&#
 105;lt&#111;:';
 var suffix = '';
 var attribs = '';
 var path = 'hr' + 'ef
 ' + '=';
 var addy86085 = 'sz&#105;n&#101;sv&#105;l&#97;gs&#117;' + '&#64;'
 ;
 addy86085 = addy86085 + 'gm&#97;&#105;l' + '&#46;' + 'c&#111;m';
 docume
 nt.write( '<a ' + path + '\'' + prefix + addy86085 + suffix + '\'' + attrib
 s + '>' );
 document.write( addy86085 );
 document.write( '<\/a>' );
 //-->
 
 </script><script language='JavaScript' type='text/javascript'>
 <!--
 doc
 ument.write( '<span style=\'display: none;\'>' );
 //-->
 </script>Ez az em
 ail cím védett a spam robotoktól, a megtekintéséhez engedélyezni kell
  a Javascriptet.
 <script language='JavaScript' type='text/javascript'>
 <!
 --
 document.write( '</' );
 document.write( 'span>' );
 //-->
 </script></
 span></a></span> e-mail címen</span><br /><span style="font-size: 10pt;"><
 strong>jelentkezési határidő:</strong> nincs megadva</span><br /><br /><
 strong><span style="font-size: 10pt;">tematika:</span></strong><br /><span 
 style="font-size: 10pt;">17:00-19:00 óráig:&nbsp; Mi az új medicina, bio
 logika? Hogyan működnek a betegséglefutások, elmezavarok, viselkedésza
 varok? Mi a testünk logikája? Hogyan szabadulhatunk meg az áttétek, fer
 tőzések, rák, autoimmun betegségektől való félelmektől? Az öt biol
 ógiai természettörvény - Dr. Ryke Geerd Hamer munkássága</span><br />
 <span style="font-size: 10pt;">19:00-20:00 óráig: kérdések - válaszok<
 br /><br /><strong>tananyag:</strong> Biologika Szerv Atlasz</span><br /><s
 pan style="font-size: 10pt;">A Szerv Atlasz megvásárolható a <a href="ht
 tps://webshop.biologika.hu" target="_blank"><span style="text-decoration: u
 nderline; color: #000080;">webshopban</span></a> vagy az előadáson és a 
 tréningen. A Szerv Atlasz jelenleg az egyetlen új medicinás kézikönyv 
 a világon.</span><br /><br /><span style="font-size: 10pt;">Biologika 2 na
 pos alap tréning 2019. május 18-19.-én. A részletekért <a href="icalre
 peat.detail/2019/05/18/4945/tarjanyin-biologika-alap-tanfolyam-12-szabadka-
 szerbia.html" target="_blank"><span style="text-decoration: underline; colo
 r: #000080;">kattints ide</span></a>.<br /><br /><br /></span></p>
CONTACT:
 
 
 
 
 Ez az email cím védett a spam robotoktól, a megtekintéséhez engedélyezni kell a Javascriptet.
 
 
 

DTSTAMP:20260419T211345Z
DTSTART:20190517T150000Z
DTEND:20190517T180000Z
SEQUENCE:0
TRANSP:OPAQUE
END:VEVENT
END:VCALENDAR