BEGIN:VCALENDAR
VERSION:2.0
PRODID:-//jEvents 1.5 for Joomla//EN
BEGIN:VEVENT
CALSCALE:GREGORIAN
METHOD:PUBLISH

UID:09933008580aca6a738bfaae3f0f9ab7
CATEGORIES:Alap szeminÃ¡rium 
SUMMARY:AndocsiV: Biologika alap Ã©s haladÃ³ tanfolyam 1/4 (Szombathely)
LOCATION:Szombathely, szervezÃ©s alatt
DESCRIPTION;ENCODING=QUOTED-PRINTABLE:<p><strong><span style="font-size: 12pt;">BIOLOGIKA (ÃšJ MEDICINA) TRÃ‰NING
 </span></strong><br /><strong><span style="font-size: 12pt;">4 napos ALAP Ã
 ©s HALADÃ“ tanfolyam Szombathelyen</span></strong><br /><span style="font-s
 ize: 10pt;">&nbsp;</span><br /><span style="font-size: 10pt;"><strong>tÃ©ma
 kÃ¶r:</strong> Biologika (Ãºj medicina) trÃ©ning, elvÃ¡ltozÃ¡stan, a megbet
 egedÃ©sek mechanizmusa</span><br /><span style="font-size: 10pt;"><strong>t
 Ã­pus:</strong> intenzÃ­v trÃ©ning, tanfolyam</span><br /><span style="font
 -size: 10pt;"><strong>trÃ©ner: <a href="partnereink/andocsi-valeria.html" t
 arget="_blank"><span style="text-decoration: underline; color: #000080;">An
 docsi ValÃ©ria</span></a></strong></span><br /><span style="font-size: 10pt
 ;"><strong>idÅ‘tartam:</strong> 4 nap, 2019. mÃ¡jus 18-19. Ã©s jÃºnius 1-2.
  10:00-17:00 Ã³rÃ¡ig</span><br /><span style="font-size: 10pt;">&nbsp;&nbsp
 ;&nbsp;&nbsp;&nbsp;&nbsp;&nbsp;&nbsp;&nbsp;&nbsp;&nbsp;&nbsp;&nbsp;&nbsp;&n
 bsp;&nbsp;&nbsp;&nbsp;&nbsp; ebÃ©dszÃ¼net: 13-14 Ã³ra kÃ¶zÃ¶tt</span><br />
 <span style="font-size: 10pt;"><span style="font-size: 10pt;">&nbsp;&nbsp;&
 nbsp;&nbsp;&nbsp;&nbsp;&nbsp;&nbsp;&nbsp;&nbsp;&nbsp;&nbsp;&nbsp;&nbsp;&nbs
 p;&nbsp;&nbsp;&nbsp;&nbsp; </span>kÃ©rdÃ©sek Ã©s vÃ¡laszok: 17-18 Ã³rÃ¡ig</
 span><br /><span style="font-size: 10pt;"><strong>helyszÃ­n:</strong> Szomb
 athely, szervezÃ©s alatt</span><br /><span style="font-size: 10pt;"><strong
 >lÃ©tszÃ¡mkorlÃ¡t:</strong> nincs megadva</span><br /><strong><span style="
 font-size: 10pt;">rÃ©szvÃ©teli dÃ­jak:</span></strong><br /><span style="fo
 nt-size: 10pt;">- FelnÅ‘tt alapÃ¡r (4 nap): 60.000 Ft / fÅ‘ / 4 nap</span><
 br /><span style="font-size: 10pt;">- KorÃ¡nkelÅ‘ kedvezmÃ©ny, aki mÃ¡jus 3
 -ig jelentkezik: 52.000 Ft / 4 nap</span><br /><span style="font-size: 10pt
 ;">- CsalÃ¡dtagok (testvÃ©rek, hÃ¡zaspÃ¡r): 20 % kedvezmÃ©ny: 48.000 Ft / f
 Å‘ / 4 nap</span><br /><span style="font-size: 10pt;">- FelnÅ‘tt 60 Ã©v fel
 ett: 30.000 Ft / fÅ‘ / 4 nap</span><br /><span style="font-size: 10pt;">- F
 elnÅ‘tt, de nappali tagozatos diÃ¡k (18-25 Ã©v kÃ¶zÃ¶tt): 30.000 Ft / fÅ‘ /
  4 nap</span><br /><span style="font-size: 10pt;">- FiatalkorÃº (12-18 Ã©v 
 kÃ¶zÃ¶tt): ingyenes, a rÃ©szvÃ©tel mindÃ¶ssze elÅ‘regisztrÃ¡ciÃ³hoz kÃ¶tÃ¶t
 t.</span><br /><span style="font-size: 10pt;"><strong>jelentkezÃ©s:</strong
 > Ã­rÃ¡sos elÅ‘regisztrÃ¡ciÃ³ kÃ¶telezÅ‘ a <a href="mailto:
 <script langua
 ge='JavaScript' type='text/javascript'>
 <!--
 var prefix = 'm&#97;&#105;lt
 &#111;:';
 var suffix = '';
 var attribs = '';
 var path = 'hr' + 'ef' + '=
 ';
 var addy94749 = 'b&#105;&#111;l&#111;g&#105;k&#97;z&#101;g' + '&#64;';

  addy94749 = addy94749 + 'gm&#97;&#105;l' + '&#46;' + 'c&#111;m';
 document
 .write( '<a ' + path + '\'' + prefix + addy94749 + suffix + '\'' + attribs 
 + '>' );
 document.write( addy94749 );
 document.write( '<\/a>' );
 //-->
 
 </script><script language='JavaScript' type='text/javascript'>
 <!--
 docum
 ent.write( '<span style=\'display: none;\'>' );
 //-->
 </script>Ez az emai
 l cÃ­m vÃ©dett a spam robotoktÃ³l, a megtekintÃ©sÃ©hez engedÃ©lyezni kell a
  Javascriptet.
 <script language='JavaScript' type='text/javascript'>
 <!--
 
 document.write( '</' );
 document.write( 'span>' );
 //-->
 </script>" ta
 rget="_blank"><span style="text-decoration: underline; color: #000080;"><sp
 an style="color: #000080; text-decoration: underline;">
 <script language='
 JavaScript' type='text/javascript'>
 <!--
 var prefix = 'm&#97;&#105;lt&#11
 1;:';
 var suffix = '';
 var attribs = '';
 var path = 'hr' + 'ef' + '=';
 
 var addy10628 = 'b&#105;&#111;l&#111;g&#105;k&#97;z&#101;g' + '&#64;';
 add
 y10628 = addy10628 + 'gm&#97;&#105;l' + '&#46;' + 'c&#111;m';
 document.wri
 te( '<a ' + path + '\'' + prefix + addy10628 + suffix + '\'' + attribs + '>
 ' );
 document.write( addy10628 );
 document.write( '<\/a>' );
 //-->
 </sc
 ript><script language='JavaScript' type='text/javascript'>
 <!--
 document.
 write( '<span style=\'display: none;\'>' );
 //-->
 </script>Ez az email cÃ
 ­m vÃ©dett a spam robotoktÃ³l, a megtekintÃ©sÃ©hez engedÃ©lyezni kell a Jav
 ascriptet.
 <script language='JavaScript' type='text/javascript'>
 <!--
 do
 cument.write( '</' );
 document.write( 'span>' );
 //-->
 </script></span><
 /span></a> e-mail cÃ­men</span><br /><span style="font-size: 10pt;"><strong
 >jelentkezÃ©si hatÃ¡ridÅ‘:</strong> nincs megadva</span><br /><br /><strong
 ><span style="font-size: 10pt;">leÃ­rÃ¡s:</span></strong><br /><span style=
 "font-size: 10pt;">A Dr. Ryke Geerd Hamer (nÃ©met orvos) Ã¡ltal feltÃ¡rt Ã¶
 t biolÃ³giai termÃ©szettÃ¶rvÃ©ny a betegsÃ©gekrÅ‘l alkotott eddigi tudÃ¡sun
 kat nem kiegÃ©szÃ­ti, nem mÃ³dosÃ­tja, hanem teljesen Ãºj alapokra helyezi.
 </span><br /><span style="font-size: 10pt;">A nÃ©gy nap folyamÃ¡n pontosan 
 megtudhatjuk, hogy kÃ¼lsÅ‘ kÃ¶rÃ¼lmÃ©nyeink, lelkiÃ¡llapotunk vÃ¡ltozÃ¡sair
 a hogyan reagÃ¡l szervezetÃ¼nk. Eddig is termÃ©szetes volt, hogy fÃ©lelem h
 atÃ¡sÃ¡ra emelkedik a pulzusunk, veszÃ©lyhelyzetben hirtelen izzadni kezdÃ¼
 nk, szaporÃ¡bb lesz a szÃ­vverÃ©sÃ¼nk, egy mezÃ­telen test â€“ akÃ¡r kÃ©per
 nyÅ‘n keresztÃ¼l is - szexuÃ¡lis izgalmat vÃ¡lt ki bennÃ¼nk.</span><br /><s
 pan style="font-size: 10pt;">De hogyan alakul ki daganat, cukorbetegsÃ©g, m
 agas vÃ©rnyomÃ¡s, magas koleszterin, allergia, bÅ‘rbetegsÃ©gek, csontelvÃ¡l
 tozÃ¡sok, autizmus Ã©s sok mÃ¡s betegsÃ©g?</span><br /><span style="font-si
 ze: 10pt;">Mi a biolÃ³giai Ã©rtelme az olyan Ã©rzelmi kilengÃ©seknek, mint 
 a depressziÃ³, agressziÃ³, pÃ¡nikroham, dÃ¼hroham? Mi a meddÅ‘sÃ©g oka? MiÃ
 ©rt olyan sok a vÃ¡lÃ¡s? Hogyan kerÃ¼lhetjÃ¼k el mindezeket?</span><br /><s
 pan style="font-size: 10pt;">Ez az Ãºj orvostudomÃ¡ny attÃ³l csodÃ¡latos, h
 ogy a gravitÃ¡ciÃ³hoz hasonlÃ³an kiszÃ¡mÃ­thatÃ³, a hÃ©tkÃ¶znapi ember szÃ¡
 mÃ¡ra is Ã©rthetÅ‘vÃ©, ellenÅ‘rizhetÅ‘vÃ© Ã©s alkalmazhatÃ³vÃ¡ vÃ¡lik.<br /
 ><br />A tanfolyam elvÃ©gzÃ©sÃ©hez semmilyen egÃ©szsÃ©gÃ¼gyi elÅ‘kÃ©pzettsÃ
 ©g nem szÃ¼ksÃ©ges.</span><br /><br /><strong><span style="font-size: 10pt;
 ">tematika:<br /></span></strong><strong><span style="font-size: 10pt;">1. 
 nap</span></strong><br /><span style="font-size: 10pt;">Az Ã¶t biolÃ³giai t
 ermÃ©szettÃ¶rvÃ©ny - alapfogalmak</span><br /><span style="font-size: 10pt;
 ">Az agytÃ¶rzs vezÃ©relte mirigyszÃ¶vetes szervek elvÃ¡ltozÃ¡sai</span><br 
 /><span style="font-size: 10pt;">A kÃ¶zÃ©pagy vezÃ©relte simaizomszÃ¶vetek 
 elvÃ¡ltozÃ¡sai (miÃ³mÃ¡k)</span><br /><br /><strong><span style="font-size:
  10pt;">2. nap</span></strong><br /><span style="font-size: 10pt;">A kisagy
  vezÃ©relte szervek elvÃ¡ltozÃ¡sai (hÃ¡rtyaszÃ¶vetek, bÅ‘rirha, tejmirigyek
 )</span><br /><span style="font-size: 10pt;">A velÅ‘Ã¡llomÃ¡ny vezÃ©relte s
 zervek elvÃ¡ltozÃ¡sai Ã©s a valÃ³di cisztÃ¡k</span><br /><span style="font-
 size: 10pt;">KÃ¶tÅ‘szÃ¶vetek, vÃ¡zrendszer</span><br /><span style="font-si
 ze: 10pt;">A szÃ­v elvÃ¡ltozÃ¡sai</span><br /><span style="font-size: 10pt;
 ">VÃ©r- Ã©s nyirokrendszer (leukÃ©mia)</span><br /><span style="font-size: 
 10pt;">Magas vÃ©rnyomÃ¡s (vesekÃ©reg elvÃ¡ltozÃ¡sa)</span><br /><span style
 ="font-size: 10pt;">Here Ã©s petefÃ©szekciszta</span><br /><br /><strong><s
 pan style="font-size: 10pt;">3. nap</span></strong><br /><span style="font-
 size: 10pt;">A kÃ©regÃ¡llomÃ¡ny vezÃ©relte szervek elvÃ¡ltozÃ¡sai</span><br
  /><span style="font-size: 10pt;">FÃ©rfias Ã©s nÅ‘ies hormonÃ¡llapot</span>
 <br /><span style="font-size: 10pt;">FunkciÃ³-kimaradÃ¡sok, bÃ©nulÃ¡sok, cu
 korszint vÃ¡ltozÃ¡sok</span><br /><br /><strong><span style="font-size: 10p
 t;">4. nap</span></strong><br /><span style="font-size: 10pt;">MentÃ¡lis kÃ
 ¼lÃ¶nprogramok</span><br /><span style="font-size: 10pt;">Hangulatzavarok Ã
 ©s elmebajok - a leggyakoribb tÃ¼netek hÃ¡tterÃ©vel.</span><br /><span styl
 e="font-size: 10pt;">(MegzavarodottsÃ¡g, kÃ©nyszeres sÃ©rtegetÃ©s, Ã©rtÃ©kÃ
 ­tÃ©leti zavarok,</span><br /><span style="font-size: 10pt;">mÃ¡nia, depres
 sziÃ³, skizofrÃ©nia, fÃ³biÃ¡k Ã©s paranoiÃ¡k.)<br /><br />Szeretettel vÃ¡ru
 nk mindenkit, aki vÃ¡laszokat szeretne kapni, akinek kÃ©rdÃ©sei vannak!<br 
 /><br />JelentkezÃ©skor add meg:<br /><br />1.) a trÃ©ning nevÃ©t, helyszÃ­
 nÃ©t, idÅ‘pontjÃ¡t</span><br /><span style="font-size: 10pt;">2.) pontos ne
 vedet Ã©s cÃ­medet</span><br /><span style="font-size: 10pt;">3.) mobil szÃ
 ¡modat</span><br /><span style="font-size: 10pt;">4.) e-mail cÃ­medet<br />
 <br /><br /></span></p>
CONTACT:
 
 
 
 
 Ez az email cÃ­m vÃ©dett a spam robotoktÃ³l, a megtekintÃ©sÃ©hez engedÃ©lyezni kell a Javascriptet.
 
 
 , +36 (30) 555 2256

DTSTAMP:20260419T211229Z
DTSTART:20190518T080000Z
DTEND:20190518T160000Z
SEQUENCE:0
TRANSP:OPAQUE
END:VEVENT
END:VCALENDAR