BEGIN:VCALENDAR
VERSION:2.0
PRODID:-//jEvents 1.5 for Joomla//EN
BEGIN:VEVENT
CALSCALE:GREGORIAN
METHOD:PUBLISH

UID:499e21130806baba86a7bf0d4c8a8eda
CATEGORIES:Egyéb kapcsolódó tanfolyam
SUMMARY:TarjányiN: Biologika vizsgára felkészítés és gyakorlati nap 1/1 (Budapest)
LOCATION:Budapest, szervezés alatt
DESCRIPTION;ENCODING=QUOTED-PRINTABLE:<p><strong><span style="font-size: 12pt;">BIOLOGIKA (ÚJ MEDICINA) VIZSGÁR
 A FELKÉSZÍTÉS ÉS GYAKORLATI NAP</span></strong><br /><strong><span styl
 e="font-size: 12pt;">1 napos KORREPETÁLÁS, tanulássegítés, vizsgára f
 elkészítés Budapesten</span></strong><br /><br /><span style="font-size:
  10pt;"><strong>témakör:</strong> biologika tanulás módszertan, írásb
 eli és szóbeli vizsgahelyzet kipróbálása, agyi térképek tanulása, k
 érdések megbeszélése</span><br /><span style="font-size: 10pt;"><strong
 >típus:</strong> intenzív workshop, gyakorlati nap</span><br /><span styl
 e="font-size: 10pt;"><strong>tréner:</strong> <a href="partnereink/tarjany
 i-nanetta.html" target="_blank"><span style="text-decoration: underline; co
 lor: #000080;"><strong>Tarjányi Nanetta</strong></span></a></span><br /><s
 pan style="font-size: 10pt;"><strong>időtartam:</strong> 1 nap, 2019. nove
 mber 21. 10:00-18:00 óráig</span><br /><span style="font-size: 10pt;">&nb
 sp;&nbsp;&nbsp;&nbsp;&nbsp;&nbsp;&nbsp;&nbsp;&nbsp;&nbsp;&nbsp;&nbsp;&nbsp;
 &nbsp;&nbsp;&nbsp;&nbsp;&nbsp; ebédszünet: 13.30-14.30 óráig</span><br 
 /><span style="font-size: 10pt;">&nbsp;&nbsp;&nbsp;&nbsp;&nbsp;&nbsp;&nbsp;
 &nbsp;&nbsp;&nbsp;&nbsp;&nbsp;&nbsp;&nbsp;&nbsp;&nbsp;&nbsp;&nbsp; beszélg
 etés, kérdések: 18:00-19:00 óráig</span><br /><span style="font-size: 
 10pt;"><strong>helyszín:</strong> Budapest, külföldön élők számára 
 skype-os lehetőség lesz adott</span><br /><span style="font-size: 10pt;">
 <strong>bontási lehetőség:</strong> nincs</span><br /><span style="font-
 size: 10pt;"><strong>előfeltétel:</strong> alap és haladó biologika tan
 folyami végzettség bármelyik biologika trénernél</span><br /><span sty
 le="font-size: 10pt;"><strong>létszámkorlát:</strong> 6 fő</span><br />
 <span style="font-size: 10pt;"><strong>részvételi díjak:</strong><br />2
 019. november 19. előtti jelentkezés esetén a részvételi díj: 15.000 
 Ft / fő / 1 nap<br /></span><span style="font-size: 10pt;">2019. november 
 19. utáni jelentkezés esetén a részvételi díj: 18.000 Ft / fő / 1 na
 p<br />Második korrepetáláson résztvevőknek: 10.000 Ft / fő / 1 nap<b
 r /></span><span style="font-size: 10pt;"><span style="font-size: 10pt;"></
 span>Nanettánál négynapos tanfolyamot végzett vagy kétnaposat kétszer
  ismételtek számára: 10.000 Ft / fő / nap</span><br /><span style="font
 -size: 10pt;"><strong>jelentkezés:</strong> írásos előregisztráció k
 telező a <a href="mailto:
 <script language='JavaScript' type='text/javas
 cript'>
 <!--
 var prefix = 'm&#97;&#105;lt&#111;:';
 var suffix = '';
 var
  attribs = '';
 var path = 'hr' + 'ef' + '=';
 var addy29392 = 'n&#97;n&#10
 1;tt&#97;' + '&#64;';
 addy29392 = addy29392 + 'b&#105;&#111;l&#111;g&#105;
 k&#97;' + '&#46;' + 'h&#117;';
 document.write( '<a ' + path + '\'' + prefi
 x + addy29392 + suffix + '\'' + attribs + '>' );
 document.write( addy29392
  );
 document.write( '<\/a>' );
 //-->
 </script><script language='JavaScri
 pt' type='text/javascript'>
 <!--
 document.write( '<span style=\'display: 
 none;\'>' );
 //-->
 </script>Ez az email cím védett a spam robotoktól, 
 a megtekintéséhez engedélyezni kell a Javascriptet.
 <script language='J
 avaScript' type='text/javascript'>
 <!--
 document.write( '</' );
 document
 .write( 'span>' );
 //-->
 </script>" target="_blank"><span style="text-dec
 oration: underline;"><span style="text-decoration: underline;">
 <script la
 nguage='JavaScript' type='text/javascript'>
 <!--
 var prefix = 'm&#97;&#10
 5;lt&#111;:';
 var suffix = '';
 var attribs = '';
 var path = 'hr' + 'ef' 
 + '=';
 var addy9803 = 'n&#97;n&#101;tt&#97;' + '&#64;';
 addy9803 = addy98
 03 + 'b&#105;&#111;l&#111;g&#105;k&#97;' + '&#46;' + 'h&#117;';
 document.w
 rite( '<a ' + path + '\'' + prefix + addy9803 + suffix + '\'' + attribs + '
 >' );
 document.write( addy9803 );
 document.write( '<\/a>' );
 //-->
 </sc
 ript><script language='JavaScript' type='text/javascript'>
 <!--
 document.
 write( '<span style=\'display: none;\'>' );
 //-->
 </script>Ez az email c
 m védett a spam robotoktól, a megtekintéséhez engedélyezni kell a Jav
 ascriptet.
 <script language='JavaScript' type='text/javascript'>
 <!--
 do
 cument.write( '</' );
 document.write( 'span>' );
 //-->
 </script></span><
 /span></a> e-mail címen</span><br /><span style="font-size: 10pt;"><strong
 >jelentkezési határidő:</strong> nincs megadva<br /><br /><strong>leír
 s:</strong></span><br /><span style="font-size: 10pt;">A tanfolyam célja 
 a biologika tanulási folyamatának szakmai segítése, a vizsgára való f
 elkészítés, felmerülő kérdések megválaszolása.</span><br /><span s
 tyle="font-size: 10pt;">Figyelem! A korrepetálásra felkészülés szüks
 ges, a lentebb található szempontok alapján. Házi feladatot kaptok, am
 it a megbeszélt időben ellenőrzök. A Szerv Atlasz folyamatos tanulása,
  a videók hallgatása addig is fontos!<br /><br /><strong>tematika:</stron
 g></span><br /><span style="font-size: 10pt;">A biologika és az adott egy
 n optimális tanulás módszertana, kérdéstípusok buktatói, teszt, tá
 blázat, kifejtős, rajzolós, felsorolós, példák, kivételek, beugrató
 s kérdés lehetőségek.</span><br /><span style="font-size: 10pt;">Szóbe
 li vizsgaszitiáció kipróbálása</span><br /><span style="font-size: 10p
 t;">Kérdéseid megbeszélése<br /><br /><strong>A tanfolyamhoz bíztosít
 juk:</strong></span><br /><span style="font-size: 10pt;">- egy sorvezető, 
 ami segít a tanulásban</span><br /><span style="font-size: 10pt;">- 9:00-
 10:00-ig és 18:00-19:00 óráig a személyesen jelenlévők két-két vizs
 gaszituációval, vagy biologika tanulással kapcsolatos blokkjukat oldhatj
 ák wingwave coachinggal</span><br /><span style="font-size: 10pt;">- házi
  feladatként kapsz egy másfél órás vizsgafeladatsorhoz hasonló felada
 tsort, amin gyakorolhatsz és amit átbeszélünk a javítás után<br /><b
 r />A korrepetálásra kérlek, készülj fel a következőkkel:</span><br 
 /><span style="font-size: 10pt;">1. Írd össze, hogyan szoktál tanulni!</
 span><br /><span style="font-size: 10pt;">a.)időbeosztás: pl.: ha van 10 
 percem, ha buszon ülök, minden nap kicsit, ha van három napom, magamra z
 árva az ajtót stb.</span><br /><span style="font-size: 10pt;">b.) módsze
 r: írok jegyzetet, vázlatot, kidolgozom a tételeket, végigolvasom több
 ször és ami megmarad, hangosan felmondom valakinek</span><br /><span styl
 e="font-size: 10pt;">2. C típusú vizsgások!</span><br /><span style="fon
 t-size: 10pt;">a.) Rajzold le otthon a négy agyi területet a gócokkal (a
 gytörzs, kisagy, agyvelő, agykéreg), jelezd, hogy memorizálás után va
 gy előtt vagy, megnézzük, hogy jól rajzolod-e az arányokat, kamrákat,
  vonalakat, gócokat. Megbeszéljük a támpontokat a jó memorizáláshoz.
  Mutatok agyi felvételeket különböző szögekből, hogy hogy kell elké
 pzelni térben a fejben.</span><br /><span style="font-size: 10pt;">3. Írd
  össze a kérdéseidet!<br /><br /><strong>tananyag:</strong> Biologika Sz
 erv Atlasz. A Szerv Atlasz megvásárolható a tréningen postaköltség n
 lkül illetve előre a <a href="https://webshop.biologika.hu" target="_bla
 nk"><span style="color: #000080;"><strong><span style="text-decoration: und
 erline;">webshopban</span></strong></span></a>.<br /><br />Jelentkezéskor 
 add meg:</span><br /><span style="font-size: 10pt;">1.) a tréning nevét, 
 helyszínét és időpontját</span><br /><span style="font-size: 10pt;">2.
 ) pontos nevedet</span><br /><span style="font-size: 10pt;">3.) mobil szám
 odat</span><br /><span style="font-size: 10pt;">4.) e-mail címedet</span><
 br /><span style="font-size: 10pt;">5.) kedvezmény alapját (ha jogosult v
 agy)<br /><br /><br /></span></p>
CONTACT:
 
 
 
 
 Ez az email cím védett a spam robotoktól, a megtekintéséhez engedélyezni kell a Javascriptet.
 
 
 

DTSTAMP:20260419T215343Z
DTSTART:20191121T090000Z
DTEND:20191121T170000Z
SEQUENCE:0
TRANSP:OPAQUE
END:VEVENT
END:VCALENDAR