BEGIN:VCALENDAR
VERSION:2.0
PRODID:-//jEvents 1.5 for Joomla//EN
BEGIN:VEVENT
CALSCALE:GREGORIAN
METHOD:PUBLISH

UID:f371c1318a664c58f1575057d60f8eae
CATEGORIES:Alap szeminÃ¡rium 
SUMMARY:TarjÃ¡nyiN: Biologika alap tanfolyam 1/2 (Szentendre)
LOCATION:Szentendre, szervezÃ©s alatt
DESCRIPTION;ENCODING=QUOTED-PRINTABLE:<p><strong><span style="font-size: 12pt;">BIOLOGIKA (ÃšJ MEDICINA) TRÃ‰NING
 </span></strong><br /><strong><span style="font-size: 12pt;">2 napos ALAP t
 anfolyam SzentendrÃ©n<br /><br /></span></strong><span style="font-size: 10
 pt;"><strong>tÃ©makÃ¶r:</strong> az agy mÅ±kÃ¶dÃ©se, a tudatszÅ±kÃ¼lÃ©s jel
 ensÃ©ge, tÃºlÃ©lÃ©si dinamikÃ¡k, a Szerv Atlasz hasznÃ¡lata, hormonszint Ã©
 s Ã©letvitel, daganatok, sorvadÃ¡sok Ã©s mÃ¡s elvÃ¡ltozÃ¡sok, biolÃ³giai Ã©
 rtelmÃ¼k, cÃ©ljuk, rendeltetÃ©sÃ¼k Ã©s lefolyÃ¡suk.</span><br /><span style
 ="font-size: 10pt;"><strong>tÃ­pus:</strong> intenzÃ­v trÃ©ning, tanfolyam<
 /span><br /><span style="font-size: 10pt;"><strong>trÃ©ner:</strong> <a hre
 f="partnereink/tarjanyi-nanetta.html" target="_blank"><span style="text-dec
 oration: underline; color: #000080;"><strong>TarjÃ¡nyi Nanetta</strong></sp
 an></a></span><br /><span style="font-size: 10pt;"><strong>idÅ‘tartam:</str
 ong> 2 nap,&nbsp; 2019. jÃºnius 15-16. 10:00-19:00 Ã³rÃ¡ig</span><br /><spa
 n style="font-size: 10pt;">ebÃ©dszÃ¼net: 13:30-14:30 Ã³rÃ¡ig</span><br /><s
 pan style="font-size: 10pt;">kÃ©rdÃ©sek, vÃ¡laszok: 18:00-19:00 Ã³rÃ¡ig</sp
 an><br /><span style="font-size: 10pt;"><strong>helyszÃ­n:</strong> Szenten
 dre, szervezÃ©s alatt, fÃ¼gg a lÃ©tszÃ¡mtÃ³l - tovÃ¡bbi informÃ¡ciÃ³ e-mail
 ben</span><br /><span style="font-size: 10pt;"><strong>bontÃ¡si lehetÅ‘sÃ©g
 :</strong> van</span><br /><span style="font-size: 10pt;"><strong>elÅ‘feltÃ
 ©tel:</strong> <span style="text-decoration: underline;"><a href="https://a
 lapismeretek.biologika.hu" target="_blank"><span style="color: #000080; tex
 t-decoration: underline;">5 biolÃ³giai termÃ©szettÃ¶rvÃ©ny online, ingyenes
  elÅ‘adÃ¡s megtekintÃ©se legalÃ¡bb kÃ©tszer</span></a></span></span><br /><
 span style="font-size: 10pt;"><strong>lÃ©tszÃ¡mkorlÃ¡t:</strong> nincs mega
 dva</span><br /><span style="font-size: 10pt;"><strong>rÃ©szvÃ©teli dÃ­jak:
 </strong> 30.000 Ft / fÅ‘ / 2 nap</span><br /><span style="font-size: 10pt;
 ">ismÃ©tlÅ‘ (csak NanettÃ¡nÃ¡l): 15.000 Ft / 2 nap</span><br /><span style=
 "font-size: 10pt;"><strong>jelentkezÃ©s:</strong> Ã­rÃ¡sos elÅ‘regisztrÃ¡ci
 Ã³ kÃ¶telezÅ‘ a <a href="mailto:
 <script language='JavaScript' type='text/
 javascript'>
 <!--
 var prefix = 'm&#97;&#105;lt&#111;:';
 var suffix = '';
 
 var attribs = '';
 var path = 'hr' + 'ef' + '=';
 var addy94594 = 'n&#97;
 n&#101;tt&#97;' + '&#64;';
 addy94594 = addy94594 + 'b&#105;&#111;l&#111;g&
 #105;k&#97;' + '&#46;' + 'h&#117;';
 document.write( '<a ' + path + '\'' + 
 prefix + addy94594 + suffix + '\'' + attribs + '>' );
 document.write( addy
 94594 );
 document.write( '<\/a>' );
 //-->
 </script><script language='Jav
 aScript' type='text/javascript'>
 <!--
 document.write( '<span style=\'disp
 lay: none;\'>' );
 //-->
 </script>Ez az email cÃ­m vÃ©dett a spam robotokt
 Ã³l, a megtekintÃ©sÃ©hez engedÃ©lyezni kell a Javascriptet.
 <script langua
 ge='JavaScript' type='text/javascript'>
 <!--
 document.write( '</' );
 doc
 ument.write( 'span>' );
 //-->
 </script>" target="_blank"><span style="tex
 t-decoration: underline;"><span style="color: #000080;"><span style="color:
  #000080; text-decoration: underline;">
 <script language='JavaScript' type
 ='text/javascript'>
 <!--
 var prefix = 'm&#97;&#105;lt&#111;:';
 var suffi
 x = '';
 var attribs = '';
 var path = 'hr' + 'ef' + '=';
 var addy1643 = '
 n&#97;n&#101;tt&#97;' + '&#64;';
 addy1643 = addy1643 + 'b&#105;&#111;l&#11
 1;g&#105;k&#97;' + '&#46;' + 'h&#117;';
 document.write( '<a ' + path + '\'
 ' + prefix + addy1643 + suffix + '\'' + attribs + '>' );
 document.write( a
 ddy1643 );
 document.write( '<\/a>' );
 //-->
 </script><script language='J
 avaScript' type='text/javascript'>
 <!--
 document.write( '<span style=\'di
 splay: none;\'>' );
 //-->
 </script>Ez az email cÃ­m vÃ©dett a spam roboto
 ktÃ³l, a megtekintÃ©sÃ©hez engedÃ©lyezni kell a Javascriptet.
 <script lang
 uage='JavaScript' type='text/javascript'>
 <!--
 document.write( '</' );
 d
 ocument.write( 'span>' );
 //-->
 </script></span></span></span></a> e-mail
  cÃ­men</span><br /><span style="font-size: 10pt;"><strong>jelentkezÃ©si ha
 tÃ¡ridÅ‘:</strong> 2019. jÃºnius 14.<br /><br /><strong>leÃ­rÃ¡s:</strong><
 /span><br /><span style="font-size: 10pt;">A tanfolyam cÃ©lja, hogy alapoka
 t adjon a biolÃ³giai termÃ©szettÃ¶rvÃ©nyek megismerÃ©sÃ©hez, a testben leza
 jlÃ³ folyamatok megÃ©rtÃ©sÃ©hez. A biolÃ³gia termÃ©szettÃ¶rvÃ©nyei hitrends
 zerÃ¼nktÅ‘l fÃ¼ggetlenÃ¼l mÅ±kÃ¶dnek, egyÃ©nileg ellenÅ‘rizhetÅ‘ek akÃ¡r vi
 sszamenÅ‘leg is. A tanfolyami ismeretek elsajÃ¡tÃ­tÃ¡sa Ãºj rÃ¡lÃ¡tÃ¡st biz
 tosÃ­t a betegsÃ©gek helyes Ã©rtelmezÃ©sÃ©re. SegÃ­tsÃ©get nyÃºjt megalapoz
 ott dÃ¶ntÃ©seket hozni az egyÃ©n szÃ¡mÃ¡ra sajÃ¡t egÃ©szsÃ©ge Ã©rdekÃ©ben. 
 A biologika ismeretÃ©nek egyik legnagyobb elÅ‘nye, hogy kÃ©pessÃ© vÃ¡lunk a
  komolyabb elvÃ¡ltozÃ¡sok kialakulÃ¡sÃ¡t megakadÃ¡lyozni, a mÃ¡r folyamatba
 n lÃ©vÅ‘ket a legÃ©sszerÅ±bben kezelni.<br /><br />A tanfolyam nem gyÃ³gymÃ
 ³d, nem gyÃ³gyÃ­t, nem kÃ©szÃ­t fel gyÃ³gyÃ­tÃ³ tevÃ©kenysÃ©g vÃ©gzÃ©sÃ©re.
  Az ismeretanyag az Ã¶nmagÃ¡Ã©rt felelÅ‘ssÃ©get vÃ¡llalÃ³ laikusoknak szÃ³l
 . MegÃ©rteni a bennÃ¼k zajlÃ³ Ã©rzelmi Ã©s testi folyamatokat egy Ãºj, minÅ
 ‘sÃ©gibb, Ã¡ltalunk irÃ¡nyÃ­tott Ã©letvitel alapjÃ¡t jelentheti. Megszabadu
 lni hiedelmeinktÅ‘l, fÃ©lelmeinktÅ‘l, betegsÃ©gtudatunktÃ³l egy magunkkal c
 ipelt teher letÃ©telÃ©t jelenti.</span><br /><span style="font-size: 10pt;"
 >A tanfolyam nem csak testi szinten tÃ¡rja fel az elvÃ¡ltozÃ¡sokat, hanem m
 egmutatja lelki szinten is a kivÃ¡ltÃ³ okokat, Ã©rzelmi kilengÃ©seket. A tr
 Ã©ning Barnai Roberto Ã¡ltal kÃ©szÃ­tett Szerv Atlasz tudÃ¡sanyagÃ¡n alapul
 .<br /><br />A kÃ©tnapos alaptanfolyam rendszerszemlÃ©lete, a tovÃ¡bbi tÃ¡j
 Ã©kozÃ³dÃ¡s alapja. KÃ©tszer valÃ³ ismÃ©tlÃ©se elmÃ©lyÃ­ti a tudÃ¡st annyir
 a, hogy a kÃ©tnapos haladÃ³ra alaposan felkÃ©szÃ¼ljÃ¼nk. Ne feledjÃ¼k, nem 
 egy Ãºj ismeretet szerzÃ¼nk, hanem a rÃ©gi, Ã©vtizedeken Ã¡t tartÃ³ rossz b
 eidegzÅ‘dÃ©seket Ã­rjuk Ã¡t! A hallgatÃ³ jegyzetet kap Ã©s a Szerv Atlasz h
 asznÃ¡latÃ¡ba is betekintÃ©st nyer.</span><br /><br /><strong><span style="
 font-size: 10pt;">tematika:<br /></span><span style="font-size: 10pt;">1. n
 ap</span></strong><br /><span style="font-size: 10pt;">Az automatikus agy m
 Å±kÃ¶dÃ©se</span><br /><span style="font-size: 10pt;">Az Ã¶t biolÃ³giai ter
 mÃ©szettÃ¶rvÃ©ny - Dr. Ryke Geerd Hamer munkÃ¡ssÃ¡ga</span><br /><span styl
 e="font-size: 10pt;">Barnai Roberto: Biologika Szerv Atlasz felÃ©pÃ­tÃ©se Ã
 ©s hasznÃ¡lata, tovÃ¡bbi szakirodalom Ã©s tÃ¡jÃ©kozÃ³dÃ¡si pontok<br /><br 
 /></span><strong><span style="font-size: 10pt;">2. nap</span></strong><br /
 ><span style="font-size: 10pt;">Fontosabb biolÃ³giai elvÃ¡ltozÃ¡sok, betegs
 Ã©glefutÃ¡sok</span><br /><span style="font-size: 10pt;">Elmezavarok<br /><
 br /><strong>tananyag:</strong> Biologika Szerv Atlasz</span><br /><span st
 yle="font-size: 10pt;">Roberto elÅ‘adÃ¡sainak prezentÃ¡ciÃ³s anyaga az Ãºj 
 medicina kÃ©zikÃ¶nyvÃ©vÃ© nÅ‘tte ki magÃ¡t. A Szerv Atlasz megvÃ¡sÃ¡rolhatÃ
 ³ a <a href="https://webshop.biologika.hu" target="_blank"><span style="tex
 t-decoration: underline; color: #000080;"><strong>webshopban</strong></span
 ></a>, vagy a trÃ©ningen. A Szerv Atlasz jelenleg az egyetlen Ãºj medicinÃ¡
 s kÃ©zikÃ¶nyv a vilÃ¡gon.<br /><br />JelentkezÃ©skor add meg:</span><br /><
 span style="font-size: 10pt;">1.) a trÃ©ning nevÃ©t, helyszÃ­nÃ©t Ã©s idÅ‘p
 ontjÃ¡t</span><br /><span style="font-size: 10pt;">2.) pontos nevedet</span
 ><br /><span style="font-size: 10pt;">3.) mobil szÃ¡modat</span><br /><span
  style="font-size: 10pt;">4.) e-mail cÃ­medet</span><br /><span style="font
 -size: 10pt;">5.) kedvezmÃ©ny alapjÃ¡t (ha jogosult vagy)</span></p><p><br 
 /><span style="font-size: 10pt;">HaladÃ³ tanfolyam SzentendrÃ©n 2019. jÃºni
 us 29-30.</span><br /><span style="font-size: 10pt;">tematika:</span><br />
 <span style="font-size: 10pt;">1. nap</span><br /><span style="font-size: 1
 0pt;">A tudat lezÃ¡rÃ³ funkciÃ³jÃ¡nak elkerÃ¼lÃ©se</span><br /><span style=
 "font-size: 10pt;">A biolÃ³giai elvÃ¡ltozÃ¡sok rÃ©szletesen</span></p><p><s
 pan style="font-size: 10pt;">2. nap</span><br /><span style="font-size: 10p
 t;">MentÃ¡lis kÃ¼lÃ¶nprogramok</span><br /><span style="font-size: 10pt;">H
 angulatzavarok Ã©s elmebajok - a leggyakoribb tÃ¼netek hÃ¡tterÃ©vel. (Megza
 varodottsÃ¡g, kÃ©nyszeres sÃ©rtegetÃ©s, Ã©rtÃ©kÃ­tÃ©leti zavarok, mÃ¡nia, d
 epressziÃ³, skizofrÃ©nia, fÃ³biÃ¡k Ã©s paranoiÃ¡k)</span></p><p><br /><span
  style="font-size: 10pt;">TovÃ¡bbi programok (tanfolyam, konzultÃ¡ciÃ³): Zi
 lahon, MarosvÃ¡sÃ¡rhelyen: a BBSLife honlapjÃ¡n Ã©s facebook oldalÃ¡n:</spa
 n><br /><a href="https://www.facebook.com/BBSLife-590093897763401/events" t
 arget="_blank"><span style="text-decoration: underline;"><span style="font-
 size: 10pt;">https://www.facebook.com/BBSLife-590093897763401/events</span>
 </span></a></p>
CONTACT:
 
 
 
 
 Ez az email cÃ­m vÃ©dett a spam robotoktÃ³l, a megtekintÃ©sÃ©hez engedÃ©lyezni kell a Javascriptet.
 
 
 

DTSTAMP:20260422T152348Z
DTSTART:20190615T080000Z
DTEND:20190615T170000Z
SEQUENCE:0
TRANSP:OPAQUE
END:VEVENT
END:VCALENDAR