BEGIN:VCALENDAR
VERSION:2.0
PRODID:-//jEvents 1.5 for Joomla//EN
BEGIN:VEVENT
CALSCALE:GREGORIAN
METHOD:PUBLISH

UID:8a971518142ec2fcbf42ee6ec9811744
CATEGORIES:Alap szeminárium 
SUMMARY:TarjányiN: Biologika alap tanfolyam 1/2 (Szabadka, Szerbia)
LOCATION:Szabadka (Szerbia), szervezés alatt
DESCRIPTION;ENCODING=QUOTED-PRINTABLE:<p><strong><span style="font-size: 12pt;">BIOLOGIKA (ÚJ MEDICINA) TRÉNING
 </span></strong><br /><strong><span style="font-size: 12pt;">2 napos ALAP t
 anfolyam Szabadkán</span></strong><br /><strong><span style="font-size: 12
 pt;">Magyar és Szerb nyelven</span></strong><br /><span style="font-size: 
 10pt;">&nbsp;</span><br /><span style="font-size: 10pt;"><strong>témakör:
 </strong> az agy működése, a tudatszűkülés jelensége, túlélési di
 namikák, a Szerv Atlasz használata, hormonszint és életvitel, daganatok
 , sorvadások és más elváltozások, biológiai értelmük, céljuk, rend
 eltetésük és lefolyásuk.</span><br /><span style="font-size: 10pt;"><st
 rong>típus:</strong> intenzív tréning, tanfolyam</span><br /><span style
 ="font-size: 10pt;"><strong>tréner:</strong> <a href="partnereink/tarjanyi
 -nanetta.html" target="_blank"><span style="text-decoration: underline; col
 or: #000080;"><strong>Tarjányi Nanetta</strong></span></a></span><br /><sp
 an style="font-size: 10pt;"><strong>időtartam:</strong> 2 nap,&nbsp; 2019.
  május 18-19. 10:00-19:00 óráig</span><br /><span style="font-size: 10pt
 ;">&nbsp;&nbsp;&nbsp;&nbsp;&nbsp;&nbsp;&nbsp;&nbsp;&nbsp;&nbsp;&nbsp;&nbsp;
 &nbsp;&nbsp;&nbsp;&nbsp;&nbsp;&nbsp;&nbsp; ebédszünet: 13:30-14:30 órái
 g</span><br /><span style="font-size: 10pt;"><span style="font-size: 10pt;"
 >&nbsp;&nbsp;&nbsp;&nbsp;&nbsp;&nbsp;&nbsp;&nbsp;&nbsp;&nbsp;&nbsp;&nbsp;&n
 bsp;&nbsp;&nbsp;&nbsp;&nbsp;&nbsp;&nbsp; </span>kérdések, válaszok: 18:0
 0-19:00 óráig</span><br /><span style="font-size: 10pt;"><strong>helyszí
 n:</strong> Szabadka, szervezés alatt, függ a létszámtól - további in
 formáció e-mailben</span><br /><span style="font-size: 10pt;"><strong>bon
 tási lehetőség:</strong> nincs</span><br /><span style="font-size: 10pt;
 "><strong>előfeltétel:</strong> <a href="https://alapismeretek.biologika.
 hu" target="_blank"><span style="text-decoration: underline; color: #000080
 ;">5 biológiai természettörvény online, ingyenes előadás megtekintés
 e legalább kétszer</span></a></span><br /><span style="font-size: 10pt;">
 <strong>nyelv:</strong> magyarul szerb fordítással</span><br /><span styl
 e="font-size: 10pt;"><strong>létszámkorlát:</strong> nincs megadva</span
 ><br /><span style="font-size: 10pt;"><strong>részvételi díjak:</strong>
 &nbsp; 36.000 Ft / fő / 2 nap vagy 13.900 RSD / fő / 2 nap</span><br /><s
 pan style="font-size: 10pt;">&nbsp;&nbsp;&nbsp;&nbsp;&nbsp;&nbsp;&nbsp;&nbs
 p;&nbsp;&nbsp;&nbsp;&nbsp;&nbsp;&nbsp;&nbsp; 2019. május 15-ig való jelen
 tkezés esetén: 30.000 Ft / fő / 2 nap vagy 11.500 RSD / fő / 2 nap</spa
 n><br /><span style="font-size: 10pt;"><span style="font-size: 10pt;">&nbsp
 ;&nbsp;&nbsp;&nbsp;&nbsp;&nbsp;&nbsp;&nbsp;&nbsp;&nbsp;&nbsp;&nbsp;&nbsp;&n
 bsp;&nbsp; </span>2019. május 17-i bevezető előadás résztvevői szám
 ra: 30.000 Ft / fő / 2 nap vagy 11.500 RSD / fő / 2 nap</span><br /><spa
 n style="font-size: 10pt;"><span style="font-size: 10pt;">&nbsp;&nbsp;&nbsp
 ;&nbsp;&nbsp;&nbsp;&nbsp;&nbsp;&nbsp;&nbsp;&nbsp;&nbsp;&nbsp;&nbsp;&nbsp; <
 /span>ismétlő (csak Nanettánál): 15.000 Ft / 2 nap vagy 5.750 RSD / fő
  / 2 nap</span><br /><span style="font-size: 10pt;"><strong>jelentkezés:</
 strong> írásos előregisztráció kötelező a <a href="mailto:
 <script 
 language='JavaScript' type='text/javascript'>
 <!--
 var prefix = 'm&#97;&#
 105;lt&#111;:';
 var suffix = '';
 var attribs = '';
 var path = 'hr' + 'ef
 ' + '=';
 var addy8015 = 'sz&#105;n&#101;sv&#105;l&#97;gs&#117;' + '&#64;';
 
 addy8015 = addy8015 + 'gm&#97;&#105;l' + '&#46;' + 'c&#111;m';
 document.
 write( '<a ' + path + '\'' + prefix + addy8015 + suffix + '\'' + attribs + 
 '>' );
 document.write( addy8015 );
 document.write( '<\/a>' );
 //-->
 </s
 cript><script language='JavaScript' type='text/javascript'>
 <!--
 document
 .write( '<span style=\'display: none;\'>' );
 //-->
 </script>Ez az email c
 ím védett a spam robotoktól, a megtekintéséhez engedélyezni kell a Ja
 vascriptet.
 <script language='JavaScript' type='text/javascript'>
 <!--
 d
 ocument.write( '</' );
 document.write( 'span>' );
 //-->
 </script>" targe
 t="_blank"><span style="text-decoration: underline; color: #000080;"><span 
 style="color: #000080; text-decoration: underline;">
 <script language='Jav
 aScript' type='text/javascript'>
 <!--
 var prefix = 'm&#97;&#105;lt&#111;:
 ';
 var suffix = '';
 var attribs = '';
 var path = 'hr' + 'ef' + '=';
 var
  addy99475 = 'sz&#105;n&#101;sv&#105;l&#97;gs&#117;' + '&#64;';
 addy99475 
 = addy99475 + 'gm&#97;&#105;l' + '&#46;' + 'c&#111;m';
 document.write( '<a
  ' + path + '\'' + prefix + addy99475 + suffix + '\'' + attribs + '>' );
 d
 ocument.write( addy99475 );
 document.write( '<\/a>' );
 //-->
 </script><s
 cript language='JavaScript' type='text/javascript'>
 <!--
 document.write( 
 '<span style=\'display: none;\'>' );
 //-->
 </script>Ez az email cím véd
 ett a spam robotoktól, a megtekintéséhez engedélyezni kell a Javascript
 et.
 <script language='JavaScript' type='text/javascript'>
 <!--
 document.
 write( '</' );
 document.write( 'span>' );
 //-->
 </script></span></span><
 /a> e-mail címen</span><br /><span style="font-size: 10pt;"><strong>jelent
 kezési határidő:</strong> 2019. május 15.</span><br /><br /><strong><sp
 an style="font-size: 10pt;">leírás:</span></strong><br /><span style="fon
 t-size: 10pt;">A tanfolyam célja, hogy alapokat adjon a biológiai termés
 zettörvények megismeréséhez, a testben lezajló folyamatok megértésé
 hez. A biológia természettörvényei hitrendszerünktől függetlenül m
 ködnek, egyénileg ellenőrizhetőek akár visszamenőleg is. A tanfolyam
 i ismeretek elsajátítása új rálátást biztosít a betegségek helyes 
 értelmezésére. Segítséget nyújt megalapozott döntéseket hozni az eg
 yén számára saját egészsége érdekében. A biologika ismeretének egy
 ik legnagyobb előnye, hogy képessé válunk a komolyabb elváltozások ki
 alakulását megakadályozni, a már folyamatban lévőket a legésszerűbb
 en kezelni.<br /><br />A tanfolyam nem gyógymód, nem gyógyít, nem kész
 ít fel gyógyító tevékenység végzésére. Az ismeretanyag az önmagá
 ért felelősséget vállaló laikusoknak szól. Megérteni a bennük zajl
  érzelmi és testi folyamatokat egy új, minőségibb, általunk irányí
 tott életvitel alapját jelentheti. Megszabadulni hiedelmeinktől, félelm
 einktől, betegségtudatunktól egy magunkkal cipelt teher letételét jele
 nti.</span><br /><span style="font-size: 10pt;">A tanfolyam nem csak testi 
 szinten tárja fel az elváltozásokat, hanem megmutatja lelki szinten is a
  kiváltó okokat, érzelmi kilengéseket. A tréning Barnai Roberto által
  készített Szerv Atlasz tudásanyagán alapul.<br /><br />A kétnapos ala
 ptanfolyam rendszerszemlélete, a további tájékozódás alapja. Kétszer
  való ismétlése elmélyíti a tudást annyira, hogy a kétnapos haladór
 a alaposan felkészüljünk. Ne feledjük, nem egy új ismeretet szerzünk,
  hanem a régi, évtizedeken át tartó rossz beidegződéseket írjuk át!
 </span><br /><br /><strong><span style="font-size: 10pt;">tematika:</span><
 /strong><br /><span style="font-size: 10pt;">0. nap</span><br /><span style
 ="font-size: 10pt;">(május 17-e, 17:00 órától 19:30-ig)</span><br /><sp
 an style="font-size: 10pt;">Az öt biológiai természettörvény - Dr. Ryk
 e Geerd Hamer munkássága 17:00-19:00 óráig</span><br /><span style="fon
 t-size: 10pt;">19:00-19:30 kérdések</span><br /><br /><strong><span style
 ="font-size: 10pt;">1. nap</span></strong><br /><span style="font-size: 10p
 t;">(május 18. 10:00-19:00 óráig)</span><br /><span style="font-size: 10
 pt;">Az automatikus agy működése, a biologika alapjai</span><br /><span 
 style="font-size: 10pt;">Az öt biológiai természettörvény - Dr. Ryke G
 eerd Hamer munkássága (ismétlés)</span><br /><span style="font-size: 10
 pt;">Hormonállapotok, a kezűség fontossága</span><br /><span style="fon
 t-size: 10pt;">Barnai Roberto: Biologika Szerv Atlasz felépítése és has
 ználata (amennyiben igény van rá), további</span><br /><span style="fon
 t-size: 10pt;">szakirodalom és tájékozódási pontok</span><br /><br /><
 strong><span style="font-size: 10pt;">2. nap</span></strong><br /><span sty
 le="font-size: 10pt;">(május 19. 10:00-18:00 óráig)</span><br /><span st
 yle="font-size: 10pt;">Fontosabb biológiai elváltozások, betegséglefut
 sok</span><br /><span style="font-size: 10pt;">Hormonállapotok, a kezűs
 g fontossága</span><br /><span style="font-size: 10pt;">Elmezavarok érin
 tőlegesen</span><br /><br /><span style="font-size: 10pt;"><strong>tananya
 g:</strong> Biologika Szerv Atlasz</span><br /><span style="font-size: 10pt
 ;">Roberto előadásainak prezentációs anyaga az új medicina kézikönyv
 évé nőtte ki magát.</span><br /><span style="font-size: 10pt;">A Szerv 
 Atlasz megvásárolható a <a href="https://webshop.biologika.hu" target="_
 blank"><span style="text-decoration: underline; color: #000080;">webshopban
 </span></a> vagy a tréningen. A Szerv Atlasz jelenleg az egyetlen új medi
 cinás kézikönyv a világon.</span><br /><span style="font-size: 10pt;">A
  Szerv Atlasz megvásárlása nem feltétele a tanfolyamnak, de nagyon hasz
 nos minden családban!</span><br /><span style="font-size: 10pt;">Aki 2019.
  május 15-ig jelzi a Szerv Atlasz igényét, annak garantáltan viszünk. 
 A Szerv Atlasz ára: 20.000 Ft vagy 7.700 RSD.<br /><br />A tanfolyamhoz ma
 gyar és szerb nyelvű jegyzetet biztosÍtunk.<br /><br />+ 2 nap: 2019. m
 jus 20-21. 10:00-20:00 óráig konzultációk</span><br /><span style="fon
 t-size: 10pt;">konzultációra jelentkezés: Mészáros Anikónál a <br />
  <a href="mailto:
 <script language='JavaScript' type='text/javascript'>
 <
 !--
 var prefix = 'm&#97;&#105;lt&#111;:';
 var suffix = '';
 var attribs =
  '';
 var path = 'hr' + 'ef' + '=';
 var addy96792 = 'sz&#105;n&#101;sv&#10
 5;l&#97;gs&#117;' + '&#64;';
 addy96792 = addy96792 + 'gm&#97;&#105;l' + '&
 #46;' + 'c&#111;m';
 document.write( '<a ' + path + '\'' + prefix + addy967
 92 + suffix + '\'' + attribs + '>' );
 document.write( addy96792 );
 docume
 nt.write( '<\/a>' );
 //-->
 </script><script language='JavaScript' type='t
 ext/javascript'>
 <!--
 document.write( '<span style=\'display: none;\'>' )
 ;
 //-->
 </script>Ez az email cím védett a spam robotoktól, a megtekint
 éséhez engedélyezni kell a Javascriptet.
 <script language='JavaScript' 
 type='text/javascript'>
 <!--
 document.write( '</' );
 document.write( 'sp
 an>' );
 //-->
 </script>" target="_blank"><span style="text-decoration: un
 derline; color: #000080;"><span style="color: #000080; text-decoration: und
 erline;">
 <script language='JavaScript' type='text/javascript'>
 <!--
 var
  prefix = 'm&#97;&#105;lt&#111;:';
 var suffix = '';
 var attribs = '';
 va
 r path = 'hr' + 'ef' + '=';
 var addy92912 = 'sz&#105;n&#101;sv&#105;l&#97;
 gs&#117;' + '&#64;';
 addy92912 = addy92912 + 'gm&#97;&#105;l' + '&#46;' + 
 'c&#111;m';
 document.write( '<a ' + path + '\'' + prefix + addy92912 + suf
 fix + '\'' + attribs + '>' );
 document.write( addy92912 );
 document.write
 ( '<\/a>' );
 //-->
 </script><script language='JavaScript' type='text/java
 script'>
 <!--
 document.write( '<span style=\'display: none;\'>' );
 //-->
 
 </script>Ez az email cím védett a spam robotoktól, a megtekintéséhez
  engedélyezni kell a Javascriptet.
 <script language='JavaScript' type='te
 xt/javascript'>
 <!--
 document.write( '</' );
 document.write( 'span>' );

  //-->
 </script></span></span></a><span style="color: #000080;"><span styl
 e="color: #000080;"> </span></span></span><span style="font-size: 10pt;">e-
 mail címen vagy a +381 (64) 23 11 926 telefonszámon<br /> a konzultáció
  2 órás,a konzultáció ára: 15.000 Ft vagy 6000 RSD</span></p><p><br />
 <span style="font-size: 10pt;">Jelentkezéskor add meg:</span><br /><span s
 tyle="font-size: 10pt;">1.) a tréning nevét, helyszínét és időpontjá
 t</span><br /><span style="font-size: 10pt;">2.) pontos nevedet</span><br /
 ><span style="font-size: 10pt;">3.) mobil számodat</span><br /><span style
 ="font-size: 10pt;">4.) e-mail címedet</span><br /><span style="font-size:
  10pt;">5.) kedvezmény alapját (ha jogosult vagy)<br /><br /><br /></span
 ></p>
CONTACT:Mészáros Anikó: 
 
 
 
 
 Ez az email cím védett a spam robotoktól, a megtekintéséhez engedélyezni kell a Javascriptet.
 
 
   +381 (64) 23 11 926

DTSTAMP:20260419T232014Z
DTSTART:20190518T080000Z
DTEND:20190518T170000Z
SEQUENCE:0
TRANSP:OPAQUE
END:VEVENT
END:VCALENDAR