BEGIN:VCALENDAR
VERSION:2.0
PRODID:-//jEvents 1.5 for Joomla//EN
BEGIN:VEVENT
CALSCALE:GREGORIAN
METHOD:PUBLISH

UID:653852cbbb582cd6738d1746739de926
CATEGORIES:Egyéb kapcsolódó tanfolyam
SUMMARY:TarjányiN: Biologika vizsgára felkészítés és gyakorlati nap 1/1 (Szentendre)
LOCATION:Szentendre, szervezés alatt
DESCRIPTION;ENCODING=QUOTED-PRINTABLE:<p><strong><span style="font-size: 12pt;">BIOLOGIKA (ÚJ MEDICINA) VIZSGÁR
 A FELKÉSZÍTÉS ÉS GYAKORLATI NAP</span></strong><br /><strong><span styl
 e="font-size: 12pt;">1 napos KORREPETÁLÁS, tanulássegítés, vizsgára f
 elkészítés Szentendrén</span></strong><br /><br /><span style="font-siz
 e: 10pt;"><strong>témakör:</strong> biologika tanulás módszertan, írá
 sbeli és szóbeli vizsgahelyzet kipróbálása, agyi térképek tanulása,
  kérdések megbeszélése</span><br /><span style="font-size: 10pt;"><stro
 ng>típus:</strong> intenzív workshop, gyakorlati nap</span><br /><span st
 yle="font-size: 10pt;"><strong>tréner:</strong> <a href="partnereink/tarja
 nyi-nanetta.html" target="_blank"><span style="text-decoration: underline; 
 color: #000080;"><strong>Tarjányi Nanetta</strong></span></a></span><br />
 <span style="font-size: 10pt;"><strong>időtartam:</strong> 1 nap, 2019. sz
 eptember 3. 10:00-18:00 óráig</span><br /><span style="font-size: 10pt;">
 &nbsp;&nbsp;&nbsp;&nbsp;&nbsp;&nbsp;&nbsp;&nbsp;&nbsp;&nbsp;&nbsp;&nbsp;&nb
 sp;&nbsp;&nbsp;&nbsp;&nbsp;&nbsp; ebédszünet: 13.30-14.30 óráig</span><
 br /><span style="font-size: 10pt;">&nbsp;&nbsp;&nbsp;&nbsp;&nbsp;&nbsp;&nb
 sp;&nbsp;&nbsp;&nbsp;&nbsp;&nbsp;&nbsp;&nbsp;&nbsp;&nbsp;&nbsp;&nbsp; besz
 lgetés, kérdések: 18:00-19:00 óráig</span><br /><span style="font-siz
 e: 10pt;"><strong>helyszín:</strong> Szentendre, külföldön élők szám
 ára skype-os lehetőség lesz adott</span><br /><span style="font-size: 10
 pt;"><strong>bontási lehetőség:</strong> nincs</span><br /><span style="
 font-size: 10pt;"><strong>előfeltétel:</strong> alap és haladó biologik
 a tanfolyami végzettség bármelyik biologika trénernél</span><br /><spa
 n style="font-size: 10pt;"><strong>létszámkorlát:</strong> 6 fő</span><
 br /><span style="font-size: 10pt;"><strong>részvételi díjak:</strong><b
 r />2019. augusztus 31. előtti jelentkezés esetén a részvételi díj: 1
 5.000 Ft / fő / 1 nap<br /></span><span style="font-size: 10pt;">2019. aug
 usztus 31. utáni jelentkezés esetén a részvételi díj: 18.000 Ft / fő
  / 1 nap<br />Második korrepetáláson résztvevőknek: 10.000 Ft / fő / 
 1 nap<br /></span><span style="font-size: 10pt;"><span style="font-size: 10
 pt;"></span>Nanettánál négynapos tanfolyamot végzett vagy kétnaposat k
 étszer ismételtek számára: 10.000 Ft / fő / nap</span><br /><span styl
 e="font-size: 10pt;"><strong>jelentkezés:</strong> írásos előregisztrá
 ció kötelező a <a href="mailto:
 <script language='JavaScript' type='tex
 t/javascript'>
 <!--
 var prefix = 'm&#97;&#105;lt&#111;:';
 var suffix = '
 ';
 var attribs = '';
 var path = 'hr' + 'ef' + '=';
 var addy1617 = 'n&#97
 ;n&#101;tt&#97;' + '&#64;';
 addy1617 = addy1617 + 'b&#105;&#111;l&#111;g&#
 105;k&#97;' + '&#46;' + 'h&#117;';
 document.write( '<a ' + path + '\'' + p
 refix + addy1617 + suffix + '\'' + attribs + '>' );
 document.write( addy16
 17 );
 document.write( '<\/a>' );
 //-->
 </script><script language='JavaSc
 ript' type='text/javascript'>
 <!--
 document.write( '<span style=\'display
 : none;\'>' );
 //-->
 </script>Ez az email cím védett a spam robotoktól
 , a megtekintéséhez engedélyezni kell a Javascriptet.
 <script language=
 'JavaScript' type='text/javascript'>
 <!--
 document.write( '</' );
 docume
 nt.write( 'span>' );
 //-->
 </script>" target="_blank"><span style="text-d
 ecoration: underline; color: #000080;"><span style="color: #000080; text-de
 coration: underline;">
 <script language='JavaScript' type='text/javascript
 '>
 <!--
 var prefix = 'm&#97;&#105;lt&#111;:';
 var suffix = '';
 var attr
 ibs = '';
 var path = 'hr' + 'ef' + '=';
 var addy38653 = 'n&#97;n&#101;tt&
 #97;' + '&#64;';
 addy38653 = addy38653 + 'b&#105;&#111;l&#111;g&#105;k&#97
 ;' + '&#46;' + 'h&#117;';
 document.write( '<a ' + path + '\'' + prefix + a
 ddy38653 + suffix + '\'' + attribs + '>' );
 document.write( addy38653 );
 
 document.write( '<\/a>' );
 //-->
 </script><script language='JavaScript' t
 ype='text/javascript'>
 <!--
 document.write( '<span style=\'display: none;
 \'>' );
 //-->
 </script>Ez az email cím védett a spam robotoktól, a meg
 tekintéséhez engedélyezni kell a Javascriptet.
 <script language='JavaSc
 ript' type='text/javascript'>
 <!--
 document.write( '</' );
 document.writ
 e( 'span>' );
 //-->
 </script></span></span></a> e-mail címen</span><br /
 ><span style="font-size: 10pt;"><strong>jelentkezési határidő:</strong> 
 nincs megadva<br /><br /><strong>leírás:</strong></span><br /><span style
 ="font-size: 10pt;">A tanfolyam célja a biologika tanulási folyamatának 
 szakmai segítése, a vizsgára való felkészítés, felmerülő kérdése
 k megválaszolása.</span><br /><span style="font-size: 10pt;">Figyelem! A 
 korrepetálásra felkészülés szükséges, a lentebb található szempont
 ok alapján. Házi feladatot kaptok, amit a megbeszélt időben ellenőrzö
 k. A Szerv Atlasz folyamatos tanulása, a videók hallgatása addig is font
 os!<br /><br /><strong>tematika:</strong></span><br /><span style="font-siz
 e: 10pt;">A biologika és az adott egyén optimális tanulás módszertana,
  kérdéstípusok buktatói, teszt, táblázat, kifejtős, rajzolós, felso
 rolós, példák, kivételek, beugratós kérdés lehetőségek.</span><br 
 /><span style="font-size: 10pt;">Szóbeli vizsgaszitiáció kipróbálása<
 /span><br /><span style="font-size: 10pt;">Kérdéseid megbeszélése<br />
 <br /><strong>A tanfolyamhoz bíztosítjuk:</strong></span><br /><span styl
 e="font-size: 10pt;">- egy sorvezető, ami segít a tanulásban</span><br /
 ><span style="font-size: 10pt;">- 9:00-10:00-ig és 18:00-19:00 óráig a s
 zemélyesen jelenlévők két-két vizsgaszituációval, vagy biologika tan
 ulással kapcsolatos blokkjukat oldhatják wingwave coachinggal</span><br /
 ><span style="font-size: 10pt;">- házi feladatként kapsz egy másfél ór
 ás vizsgafeladatsorhoz hasonló feladatsort, amin gyakorolhatsz és amit 
 tbeszélünk a javítás után<br /><br />A korrepetálásra kérlek, kés
 zülj fel a következőkkel:</span><br /><span style="font-size: 10pt;">1. 
 Írd össze, hogyan szoktál tanulni!</span><br /><span style="font-size: 1
 0pt;">a.)időbeosztás: pl.: ha van 10 percem, ha buszon ülök, minden nap
  kicsit, ha van három napom, magamra zárva az ajtót stb.</span><br /><sp
 an style="font-size: 10pt;">b.) módszer: írok jegyzetet, vázlatot, kidol
 gozom a tételeket, végigolvasom többször és ami megmarad, hangosan fel
 mondom valakinek</span><br /><span style="font-size: 10pt;">2. C típusú v
 izsgások!</span><br /><span style="font-size: 10pt;">a.) Rajzold le otthon
  a négy agyi területet a gócokkal (agytörzs, kisagy, agyvelő, agykére
 g), jelezd, hogy memorizálás után vagy előtt vagy, megnézzük, hogy j
 l rajzolod-e az arányokat, kamrákat, vonalakat, gócokat. Megbeszéljük
  a támpontokat a jó memorizáláshoz. Mutatok agyi felvételeket különb
 öző szögekből, hogy hogy kell elképzelni térben a fejben.</span><br /
 ><span style="font-size: 10pt;">3. Írd össze a kérdéseidet!<br /><br />
 <strong>tananyag:</strong> Biologika Szerv Atlasz. A Szerv Atlasz megvásá
 rolható a tréningen postaköltség nélkül illetve előre a <a href="htt
 ps://webshop.biologika.hu" target="_blank"><span style="color: #000080;"><s
 trong><span style="text-decoration: underline;">webshopban</span></strong><
 /span></a>.<br /><br />Jelentkezéskor add meg:</span><br /><span style="fo
 nt-size: 10pt;">1.) a tréning nevét, helyszínét és időpontját</span>
 <br /><span style="font-size: 10pt;">2.) pontos nevedet</span><br /><span s
 tyle="font-size: 10pt;">3.) mobil számodat</span><br /><span style="font-s
 ize: 10pt;">4.) e-mail címedet</span><br /><span style="font-size: 10pt;">
 5.) kedvezmény alapját (ha jogosult vagy)<br /><br /><br /></span></p>
CONTACT:
 
 
 
 
 Ez az email cím védett a spam robotoktól, a megtekintéséhez engedélyezni kell a Javascriptet.
 
 
 

DTSTAMP:20260419T134241Z
DTSTART:20190903T080000Z
DTEND:20190903T160000Z
SEQUENCE:0
TRANSP:OPAQUE
END:VEVENT
END:VCALENDAR