BEGIN:VCALENDAR
VERSION:2.0
PRODID:-//jEvents 1.5 for Joomla//EN
BEGIN:VEVENT
CALSCALE:GREGORIAN
METHOD:PUBLISH

UID:8d8a4b48d054b390d0552a2456aed66d
CATEGORIES:Nyilvános összejövetel
SUMMARY:LengyelZs:Szerelem életre-halálra a Biologika tükrében (Dietikon,Svájc)
LOCATION:Costa-Blanca-Mediterrana 8953 Svájc, Dietikon, Poststrasse 2.
DESCRIPTION;ENCODING=QUOTED-PRINTABLE:<p><strong><span style="font-size: 12pt;">SZERELEM ÉLETRE - HALÁLRA</span
 ></strong><br /><strong><span style="font-size: 12pt;">1 napos esemény –
  SVÁJC, DIETIKON</span></strong><br /><span style="font-size: 10pt;">&nbsp
 ;</span><br /><span style="font-size: 10pt;"><strong>Témakör:</strong> P
 rkapcsolat és szex a Biologika tükrében. Szerelem életre-halálra.</sp
 an><br /><span style="font-size: 10pt;"><strong>Létszámkorlát:</strong> 
 nincs</span><br /><span style="font-size: 10pt;"><strong>Előadók:</strong
 > <a href="partnereink/lengyel-zsuzsanna.html" target="_blank"><span style=
 "text-decoration: underline;">Lengyel Zsu</span></a> és Eőry Edina</span>
 <br /><span style="font-size: 10pt;"><strong>Helyszín:</strong> Costa-Blan
 ca-Mediterrana 8953 Svájc, Dietikon, Poststrasse 2.</span><br /><span styl
 e="font-size: 10pt;"><strong>Időtartam:</strong> 1 napos esemény</span><b
 r /><span style="font-size: 10pt;"><strong>Dátum:</strong> <strong>2019. m
 ájus 5.</strong> (vasárnap) &nbsp;&nbsp;&nbsp; 10:00 – 17:00</span><br 
 /><span style="font-size: 10pt;"><strong>Részvételi díj:</strong> 79,-CH
 F/fő</span></p><p><span style="font-size: 10pt;">Érd.:&nbsp;&nbsp; &nbsp;
 Lengyel Zsu&nbsp;&nbsp; &nbsp; +36 20 981 29 88&nbsp;&nbsp; &nbsp;
 <script
  language='JavaScript' type='text/javascript'>
 <!--
 var prefix = 'm&#97;&
 #105;lt&#111;:';
 var suffix = '';
 var attribs = '';
 var path = 'hr' + 'e
 f' + '=';
 var addy4823 = 'th&#101;t&#97;t&#105;k&#117;m' + '&#64;';
 addy4
 823 = addy4823 + 'gm&#97;&#105;l' + '&#46;' + 'c&#111;m';
 document.write( 
 '<a ' + path + '\'' + prefix + addy4823 + suffix + '\'' + attribs + '>' );

  document.write( addy4823 );
 document.write( '<\/a>' );
 //-->
 </script><
 script language='JavaScript' type='text/javascript'>
 <!--
 document.write(
  '<span style=\'display: none;\'>' );
 //-->
 </script>Ez az email cím vé
 dett a spam robotoktól, a megtekintéséhez engedélyezni kell a Javascrip
 tet.
 <script language='JavaScript' type='text/javascript'>
 <!--
 document
 .write( '</' );
 document.write( 'span>' );
 //-->
 </script></span><br /><
 span style="font-size: 10pt;">&nbsp;&nbsp; &nbsp;&nbsp;&nbsp;&nbsp;&nbsp;&n
 bsp;&nbsp;&nbsp; Eőry Edina&nbsp;&nbsp; &nbsp; +41 76 265 57 75&nbsp;&nbsp
 ; <br /><br />Kicsit kemény, ám elgondolkodtató, a párkapcsolatokban el
 őforduló, sokszor tabu témákat veszünk górcső alá mindketten. Hogy 
 mit is takar a cím?...</span><br /><span style="font-size: 10pt;">Hányszo
 r hallottad már, hogy belehalok, ha elhagy, vagy, ha belehalok, sem leszek
  az övé… csak, hogy pár példát említsek. A gondolatainknak és kimo
 ndott szavainknak súlyos következményei lehetnek, amik testi elváltozá
 sokban, betegségekben jelenhetnek meg.</span></p><p><br /><strong><span st
 yle="font-size: 10pt;">Párkapcsolat és a szex…… a Biologika tükrébe
 n<br /><br /></span></strong><span style="font-size: 10pt;">Előadó: Lengy
 el Zsu</span><br /><span style="font-size: 10pt;">Időtartam: 10:00 – 12:
 00<br /><br />Azt veszem észre, hogy az emberek egyre nyitottabbá válnak
  problémáik gyökeres megoldására. Ebben nyújt segítséget a Biologik
 a, mely feltárja előttünk betegségeink, hangulatváltozásaink elindít
 óját, a különböző lelki konfliktusokat és ezek törvényszerűségei
 t. Az egy-egy szervhez - szövethez minőségileg jól meghatározható kon
 fliktusok tartoznak, melyek az agyban és a különböző szerveinken - sz
 veteinken elváltozásokat, régi nevén betegségeket indítanak be. Megi
 smerjük ezek kiváltó okait, a betegségek lehetséges le- és kifutásai
 t. Többek között szó lesz a:</span><br /><span style="font-size: 10pt;"
 >- Méh- és a prosztatarákról</span><br /><span style="font-size: 10pt;"
 >- Méh miómáról</span><br /><span style="font-size: 10pt;">- Emlőrák 
 két fajtájáról</span><br /><span style="font-size: 10pt;">- Petefészek
 - és herecisztáról</span><br /><span style="font-size: 10pt;">- Méhnyak
  elváltozásáról és a HPV vírusról</span><br /><span style="font-size
 : 10pt;">- A nőies/ffias érzelemvilágról és a hormonális állapot ös
 szefüggéseiről</span><br /><span style="font-size: 10pt;">Miért nem jö
 n a baba? A meddőség okai…… és még rengeteg érdekesség.</span><br
  /><span style="font-size: 10pt;">Megszámlálhatatlan kapcsolat ment tönk
 re, mert ezek valódi hátterét, Biologikus magyarázatát nem ismertük!<
 br /><br /><strong>Szerelem életre – halálra<br /><br /></strong></span
 ><span style="font-size: 10pt;">Előadó: Eőry Edina</span><br /><span sty
 le="font-size: 10pt;">Időtartam: 13:00 – 17:00<br /><br />Tabuk nélkül
  boncolgatjuk a partnerkapcsolatokat, hol az egekig repítő, hol pedig a m
 egmérgező szexualitást. Hol csúszik el a kommunikáció és hol van az 
 a pont, ahol az agyunk átveszi az irányítást és akár komoly megbetege
 déseket is produkálhatunk magunknak félelemtől és más lelki blokkokt
 l vezérelve?<br /><br />Az esemény elérhetősége facebook-on:<br /><a 
 href="https://m.facebook.com/events/2296444470637077">https://m.facebook.co
 m/events/2296444470637077</a><br /></span><br /><br /><span style="font-siz
 e: 10pt;">Előregisztráció és jelentkezés e-mail-ben.</span><br /><span
  style="font-size: 10pt;">Jelentkezéskor add meg:</span><br /><span style=
 "font-size: 10pt;">1.) az esemény nevét, helyszínét</span><br /><span s
 tyle="font-size: 10pt;">2.) pontos nevedet </span><br /><span style="font-s
 ize: 10pt;">3.) mobil számodat</span><br /><span style="font-size: 10pt;">
 4.) e-mail címedet</span></p><p><span style="font-size: 10pt;"><br /></spa
 n></p>
CONTACT:
 
 
 
 
 Ez az email cím védett a spam robotoktól, a megtekintéséhez engedélyezni kell a Javascriptet.
 
 
  +36 20 981 2988 

DTSTAMP:20260423T090835Z
DTSTART:20190505T080000Z
DTEND:20190505T150000Z
SEQUENCE:0
TRANSP:OPAQUE
END:VEVENT
END:VCALENDAR