BEGIN:VCALENDAR
VERSION:2.0
PRODID:-//jEvents 1.5 for Joomla//EN
BEGIN:VEVENT
CALSCALE:GREGORIAN
METHOD:PUBLISH

UID:772cbdd174b3cec489c6b8e659eb07eb
CATEGORIES:HaladÃ³ szeminÃ¡rium 
SUMMARY:TarjÃ¡nyiN: Biologika haladÃ³ tanfolyam 1/2 (MarosvÃ¡sÃ¡rhely, RomÃ¡nia)
LOCATION:MarosvÃ¡sÃ¡rhely (RomÃ¡nia) szervezÃ©s alatt
DESCRIPTION;ENCODING=QUOTED-PRINTABLE:<p><span style="font-size: 12pt;"><strong>BIOLOGIKA (ÃšJ MEDICINA) TRÃ‰NING
 </strong></span><br /><span style="font-size: 12pt;"><strong>2 napos HALADÃ
 “ tanfolyam MarosvÃ¡sÃ¡rhelyen</strong></span><br /> <br /><span style="fon
 t-size: 10pt;"><strong>tÃ©makÃ¶r:</strong> daganatok, sorvadÃ¡sok Ã©s mÃ¡s 
 elvÃ¡ltozÃ¡sok, biolÃ³giai Ã©rtelmÃ¼k, cÃ©ljuk, rendeltetÃ©sÃ¼k Ã©s<br />le
 folyÃ¡suk. Elmezavarok, viselkedÃ©szavarok.</span><span style="font-size: 1
 0pt;"></span><br /><span style="font-size: 10pt;"><strong>elnevezÃ©s:</stro
 ng> Biologika (Ãšj Medicina) HALADÃ“ trÃ©ning </span><br /><span style="fon
 t-size: 10pt;"><strong>kategÃ³ria:</strong> Biologika </span><br /><span st
 yle="font-size: 10pt;"><strong>tÃ­pus:</strong> intenzÃ­v trÃ©ning, tanfoly
 am </span><br /><span style="font-size: 10pt;"><strong>lÃ©tszÃ¡mkorlÃ¡t:</s
 trong> 8 fÅ‘<br /><br /></span><span style="font-size: 10pt;"><strong>trÃ©n
 er:</strong> <a href="partnereink/tarjanyi-nanetta.html" target="_blank"><s
 pan style="text-decoration: underline;"><strong>TarjÃ¡nyi Nanetta</strong><
 /span></a> <br /><br /></span><span style="font-size: 10pt;"><strong>helysz
 Ã­n: </strong>MarosvÃ¡sÃ¡rhely, - tovÃ¡bbi informÃ¡ciÃ³ e-mailben<br /><br 
 /></span><span style="font-size: 10pt;"><strong>idÅ‘tartam:</strong> 2 nap,
  <strong>2019.</strong>&nbsp;<strong>mÃ¡jus 11-12.</strong> 10:00-19:00 Ã³r
 Ã¡ig</span><br /><span style="font-size: 10pt;">ebÃ©dszÃ¼net: 13:30-14:30 Ã
 ³rÃ¡ig </span><br /><span style="font-size: 10pt;">kÃ©rdÃ©sek, vÃ¡laszok: 1
 8-19 Ã³rÃ¡ig</span></p><p><span style="font-size: 10pt;">bontÃ¡si lehetÅ‘sÃ
 ©g: nincs<br /><br /><strong>elÅ‘feltÃ©tel:</strong> <a href="publikaciok/a
 lapismeretek-oktato-videok.html" target="_blank"><span style="text-decorati
 on: underline; color: #000080;"><strong>5 biolÃ³giai termÃ©szettÃ¶rvÃ©ny on
 line</strong></span></a>, ingyenes elÅ‘adÃ¡s megtekintÃ©se legalÃ¡bb kÃ©tsz
 er,<br />biologika ALAP vÃ©gzettsÃ©g, oklevÃ©l felmutatÃ¡sa, vagy e-meilen 
 valÃ³ elÅ‘zetes bekÃ¼ldÃ©se<br /><br /><strong>rÃ©szvÃ©teli dÃ­j:</strong> 
 2019. mÃ¡jus 8-adikÃ¡ig valÃ³ jelentkezÃ©s esetÃ©n 600 RON / fÅ‘ / 2 nap<br
  />&nbsp;&nbsp;&nbsp;&nbsp;&nbsp;&nbsp;&nbsp;&nbsp;&nbsp;&nbsp;&nbsp;&nbsp;
 &nbsp;&nbsp;&nbsp;&nbsp;&nbsp;&nbsp;&nbsp;&nbsp; 2019. mÃ¡jus 10-Ã©ig valÃ³
  jelentkezÃ©s esetÃ©n 670 RON / fÅ‘ / 2 nap<br /></span></p><p><br /><span 
 style="font-size: 10pt;"><strong>jelentkezÃ©s</strong>: <span style="color:
  #800000;"><strong>Ã­rÃ¡sos elÅ‘regisztrÃ¡ciÃ³ kÃ¶telezÅ‘</strong></span>: 
 a 
 <script language='JavaScript' type='text/javascript'>
 <!--
 var prefix
  = 'm&#97;&#105;lt&#111;:';
 var suffix = '';
 var attribs = '';
 var path 
 = 'hr' + 'ef' + '=';
 var addy52517 = 'n&#97;n&#101;tt&#97;' + '&#64;';
 ad
 dy52517 = addy52517 + 'b&#105;&#111;l&#111;g&#105;k&#97;' + '&#46;' + 'h&#1
 17;';
 document.write( '<a ' + path + '\'' + prefix + addy52517 + suffix + 
 '\'' + attribs + '>' );
 document.write( addy52517 );
 document.write( '<\/
 a>' );
 //-->
 </script><script language='JavaScript' type='text/javascript
 '>
 <!--
 document.write( '<span style=\'display: none;\'>' );
 //-->
 </sc
 ript>Ez az email cÃ­m vÃ©dett a spam robotoktÃ³l, a megtekintÃ©sÃ©hez enged
 Ã©lyezni kell a Javascriptet.
 <script language='JavaScript' type='text/jav
 ascript'>
 <!--
 document.write( '</' );
 document.write( 'span>' );
 //-->
 
 </script> e-mail cÃ­men a lent<br />megadott adatokkal<br /></span><br />
 <span style="font-size: 10pt;">A tanfolyam cÃ©lja, hogy az alaptanfolyam an
 yagÃ¡t otthon felfrissÃ­tve a videÃ³k Ã¡ltal beszÃ©lhessÃ¼nk a<br />rÃ©szle
 tekrÅ‘l alaposan, a funkcionÃ¡lis anatÃ³mia Ã©s az Ãºjmedicina logikÃ¡ja al
 apjÃ¡n. KitÃ©rhessÃ¼nk a hallgatÃ³k<br />kÃ©rdÃ©seire.<br />A tanfolyami is
 meretek elsajÃ¡tÃ­tÃ¡sa Ãºj rÃ¡lÃ¡tÃ¡st biztosÃ­t a betegsÃ©gek helyes Ã©rt
 elmezÃ©sÃ©re.<br />SegÃ­tsÃ©get nyÃºjt megalapozott dÃ¶ntÃ©seket hozni az e
 gyÃ©n szÃ¡mÃ¡ra sajÃ¡t egÃ©szsÃ©ge Ã©rdekÃ©ben. A<br />Biologika ismeretÃ©n
 ek egyik legnagyobb elÅ‘nye, hogy kÃ©pessÃ© vÃ¡lunk a komolyabb elvÃ¡ltozÃ¡
 sok<br />kialakulÃ¡sÃ¡t megakadÃ¡lyozni, a mÃ¡r folyamatban lÃ©vÅ‘ket a leg
 Ã©sszerÅ±bben kezelni.<br />A tanfolyam nem gyÃ³gymÃ³d, nem gyÃ³gyÃ­t, nem 
 kÃ©szÃ­t fel gyÃ³gyÃ­tÃ³ tevÃ©kenysÃ©g vÃ©gzÃ©sÃ©re. Az<br />ismeretanyag a
 z Ã¶nmagÃ¡Ã©rt felelÅ‘ssÃ©get vÃ¡llalÃ³ laikusoknak szÃ³l, akik jobban el a
 karnak mÃ©lyedni a<br />BiologikÃ¡ban, illetve a segÃ­tÅ‘ szakmÃ¡ban dolgoz
 Ã³knak. MegÃ©rteni a bennÃ¼nk zajlÃ³ Ã©rzelmi Ã©s testi<br />folyamatokat e
 gy Ãºj, minÅ‘sÃ©gibb, Ã¡ltalunk irÃ¡nyÃ­tott Ã©letvitel alapjÃ¡t jelentheti
 .<br />A tanfolyam nem csak testi szinten tÃ¡rja fel az elvÃ¡ltozÃ¡sokat, h
 anem megmutatja lelki szinten is a<br />kivÃ¡ltÃ³ okokat, Ã©rzelmi kilengÃ©
 seket. A trÃ©ning a Barnai Roberto Ã¡ltal kÃ©szÃ­tett Szerv Atlasz<br />tud
 Ã¡sanyagÃ¡n alapul.</span><span style="font-size: 10pt;"><br /></span></p><
 p><span style="font-size: 10pt;"><strong>Tematika:</strong></span></p><p><s
 trong><span style="font-size: 10pt;">1. nap</span></strong><br /><span styl
 e="font-size: 10pt;">Az elvÃ¡ltozÃ¡sok rÃ©szletesen, funkcionÃ¡lis anatÃ³mi
 a szerint rendezve: szÃ­v, nyirok- Ã©s Ã©rrendszer,<br />emÃ©sztÅ‘rendszer,
  kivÃ¡lasztÃ¡s, tartÃ³ Ã©s mozgatÃ³rendszer, bÅ‘r...</span></p><p><strong><
 span style="font-size: 10pt;">2. nap</span></strong><br /><span style="font
 -size: 10pt;">Koponya, agy, vakfolt jelensÃ©g, mire hasznÃ¡lja az Ãšj Medic
 ina a CT-t, MR-t<br />MentÃ¡lis kÃ¼lÃ¶nprogramok<br />Hangulatzavarok Ã©s e
 lmebajok - a leggyakoribb tÃ¼netek hÃ¡tterÃ©vel. (MegzavarodottsÃ¡g, kÃ©nys
 zeres<br />sÃ©rtegetÃ©s, Ã©rtÃ©kÃ­tÃ©leti zavarok, mÃ¡nia, depressziÃ³, ski
 zofrÃ©nia, fÃ³biÃ¡k Ã©s paranoiÃ¡k.)</span><span style="font-size: 10pt;"><
 /span></p><p><br /><span style="font-size: 10pt;"><strong>Tananyag:</strong
 > Biologika Szerv Atlasz, jegyzet, utÃ³bbit biztosÃ­tunk<br />A Szerv Atlas
 z megvÃ¡sÃ¡rolhatÃ³ a trÃ©ningen nagyon korlÃ¡tozott mennyisÃ©gben vagy a w
 ebshopban.<br />BiztosÃ­tjuk a Szerv Atlaszt annak, aki elÅ‘re jelzi igÃ©ny
 Ã©t Ã¡prilis 29-ig a 
 <script language='JavaScript' type='text/javascript'
 >
 <!--
 var prefix = 'm&#97;&#105;lt&#111;:';
 var suffix = '';
 var attri
 bs = '';
 var path = 'hr' + 'ef' + '=';
 var addy59149 = 'n&#97;n&#101;tt&#
 97;' + '&#64;';
 addy59149 = addy59149 + 'b&#105;&#111;l&#111;g&#105;k&#97;
 ' + '&#46;' + 'h&#117;';
 document.write( '<a ' + path + '\'' + prefix + ad
 dy59149 + suffix + '\'' + attribs + '>' );
 document.write( addy59149 );
 d
 ocument.write( '<\/a>' );
 //-->
 </script><script language='JavaScript' ty
 pe='text/javascript'>
 <!--
 document.write( '<span style=\'display: none;\
 '>' );
 //-->
 </script>Ez az email cÃ­m vÃ©dett a spam robotoktÃ³l, a megt
 ekintÃ©sÃ©hez engedÃ©lyezni kell a Javascriptet.
 <script language='JavaScr
 ipt' type='text/javascript'>
 <!--
 document.write( '</' );
 document.write
 ( 'span>' );
 //-->
 </script> e-mail<br />cÃ­men.</span><span style="font-
 size: 10pt;"></span></p><p><br /><span style="font-size: 10pt;">JelentkezÃ©
 skor add meg:</span><br /><span style="font-size: 10pt;">1.) a trÃ©ning nev
 Ã©t, helyszÃ­nÃ©t Ã©s idÅ‘pontjÃ¡t</span><br /><span style="font-size: 10pt
 ;">2.) pontos nevedet</span><br /><span style="font-size: 10pt;">3.) mobil 
 szÃ¡modat</span><br /><span style="font-size: 10pt;">4.) e-mail cÃ­medet</s
 pan><br /><span style="font-size: 10pt;">5.) kedvezmÃ©ny alapjÃ¡t (ha jogos
 ult vagy)<br /><br />TovÃ¡bbi programok (tanfolyam, konzultÃ¡ciÃ³): Szenten
 drÃ©n, KaposvÃ¡ron illetve KolozsvÃ¡ron, Zilahon, MarosvÃ¡sÃ¡rhelyen Ã©s Sz
 abadkÃ¡n.<span style="text-decoration: underline;"></span><br /></span></p>
 <p><span style="font-size: 10pt;"><br /></span></p>
CONTACT:
 
 
 
 
 Ez az email cÃ­m vÃ©dett a spam robotoktÃ³l, a megtekintÃ©sÃ©hez engedÃ©lyezni kell a Javascriptet.
 
 
   +40756697799

DTSTAMP:20260419T194305Z
DTSTART:20190511T080000Z
DTEND:20190511T170000Z
SEQUENCE:0
TRANSP:OPAQUE
END:VEVENT
END:VCALENDAR