BEGIN:VCALENDAR
VERSION:2.0
PRODID:-//jEvents 1.5 for Joomla//EN
BEGIN:VEVENT
CALSCALE:GREGORIAN
METHOD:PUBLISH

UID:7a6e89387d8107ba96260e7ff3f5a29c
CATEGORIES:Alap szeminárium 
SUMMARY:LengyelZs: Biologika alap és haladó tanfolyam 1/4 (Kecskemét)
LOCATION:6000 Kecskemét, Hoffmann János utca 10. EYVA HÁZ
DESCRIPTION;ENCODING=QUOTED-PRINTABLE:<p><strong><span style="font-size: 12pt;">BIOLOGIKA (ÚJ MEDICINA) TRÉNING
 <br />4 napos ALAP és HALADÓ tanfolyam Kecskeméten</span></strong><br />
 <span style="font-size: 10pt;">&nbsp;</span><br /><span style="font-size: 1
 0pt;"><strong>témakör:</strong> Biologika (Új Medicína) intenzív trén
 ing, elváltozástan, a megbetegedések mechanizmusa</span><br /><span styl
 e="font-size: 10pt;"><strong>létszámkorlát:</strong> nincs</span><br /><
 span style="font-size: 10pt;"><strong>tréner:</strong> <strong><a href="pa
 rtnereink/lengyel-zsuzsanna.html" target="_blank"><span style="text-decorat
 ion: underline;">Lengyel Zsu</span></a></strong></span><br /><span style="f
 ont-size: 10pt;"><strong>helyszín:</strong> 6000 Kecskemét, Hoffmann Ján
 os utca 10. EYVA HÁZ</span><br /><span style="font-size: 10pt;"><strong>id
 őtartam:</strong> 4 napos tréning<br /><strong>dátum:</strong> <strong>2
 019. május 15-16-17.</strong> (12:00-17:00 óráig) és <strong>május 18.
 </strong> (10:00-15:00 óráig</span><span style="font-size: 10pt;">)<br />
 <br /></span><span style="font-size: 10pt;"><strong>bontási lehetőség:</
 strong> Nincs, az oklevélre való jogosultság feltétele, mind a 4 alkalm
 on való részvétel.<br /><br /><strong>részvételi díj:</strong>&nbsp; 
 65.000 Ft / fő<br /><span style="font-size: 10pt;">A fizetés előre utal
 ssal történik.<br />Jelentkezésed után válaszlevélben küldöm az ut
 alási adatokat és a tudnivalókat.<br /><br /></span><strong>jelentkezés
 :</strong> A tréningen való részvétel előfeltétele az <strong>írásb
 an</strong> való <strong>jelentkezés</strong> a&nbsp;<a href="mailto:
 <s
 cript language='JavaScript' type='text/javascript'>
 <!--
 var prefix = 'm&
 #97;&#105;lt&#111;:';
 var suffix = '';
 var attribs = '';
 var path = 'hr'
  + 'ef' + '=';
 var addy31137 = 'zs&#117;' + '&#64;';
 addy31137 = addy3113
 7 + 'b&#105;&#111;l&#111;g&#105;k&#97;' + '&#46;' + 'h&#117;';
 document.wr
 ite( '<a ' + path + '\'' + prefix + addy31137 + suffix + '\'' + attribs + '
 >' );
 document.write( addy31137 );
 document.write( '<\/a>' );
 //-->
 </s
 cript><script language='JavaScript' type='text/javascript'>
 <!--
 document
 .write( '<span style=\'display: none;\'>' );
 //-->
 </script>Ez az email c
 ím védett a spam robotoktól, a megtekintéséhez engedélyezni kell a Ja
 vascriptet.
 <script language='JavaScript' type='text/javascript'>
 <!--
 d
 ocument.write( '</' );
 document.write( 'span>' );
 //-->
 </script>" targe
 t="_blank"><span style="text-decoration: underline; color: #0000ff;"><span 
 style="font-size: 10pt;"><span style="color: #0000ff; text-decoration: unde
 rline;">
 <script language='JavaScript' type='text/javascript'>
 <!--
 var 
 prefix = 'm&#97;&#105;lt&#111;:';
 var suffix = '';
 var attribs = '';
 var
  path = 'hr' + 'ef' + '=';
 var addy3456 = 'zs&#117;' + '&#64;';
 addy3456 
 = addy3456 + 'b&#105;&#111;l&#111;g&#105;k&#97;' + '&#46;' + 'h&#117;';
 do
 cument.write( '<a ' + path + '\'' + prefix + addy3456 + suffix + '\'' + att
 ribs + '>' );
 document.write( addy3456 );
 document.write( '<\/a>' );
 //-
 ->
 </script><script language='JavaScript' type='text/javascript'>
 <!--
 d
 ocument.write( '<span style=\'display: none;\'>' );
 //-->
 </script>Ez az 
 email cím védett a spam robotoktól, a megtekintéséhez engedélyezni ke
 ll a Javascriptet.
 <script language='JavaScript' type='text/javascript'>
 
 <!--
 document.write( '</' );
 document.write( 'span>' );
 //-->
 </script>
 </span></span></span></a> e-mail címen.<br /><br /><strong>jelentkezési h
 atáridő:</strong> 2019.05.08. (szerda), érdeklődni a +36 (20) 981 2988 
 telefonszámon lehet.<br /><br />Javasolt az alapismeretek előadás megné
 zése, legalább kétszer: <a href="https://www.biologika.hu/Orvostudomany/
 alapismeretek-oktato-video.html" target="_blank">www.alapismeretek.biologik
 a.hu</a></span><br /><span style="font-size: 10pt;">A tanfolyam prezentáci
 ós anyaga és akkreditált tankönyve a Biologika Szerv Atlasz. Ha szeretn
 él</span><br /><span style="font-size: 10pt;">beletekinteni, beleolvasgatn
 i itt megteheted: <a href="megtekintes/a-szerv-atlasz-lapok-megtekintese-eg
 yenkent.html" target="_blank">www.megtekintes.szervatlasz.hu</a></span><br 
 /><span style="font-size: 10pt;">Előre jelzett igény szerint a tréningen
  megvásárolható</span><span style="font-size: 10pt;">.<br /><br /><stron
 g>leírás, tematika:<br /><br /></strong>A négy napos tréningen a temati
 ka szerint nem térünk ki minden egyes Szerv Atlasz lapra, ugyanakkor </sp
 an><span style="font-size: 10pt;">megismerjük a leggyakoribb szervi elvál
 tozások (betegségtünetek) biológiai hátterét, </span><span style="fon
 t-size: 10pt;">összefüggéseit.<br /><br /><strong>1. nap:</strong></span
 ><br /><span style="font-size: 10pt;">Barnai Roberto: Biologika Szerv Atlas
 z felépítése és használata.</span><br /><span style="font-size: 10pt;"
 >Az öt biológiai természettörvény - Dr. Ryke Geerd Hamer munkássága.
 </span><br /><span style="font-size: 10pt;">A különböző agyi vezérlők
 özpontok és azok bekábelezése a szervekhez.</span><br /><span style="fo
 nt-size: 10pt;">Lefutás- és folyamatismeretek.</span><br /><span style="f
 ont-size: 10pt;">Az agytörzs vezérelte szervek és lehetséges elváltoz
 saik, betegségnevek, tünetek.</span><br /><span style="font-size: 10pt;"
 >Legfontosabb mirigyszöveteink, melyeken elváltozásokat tudunk produkál
 ni.</span><br /><span style="font-size: 10pt;">A középagy vezérelte szer
 vek és lehetséges elváltozásaik, betegségnevek, tünetek.</span><br />
 <span style="font-size: 10pt;">A miómák vagyis simaizomszövetek sajátos
  működése, izomdaganatok, görcsölések.<br /><br /><strong>2. nap:</st
 rong></span><br /><span style="font-size: 10pt;">A kisagy vezérelte szerve
 k és lehetséges elváltozásaik, betegségnevek, tünetek.</span><br /><s
 pan style="font-size: 10pt;">A hártyaszövetek sajátos működése (hash
 rtya, mellhártya, szívburok, agyhártya).</span><br /><span style="font-
 size: 10pt;">A velőállomány vezérelte szervek és lehetséges elváltoz
 ásaik, betegségnevek, tünetek.<br /><br /><strong>3. nap:</strong></span
 ><br /><span style="font-size: 10pt;">A kéregállomány vezérelte szervek
  és lehetséges elváltozásaik, betegségnevek, tünetek.</span><br /><sp
 an style="font-size: 10pt;">Férfias/nőies hormonállapot, bénulások, v
 rcukorszint változások.<br /><br /><strong>4. nap:</strong></span><br />
 <span style="font-size: 10pt;">Hangulatzavarok és elmebajok - a leggyakori
 bb tünetek hátterével.</span><br /><span style="font-size: 10pt;">(Megza
 varodottság, kényszeres sértegetés, értékítéleti zavarok,</span><br
  /><span style="font-size: 10pt;">mánia, depresszió, skizofrénia, fóbi
 k és paranoiák.)<br /><br />A tanfolyam az Új Medicináról, a biológi
 ai természettörvényekről és összefüggésekről szól.</span><br /><s
 pan style="font-size: 10pt;">Megtanít új nézőpontból szemlélni betegs
 égeinket.</span><br /><span style="font-size: 10pt;">Az előadás számos 
 esetpéldával segíti megérteni és könnyen megjegyezhetővé tenni az</
 span><br /><span style="font-size: 10pt;">elváltozások tüneteit, okait, 
 lefutásukat. Így lehetőséget ad arra, hogy betegségeinket</span><br />
 <span style="font-size: 10pt;">megismerjük, lefolyásukat nyomon követhes
 sük így a rettegett ismeretlent kiiktathatjuk az</span><br /><span style=
 "font-size: 10pt;">életünkből.</span><br /><span style="font-size: 10pt;
 ">A tanulmányok és a Szerv Atlasz megismerésének célja, hogy önjáró
 vá váljunk, a megértéssel</span><br /><span style="font-size: 10pt;">fe
 lelősségteljesebben, tudatosabban tudjunk élni, ne legyünk a betegsége
 k kiszolgáltatott</span><br /><span style="font-size: 10pt;">áldozatai, h
 anem egészségünk magabiztos, felelős megteremtői legyünk.</span><br /
 ><span style="font-size: 10pt;">Rengeteg módszert megismerhetünk a konfli
 ktusok, elváltozások kezelésére, de a konkrét</span><br /><span style=
 "font-size: 10pt;">megbetegedéseket megelőző érzelmi konfliktusok beazo
 nosítására csak egyet ismerünk, ami</span><br /><span style="font-size:
  10pt;">egzakt, utánkövethető a három szinten: lélek – agy – szerv
  és igazolható. Az Új Medicina nem</span><br /><span style="font-size: 1
 0pt;">gyógymód, hanem kulcs a zárban, amivel az egészség házába lép
 hetünk. Ismerete ahhoz</span><br /><span style="font-size: 10pt;">szüksé
 ges, hogy soha többé ne alakulhasson ki akkora elváltozásunk, mely súl
 yos vagy halálos</span><br /><span style="font-size: 10pt;">legyen, vagy h
 a már van valamilyen elváltozásunk, értsük, hogy milyen tünetek fogna
 k</span><br /><span style="font-size: 10pt;">következni, miért és meddig
  fog tartani. A biológiai különprogramokról szól (régi nevén</span><
 br /><span style="font-size: 10pt;">betegségek), amelynek nem tárgya a m
 rgezés, baleset, sugárzás és az élet ellenes táplálkozás.<br /><br
  /><strong>Jelentkezéskor add meg:</strong></span><br /><span style="font-
 size: 10pt;">1.) a tréning nevét, helyszínét, időpontját.</span><br /
 ><span style="font-size: 10pt;">2.) pontos nevedet</span><br /><span style=
 "font-size: 10pt;">3.) mobil számodat</span><br /><span style="font-size: 
 10pt;">4.) e-mail címedet<br />5.) B<span style="font-size: 10pt;">iologik
 a Szerv Atlaszt kérek/nem kérek. (Ára 20.000 Ft)</span><br /><br />A tr
 ning elérhetősége facebook-on:&nbsp;<a href="https://www.facebook.com/e
 vents/792696831103767/">https://www.facebook.com/events/792696831103767/</a
 > <a href="https://www.facebook.com/events/792696831103767/" target="_blank
 "><span style="font-size: 10pt;"></span></a></span></p><p><span style="font
 -size: 10pt;"><br /><br /></span></p><p><span style="font-size: 10pt;"><br 
 /></span></p>
CONTACT:
 
 
 
 
 Ez az email cím védett a spam robotoktól, a megtekintéséhez engedélyezni kell a Javascriptet.
 
 
  +36 (20) 981 2988

DTSTAMP:20260423T153114Z
DTSTART:20190515T100000Z
DTEND:20190515T150000Z
SEQUENCE:0
TRANSP:OPAQUE
END:VEVENT
END:VCALENDAR