BEGIN:VCALENDAR
VERSION:2.0
PRODID:-//jEvents 1.5 for Joomla//EN
BEGIN:VEVENT
CALSCALE:GREGORIAN
METHOD:PUBLISH

UID:42829b7ede8ee34869600840d8544648
CATEGORIES:Egyéb kapcsolódó tanfolyam
SUMMARY:TarjányiN: Biologika 1 napos ÉLTETŐ Tanfolyam és Műhelymunka (Marosvásárhely)
LOCATION:Marosvásárhely, szervezés alatt
DESCRIPTION;ENCODING=QUOTED-PRINTABLE:<p><strong><span style="font-size: 12pt;">BIOLOGIKA (ÚJ MEDICINA) TRÉNING
 </span></strong><br /><strong><span style="font-size: 12pt;">1 napos ÉLTET
 Ő tanfolyam és műhelymunka Marosvásárhely</span></strong><br /> <br />
 <span style="font-size: 10pt;"><strong>témakör:</strong> az agy működé
 se, az öt biológiai természettörvény, súlyosnak mondott diagnózisok,
  műtétek nehéz <br />&nbsp;&nbsp;&nbsp;&nbsp;&nbsp;&nbsp;&nbsp;&nbsp;&nb
 sp;&nbsp;&nbsp;&nbsp;&nbsp;&nbsp; élethelyzeteinek kezelése, diagnózis s
 okkok elkerülése, enyhítése az Új Medicina segítségével,<br />&nbsp
 ;&nbsp;&nbsp;&nbsp;&nbsp;&nbsp;&nbsp;&nbsp;&nbsp;&nbsp;&nbsp;&nbsp;&nbsp;&n
 bsp; lelki dinamikák feltárása családállításos gyakorlatokkal. Kríz
 iskezelési ötletek.<br /><br /><strong>elnevezés:</strong> Biologika (Ú
 j Medicina) ÉLTETŐ tanfolyam </span><br /><span style="font-size: 10pt;">
 <strong>kategória:</strong> Biologika </span><br /><span style="font-size:
  10pt;"><strong>típus:</strong> szuperintenzív tréning, tanfolyam </span
 ><br /><span style="font-size: 10pt;">létszámkorlát: 12 fő<br /><br /><
 /span><span style="font-size: 10pt;"><strong>tréner</strong>: <a href="par
 tnereink/tarjanyi-nanetta.html" target="_blank"><span style="text-decoratio
 n: underline;"><strong>Tarjányi Nanetta</strong></span></a>,<br /><br /></
 span><span style="font-size: 10pt;"><strong>helyszín</strong>: Marosvásá
 rhely, szervezés alatt, függ a létszámtól - további információ e-ma
 ilben<br /><br /></span><span style="font-size: 10pt;"><strong>időtartam</
 strong>: 1 nap, <strong>2019. május 1</strong>. 10:00-18:00 óráig</span>
 <br /><span style="font-size: 10pt;">ebédszünet: 13:30-14:30 óráig</spa
 n><br /><span style="font-size: 10pt;">beszélgetés, kérdések: 18-19 ór
 áig</span></p><p><span style="font-size: 10pt;">bontási lehetőség: ninc
 s</span></p><p><span style="font-size: 10pt;"><strong>előfeltétel</strong
 >: <a href="publikaciok/alapismeretek-oktato-videok.html" target="_blank"><
 span style="text-decoration: underline; color: #000080;"><strong>5 biológi
 ai természettörvény online</strong></span></a>, ingyenes előadás megte
 kintése legalább kétszer</span></p><p><br /><span style="font-size: 10pt
 ;"><strong>tanfolyamdíjak</strong>:</span></p><p><span style="font-size: 1
 0pt;">2019. április 29. előtti jelentkezés és foglaló befizetése eset
 én a tanfolyam ára: 200RON</span><br /> <span style="font-size: 10pt;">20
 19. április 29. után a tanfolyam ára: 300 RON<br />A hely foglalása 50 
 RON előleggel történik.</span></p><p><span style="font-size: 10pt;"><str
 ong>jelentkezés:</strong> írásos előregisztráció kötelező a <strong
 >
 <script language='JavaScript' type='text/javascript'>
 <!--
 var prefix 
 = 'm&#97;&#105;lt&#111;:';
 var suffix = '';
 var attribs = '';
 var path =
  'hr' + 'ef' + '=';
 var addy58892 = 'r&#101;zs&#111;.t&#101;gl&#97;s' + '&
 #64;';
 addy58892 = addy58892 + 'bbsl&#105;f&#101;' + '&#46;' + 'n&#101;t';
 
 document.write( '<a ' + path + '\'' + prefix + addy58892 + suffix + '\'' 
 + attribs + '>' );
 document.write( addy58892 );
 document.write( '<\/a>' )
 ;
 //-->
 </script><script language='JavaScript' type='text/javascript'>
 <
 !--
 document.write( '<span style=\'display: none;\'>' );
 //-->
 </script>
 Ez az email cím védett a spam robotoktól, a megtekintéséhez engedélye
 zni kell a Javascriptet.
 <script language='JavaScript' type='text/javascri
 pt'>
 <!--
 document.write( '</' );
 document.write( 'span>' );
 //-->
 </s
 cript></strong> 0756697799, <strong>
 <script language='JavaScript' type='t
 ext/javascript'>
 <!--
 var prefix = 'm&#97;&#105;lt&#111;:';
 var suffix =
  '';
 var attribs = '';
 var path = 'hr' + 'ef' + '=';
 var addy77337 = 'k&
 #97;cs&#111;.&#101;t&#101;lk&#97;' + '&#64;';
 addy77337 = addy77337 + 'gm&
 #97;&#105;l' + '&#46;' + 'c&#111;m';
 document.write( '<a ' + path + '\'' +
  prefix + addy77337 + suffix + '\'' + attribs + '>' );
 document.write( add
 y77337 );
 document.write( '<\/a>' );
 //-->
 </script><script language='Ja
 vaScript' type='text/javascript'>
 <!--
 document.write( '<span style=\'dis
 play: none;\'>' );
 //-->
 </script>Ez az email cím védett a spam robotok
 tól, a megtekintéséhez engedélyezni kell a Javascriptet.
 <script langu
 age='JavaScript' type='text/javascript'>
 <!--
 document.write( '</' );
 do
 cument.write( 'span>' );
 //-->
 </script></strong>, 0745061406</span></p><
 p><br /><span style="font-size: 10pt;"><strong>a tanfolyam célja:</strong>
  segíteni a súlyosnak mondott diagnózist kapottakat, a műtét előtt va
 gy után állókat. Segíteni a megértés útján az ezektől félőket é
 s megerősíteni a gyógyulókat. Információkkal ellátni a rokonokat, ba
 rátokat, akik segíteni szeretnének. A családállítás és az újmedici
 na segítségével betekinteni a tudatalatti dinamikáiba, hogy megtudjuk, 
 melyik betáplált információ dolgozik és hogy áll a lélek az élet é
 s halál kérdéséhez.<br /><br /></span></p><p><strong><span style="font-
 size: 10pt;">tematika:</span></strong></p><p><span style="font-size: 10pt;"
 >- hogyan működik a biológiánk logikusan, dr. Hamer öt törvénye</spa
 n><br /><span style="font-size: 10pt;">- a tudatalatti és a tudatos én ho
 zzáállása az egészséghez és betegséghez, élethez és halálhoz</spa
 n><br /><span style="font-size: 10pt;">- analízisek, diagnózisok fogadás
 a, a diagnózis konfliktusok megelőzése</span><br /><span style="font-siz
 e: 10pt;">- kríziskezelés</span><br /><span style="font-size: 10pt;">- a 
 műtétek és a lábadozás segítése újmedicinával</span><br /><span st
 yle="font-size: 10pt;">- gyakorlati feladatok különböző módszerekkel a
  tudatalatti feltárására<br /><br /></span></p><p><span style="font-size
 : 10pt;"><strong>tananyag:</strong> Biologika Szerv Atlasz és jegyzet, (ut
 óbbit biztosítunk)</span><br /><span style="font-size: 10pt;">A Szerv Atl
 asz megvásárolható a tréningen, korlátozott mennyiségben (előzetes j
 elzés alapján fixen biztosítjuk) és a webshopban.</span></p><p><br /><s
 pan style="font-size: 10pt;">Jelentkezéskor add meg:<br /></span><br /><sp
 an style="font-size: 10pt;">1.) a tréning nevét, helyszínét és időpon
 tját</span><br /><span style="font-size: 10pt;">2.) pontos nevedet</span><
 br /><span style="font-size: 10pt;">3.) mobil számodat</span><br /><span s
 tyle="font-size: 10pt;">4.) e-mail címedet</span><br /><span style="font-s
 ize: 10pt;">5.) kedvezmény alapját (ha jogosult vagy)</span></p><p><span 
 style="font-size: 10pt;">További programok – tanfolyamok, melyeket e mel
 lé ajánlunk: MAROSVÁSÁRHELY: Újmedicina ALAP: május 4-5. <br />&nbsp;
 &nbsp;&nbsp;&nbsp;&nbsp;&nbsp;&nbsp;&nbsp;&nbsp;&nbsp;&nbsp;&nbsp;&nbsp;&nb
 sp;&nbsp;&nbsp;&nbsp;&nbsp;&nbsp;&nbsp;&nbsp;&nbsp;&nbsp;&nbsp;&nbsp;&nbsp;
 &nbsp;&nbsp;&nbsp;&nbsp;&nbsp;&nbsp;&nbsp;&nbsp;&nbsp;&nbsp;&nbsp;&nbsp;&nb
 sp;&nbsp;&nbsp;&nbsp;&nbsp;&nbsp;&nbsp;&nbsp;&nbsp;&nbsp;&nbsp;&nbsp;&nbsp;
 &nbsp;&nbsp;&nbsp;&nbsp;&nbsp;&nbsp;&nbsp;&nbsp;&nbsp;&nbsp;&nbsp;&nbsp;&nb
 sp;&nbsp;&nbsp;&nbsp;&nbsp;&nbsp;&nbsp;&nbsp;&nbsp;&nbsp;&nbsp;&nbsp;&nbsp;
 &nbsp;&nbsp;&nbsp;&nbsp;&nbsp;&nbsp;&nbsp;&nbsp;&nbsp;&nbsp;&nbsp;&nbsp;&nb
 sp;&nbsp;&nbsp;&nbsp;&nbsp;&nbsp;&nbsp;&nbsp;&nbsp;&nbsp;&nbsp;&nbsp;&nbsp;
 &nbsp;&nbsp;&nbsp;&nbsp;&nbsp;&nbsp;&nbsp; Újmedicina SZÜLŐKNEK: május 
 10.<br />&nbsp;&nbsp;&nbsp;&nbsp;&nbsp;&nbsp;&nbsp;&nbsp;&nbsp;&nbsp;&nbsp;
 &nbsp;&nbsp;&nbsp;&nbsp;&nbsp;&nbsp;&nbsp;&nbsp;&nbsp;&nbsp;&nbsp;&nbsp;&nb
 sp;&nbsp;&nbsp;&nbsp;&nbsp;&nbsp;&nbsp;&nbsp;&nbsp;&nbsp;&nbsp;&nbsp;&nbsp;
 &nbsp;&nbsp;&nbsp;&nbsp;&nbsp;&nbsp;&nbsp;&nbsp;&nbsp;&nbsp;&nbsp;&nbsp;&nb
 sp;&nbsp;&nbsp;&nbsp;&nbsp;&nbsp;&nbsp;&nbsp;&nbsp;&nbsp;&nbsp;&nbsp;&nbsp;
 &nbsp;&nbsp;&nbsp;&nbsp;&nbsp;&nbsp;&nbsp;&nbsp;&nbsp;&nbsp;&nbsp;&nbsp;&nb
 sp;&nbsp;&nbsp;&nbsp;&nbsp;&nbsp;&nbsp;&nbsp;&nbsp;&nbsp;&nbsp;&nbsp;&nbsp;
 &nbsp;&nbsp;&nbsp;&nbsp;&nbsp;&nbsp;&nbsp;&nbsp;&nbsp;&nbsp;&nbsp;&nbsp;&nb
 sp;&nbsp;&nbsp;&nbsp;&nbsp;&nbsp;&nbsp;&nbsp;&nbsp;&nbsp; Újmedicina HALAD
 Ó: május 11-12. <br />&nbsp;&nbsp;&nbsp;&nbsp;&nbsp;&nbsp;&nbsp;&nbsp;&nb
 sp;&nbsp;&nbsp;&nbsp;&nbsp;&nbsp;&nbsp;&nbsp;&nbsp;&nbsp;&nbsp;&nbsp;&nbsp;
 &nbsp;&nbsp;&nbsp;&nbsp;&nbsp;&nbsp;&nbsp;&nbsp;&nbsp;&nbsp;&nbsp;&nbsp;&nb
 sp;&nbsp;&nbsp;&nbsp;&nbsp;&nbsp;&nbsp;&nbsp;&nbsp;&nbsp;&nbsp;&nbsp;&nbsp;
 &nbsp;&nbsp;&nbsp;&nbsp;&nbsp;&nbsp;&nbsp;&nbsp;&nbsp;&nbsp;&nbsp;&nbsp;&nb
 sp;&nbsp;&nbsp;&nbsp;&nbsp;&nbsp;&nbsp;&nbsp;&nbsp;&nbsp;&nbsp;&nbsp;&nbsp;
 &nbsp;&nbsp;&nbsp;&nbsp;&nbsp;&nbsp;&nbsp;&nbsp;&nbsp;&nbsp;&nbsp;&nbsp;&nb
 sp;&nbsp;&nbsp;&nbsp;&nbsp;&nbsp;&nbsp;&nbsp;&nbsp;&nbsp;&nbsp;&nbsp;&nbsp;
 &nbsp;&nbsp;&nbsp;&nbsp;&nbsp;&nbsp;&nbsp;&nbsp;&nbsp;&nbsp;&nbsp;&nbsp; Ko
 nzultációk: május 2-3, 6-7-8. 13-14</span></p><p><span style="font-size:
  10pt;"><br /></span></p>
CONTACT:
 
 
 
 
 Ez az email cím védett a spam robotoktól, a megtekintéséhez engedélyezni kell a Javascriptet.
 
 
   0756697799    
 
 
 
 
 Ez az email cím védett a spam robotoktól, a megtekintéséhez engedélyezni kell a Javascriptet.
 
 
 

DTSTAMP:20260419T211356Z
DTSTART:20190501T080000Z
DTEND:20190501T160000Z
SEQUENCE:0
TRANSP:OPAQUE
END:VEVENT
END:VCALENDAR