BEGIN:VCALENDAR
VERSION:2.0
PRODID:-//jEvents 1.5 for Joomla//EN
BEGIN:VEVENT
CALSCALE:GREGORIAN
METHOD:PUBLISH

UID:68f9c70d626177940593243d9733d927
CATEGORIES:EgyÃ©b kapcsolÃ³dÃ³ tanfolyam
SUMMARY:GajÃ¡ryE: MuscuLogika intenzÃ­v tanfolyam 1/4 (TÃ¶rÃ¶kbÃ¡lint)
LOCATION:2045 TÃ¶rÃ¶kbÃ¡lint, MunkÃ¡csy M. utca 83.
DESCRIPTION;ENCODING=QUOTED-PRINTABLE:<p><strong><span style="font-size: 12pt;">IntenzÃ­v nyÃ¡ri MUSCULOGIKA trÃ©
 ning</span></strong><br /><strong><span style="font-size: 12pt;">4 napos al
 ap Musculogika tanfolyam TÃ¶rÃ¶kbÃ¡linton</span></strong><br /><br /><span 
 style="font-size: 10pt;"><strong>tÃ©makÃ¶r:</strong> Musculogika trÃ©ning, 
 mozgÃ¡sszervi korlÃ¡tok javÃ­tÃ¡sa</span><br /><span style="font-size: 10pt
 ;"><strong>tÃ­pus:</strong> intenzÃ­v trÃ©ning, gyakorlati tanfolyam</span>
 <br /><span style="font-size: 10pt;"><strong>trÃ©ner:</strong> <a href="par
 tnereink/gajary-erika-biologika-ujmedicina-konzulens.html" target="_blank">
 <span style="text-decoration: underline; color: #000080;"><strong>GajÃ¡ry E
 rika</strong></span></a></span><br /><span style="font-size: 10pt;"><strong
 >idÅ‘tartam:</strong> 2019. jÃºlius 6,7,13 Ã©s 14. 9:30-18:00</span><br /><
 span style="font-size: 10pt;"><strong>helyszÃ­n:</strong> 2045 TÃ¶rÃ¶kbÃ¡li
 nt, MunkÃ¡csy M. u. 83., MunkÃ¡csy MihÃ¡ly MÅ±velÅ‘dÃ©si HÃ¡z TÃ¶rÃ¶kbÃ¡lin
 t</span><br /><span style="font-size: 10pt;"><strong>lÃ©tszÃ¡mkorlÃ¡t:</str
 ong> nincs megadva</span><br /><span style="font-size: 10pt;"><strong>rÃ©sz
 vÃ©teli dÃ­j:</strong> 15.000 Ft / fÅ‘ / nap Ã©s lehetÅ‘sÃ©g van naponta fi
 zetni</span><br /><span style="font-size: 10pt;"><strong>jelentkezÃ©s:</str
 ong> Ã­rÃ¡sos elÅ‘regisztrÃ¡ciÃ³ kÃ¶telezÅ‘ a <a href="mailto:
 <script lan
 guage='JavaScript' type='text/javascript'>
 <!--
 var prefix = 'm&#97;&#105
 ;lt&#111;:';
 var suffix = '';
 var attribs = '';
 var path = 'hr' + 'ef' +
  '=';
 var addy4930 = 'm&#117;sc&#117;l&#111;g&#105;k&#97;' + '&#64;';
 add
 y4930 = addy4930 + 'm&#117;sc&#117;l&#111;g&#105;k&#97;' + '&#46;' + 'h&#11
 7;';
 document.write( '<a ' + path + '\'' + prefix + addy4930 + suffix + '\
 '' + attribs + '>' );
 document.write( addy4930 );
 document.write( '<\/a>'
  );
 //-->
 </script><script language='JavaScript' type='text/javascript'>

  <!--
 document.write( '<span style=\'display: none;\'>' );
 //-->
 </scrip
 t>Ez az email cÃ­m vÃ©dett a spam robotoktÃ³l, a megtekintÃ©sÃ©hez engedÃ©l
 yezni kell a Javascriptet.
 <script language='JavaScript' type='text/javasc
 ript'>
 <!--
 document.write( '</' );
 document.write( 'span>' );
 //-->
 <
 /script>" target="_blank"><span style="text-decoration: underline; color: #
 000080;"><span style="color: #000080; text-decoration: underline;">
 <scrip
 t language='JavaScript' type='text/javascript'>
 <!--
 var prefix = 'm&#97;
 &#105;lt&#111;:';
 var suffix = '';
 var attribs = '';
 var path = 'hr' + '
 ef' + '=';
 var addy98412 = 'm&#117;sc&#117;l&#111;g&#105;k&#97;' + '&#64;'
 ;
 addy98412 = addy98412 + 'm&#117;sc&#117;l&#111;g&#105;k&#97;' + '&#46;' 
 + 'h&#117;';
 document.write( '<a ' + path + '\'' + prefix + addy98412 + su
 ffix + '\'' + attribs + '>' );
 document.write( addy98412 );
 document.writ
 e( '<\/a>' );
 //-->
 </script><script language='JavaScript' type='text/jav
 ascript'>
 <!--
 document.write( '<span style=\'display: none;\'>' );
 //--
 >
 </script>Ez az email cÃ­m vÃ©dett a spam robotoktÃ³l, a megtekintÃ©sÃ©he
 z engedÃ©lyezni kell a Javascriptet.
 <script language='JavaScript' type='t
 ext/javascript'>
 <!--
 document.write( '</' );
 document.write( 'span>' );
 
 //-->
 </script></span></span></a> e-mail cÃ­men</span><br /><span style=
 "font-size: 10pt;"><strong>jelentkezÃ©si hatÃ¡ridÅ‘:</strong> 2019. mÃ¡jus 
 vÃ©gÃ©ig vagy a lÃ©tszÃ¡m telÃ­tÅ‘dÃ©sÃ©ig.</span><br /><span style="font-s
 ize: 10pt;"><strong>bontÃ¡si lehetÅ‘sÃ©g:</strong> van.</span><br /><span s
 tyle="font-size: 10pt;">Ha valaki elÅ‘re nem lÃ¡thatÃ³ okbÃ³l nem tud jÃ¶nn
 i valamelyik napra, Ãºgy azzal a csoporttal mÃ¡r nem tudja folytatni tanulm
 Ã¡nyait, de egy mÃ¡sik csoportba be tud csatlakozni, amikor a csoport annÃ¡
 l az anyagrÃ©sznÃ©l tart, aminÃ©l az elÅ‘zÅ‘ csoportbÃ³l kimaradt.</span><b
 r /><br /><strong><span style="font-size: 10pt;">leÃ­rÃ¡s:</span></strong><
 br /><span style="font-size: 10pt;">A tanfolyamhoz elÅ‘kÃ©pzettsÃ©g nem szÃ
 ¼ksÃ©ges, csupÃ¡n az Å‘szinte szÃ¡ndÃ©k, hogy segÃ­ts olyan embereknek, aki
 k ezt kÃ©rik.<br /><br />Az elsÅ‘ napon olyan rÃ©szletessÃ©ggel fogjuk beil
 leszteni a BioLogikus gondolkozÃ¡s&nbsp; keretrendszerÃ©be a MuscuLogikÃ¡t,
  hogy aki mÃ©g nem vÃ©gzett Biologika tanfolyamot, az is teljesebb kÃ©pet f
 og kapni rÃ³la.<br /><br />Az Ã¡ltalam MuscuLogikÃ¡nak elnevezett mÃ³dszer 
 az izmok/Ã­nszalagok rendellenessÃ©ge miatt lÃ©trejÃ¶tt mozgÃ¡sszervi korlÃ
 ¡tozottsÃ¡gok Ã©s fÃ¡jdalmak azonnali megszÃ¼ntetÃ©sÃ©t vagy lÃ©nyeges javu
 lÃ¡sÃ¡t teszi lehetÅ‘vÃ©.</span><br /><span style="font-size: 10pt;">A sajÃ
 ¡t tÃ¶bb Ã©vtizedes gyakorlatomon Ã©s megfigyelÃ©seimen keresztÃ¼l Ã©s a Bi
 oLogikus gondolkozÃ¡st alaptÃ©telnek tekintve leÃ­rom azokat a tapasztalato
 kat Ã©s kezelÃ©si eljÃ¡rÃ¡sokat, amik Ã¼zembiztosan mÅ±kÃ¶dnek minden ember
  szÃ¡mÃ¡ra.</span><br /><span style="font-size: 10pt;">TestÃ¼nket, csontren
 dszerÃ¼nket, megszÃ¡mlÃ¡lhatatlan mennyisÃ©gÅ± izom Ã©s Ã­nszalag tartja Ã¶
 ssze Ã©s tartja szÃ©t olyan tisztes tÃ¡volsÃ¡gban, hogy terhelÃ©s hatÃ¡sÃ¡r
 a a csontok ne Ã©rjenek egymÃ¡shoz, fÃ¡jdalmat Ã©s kÃ­nt okozva ezzel.</spa
 n><br /><span style="font-size: 10pt;">MeglÃ¡tÃ¡som szerint fizikai szinten
  az izom/Ã­nszalag mÅ±kÃ¶dÃ©s az egÃ©szsÃ©g alfÃ¡ja Ã©s omegÃ¡ja, melynek h
 Ã¡tterÃ©ben az automatikus agy, mint egy bio-szÃ¡mÃ­tÃ³gÃ©p biztosÃ­tja a k
 Ã¶vetkezÅ‘ mÃ¡sodperc tÃºlÃ©lÃ©sÃ©hez szÃ¼ksÃ©ges optimÃ¡lisan legjobb biol
 Ã³giai megoldÃ¡st.</span><br /><span style="font-size: 10pt;">IzommÅ±kÃ¶dÃ©
 s szabÃ¡lyozza a vÃ©rkeringÃ©st, a nyirokkeringÃ©st, az Ã©rzÃ©kelÃ©st, lÃ¡t
 Ã¡st, hallÃ¡st, az anyagcserÃ©t, a lÃ©gzÃ©st, stb. Ã©s szinte minden, ami a
  testÃ¼nkben Ã©s a testÃ¼nkkel tÃ¶rtÃ©nik, a kÃ¼lÃ¶nbÃ¶zÅ‘, izmaink/Ã­nszal
 agjaink Ã¡llapotÃ¡tÃ³l meghatÃ¡rozÃ³an fÃ¼gg.</span><br /><span style="font
 -size: 10pt;">A mÃ³dszer nem Ã¶ngyÃ³gyÃ­tÃ¡sra valÃ³, de minÃ©l tÃ¶bben vag
 yunk kÃ©pesek egymÃ¡snak segÃ­teni, annÃ¡l jobban kitÃ¡gul ez a szemlÃ©letm
 Ã³d Ã©s aszerint fog nÃ¶vekedni Ã©s Ã¶sszeadÃ³dni ez a csodÃ¡latos felismer
 Ã©s, Ã©s testÃ¼nk eddig rejtett, de mÃ¡ra mÃ¡r meglehetÅ‘sen feltÃ©rkÃ©peze
 tt Ã¶ngyÃ³gyÃ­tÃ³ kÃ©pessÃ©ge</span><br /><span style="font-size: 10pt;">A 
 gyakorlati rÃ©szt a hallgatÃ³k egymÃ¡son vÃ©gzik, de a mÃ¡sodik alkalomtÃ³l
  olyan embereken is kiprÃ³bÃ¡lhatjÃ¡k tudÃ¡sukat, akik konkrÃ©t fÃ¡jdalmakk
 al jÃ¶nnek!!</span><br /><span style="font-size: 10pt;">Akinek van kedve, t
 artson velem ezen a felfedezÅ‘ Ãºton, mert egyÃ¼tt tudjuk felismerni Ã©s be
 azonosÃ­tani az eddig&nbsp; ismeretlen helyreÃ¡llÃ­tÃ³ receptorokat mindenk
 i jobb kÃ¶zÃ©rzete Ã©rdekÃ©ben.</span><br /><br /><strong><span style="font
 -size: 10pt;">tematika (4 alkalom):</span></strong><br /><span style="font-
 size: 10pt;">&nbsp;- fej mozgatÃ¡sÃ¡val kapcsolatos problÃ©mÃ¡k megszÃ¼ntet
 Ã©se (a fej fÃ¡jdalom- Ã©s feszÃ¼lÃ©smentes mozgatÃ¡sa minden irÃ¡nyban, va
 lamint a nyaki gerinc fÃ¡jdalmainak megszÃ¼ntetÃ©se)</span><br /><span styl
 e="font-size: 10pt;">&nbsp;â€“ felsÅ‘ vÃ©gtagok mozgatÃ¡sÃ¡nak rendezÃ©se (
 vÃ¡ll, felkar, kÃ¶nyÃ¶k, alkar, csuklÃ³, Ã©s a tenyÃ©r, valamint az ujjak m
 ozgatÃ¡sÃ¡nak rendezÃ©se)</span><br /><span style="font-size: 10pt;">&nbsp;
 â€“ tÃ¶rzs izmai (a gerinc fÃ¡jdalmainak megszÃ¼ntetÃ©se, a lÃ©gzÃ©s felsza
 badÃ­tÃ¡sa, a tÃ¼dÅ‘, szÃ­v, gyomor, mÃ¡j Ã©s epehÃ³lyag, valamint a rekesz
 izom munkÃ¡jÃ¡nak javÃ­tÃ¡sa, megkÃ¶nnyÃ­tÃ©se)</span><br /><span style="fo
 nt-size: 10pt;">&nbsp;â€“ medence (a lumbÃ¡lis gerincszakasz fÃ¡jdalmÃ¡nak 
 megszÃ¼ntetÃ©se, a medence Ã©s a benne lÃ©vÅ‘ szervek mÅ±kÃ¶dÃ©sÃ©nek javÃ­
 tÃ¡sa, egyenes Ã©s ferde hasizom, mÃ©hszalagok Ã©s belsÅ‘ szervek szalagjai
 nak rugalmassÃ¡ tÃ©tele, hÃ³lyagizomzat stb.)</span><br /><span style="font
 -size: 10pt;">â€“ a csÃ­pÅ‘ Ã©s a tÃ©rd mozgatÃ¡sÃ¡nak helyreÃ¡llÃ­tÃ¡sa (a
  csÃ­pÅ‘ Ã©s a tÃ©rd fÃ¡jdalommentes mozgÃ¡sÃ¡nak rendezÃ©se minden irÃ¡nyb
 a)</span><br /><span style="font-size: 10pt;">â€“ alsÃ³ lÃ¡bszÃ¡r Ã©s lÃ¡bf
 ej mozgÃ¡sainak rendezÃ©se (bokafÃ¡jdalmak megszÃ¼ntetÃ©se, a lÃ¡bfejen lÃ©
 vÅ‘ fÃ¡jdalmas elvÃ¡ltozÃ¡sok â€“ boltozat lesÃ¼llyedÃ©se vagy tÃºlemelkedÃ
 ©se, bÃ¼tyÃ¶k, kalapÃ¡csujj, sarkantyÃº stb. â€“ okozta fÃ¡jdalmak megszÃ¼n
 tetÃ©se)<br /><br />JelentkezÃ©skor add meg:<br />1.) a trÃ©ning nevÃ©t, he
 lyszÃ­nÃ©t Ã©s idÅ‘pontjÃ¡t(!)</span><br /><span style="font-size: 10pt;">2
 .) pontos nevedet</span><br /><span style="font-size: 10pt;">3.) mobil szÃ¡
 modat</span><br /><span style="font-size: 10pt;">4.) e-mail cÃ­medet<br /><
 br /><br /></span></p>
CONTACT:
 
 
 
 
 Ez az email cÃ­m vÃ©dett a spam robotoktÃ³l, a megtekintÃ©sÃ©hez engedÃ©lyezni kell a Javascriptet.
 
 
 

DTSTAMP:20260419T195642Z
DTSTART:20190706T073000Z
DTEND:20190706T160000Z
SEQUENCE:0
TRANSP:OPAQUE
END:VEVENT
END:VCALENDAR