BEGIN:VCALENDAR
VERSION:2.0
PRODID:-//jEvents 1.5 for Joomla//EN
BEGIN:VEVENT
CALSCALE:GREGORIAN
METHOD:PUBLISH

UID:9518650782a04c32d748bd01c18d7822
CATEGORIES:Alap szeminÃ¡rium 
SUMMARY:TarjÃ¡nyiN: Biologika ALAP Ã©s HALADÃ“ tanfolyam 1/4 (KolozsvÃ¡r)
LOCATION:KolozsvÃ¡r,BBSLife KÃ¶zpont, MÃ³cok Ãºtja 102.
DESCRIPTION;ENCODING=QUOTED-PRINTABLE:<p><strong><span style="font-size: 12pt;">BIOLOGIKA (GNM ÃšJ MEDICINA) TRÃ‰
 NING</span></strong><br /><strong><span style="font-size: 12pt;">4 napos AL
 AP Ã©s HALADÃ“ tanfolyam KolozsvÃ¡r</span></strong><br /> <br /><span style
 ="font-size: 10pt;"><strong>tÃ©makÃ¶r:</strong> az agy mÅ±kÃ¶dÃ©se, a tudat
 szÅ±kÃ¼lÃ©s jenesÃ©ge, tÃºlÃ©lÃ©si dinamikÃ¡k, a Szerv Atlasz hasznÃ¡lata, 
 hormonszint Ã©s Ã©letvitel</span><br /><span style="font-size: 10pt;">dagan
 atok, sorvadÃ¡sok Ã©s mÃ¡s elvÃ¡ltozÃ¡sok, biolÃ³giai Ã©rtelmÃ¼k, cÃ©ljuk, 
 rendeltetÃ©sÃ¼k Ã©s lefolyÃ¡suk. </span><br /><span style="font-size: 10pt;
 "><strong>elnevezÃ©s:</strong> Biologika (GNM, Ãšj Medicina) ALAP trÃ©ning 
 </span><br /><span style="font-size: 10pt;"><strong>kategÃ³ria:</strong> bi
 ologika </span><br /><span style="font-size: 10pt;"><strong>tÃ­pus:</strong
 > szuperintenzÃ­v trÃ©ning, tanfolyam </span><br /><span style="font-size: 
 10pt;"><strong>lÃ©tszÃ¡mkorlÃ¡t</strong>: 30 fÅ‘</span><br /><span style="f
 ont-size: 10pt;"><strong>trÃ©ner</strong>: <a href="partnereink/tarjanyi-na
 netta.html" target="_blank"><span style="text-decoration: underline;"><stro
 ng>TarjÃ¡nyi Nanetta</strong></span></a></span> <span style="font-size: 10p
 t;"><strong></strong><strong><br />tolmÃ¡cs: </strong>BenkÅ‘ Krisztina<br /
 ><strong>nyelv:</strong> magyar, romÃ¡n</span><span style="font-size: 8pt;"
 ></span><br /><span style="font-size: 10pt;"><strong>helyszÃ­n</strong>: Ko
 lozsvÃ¡r, BBSLife KÃ¶zpont, MÃ³cok Ãºtja 102.</span><br /><span style="font
 -size: 10pt;"><strong>idÅ‘tartam</strong>: 4 nap, <strong>2019. januÃ¡r 24-
 27. 10:00-19:00-Ã³rÃ¡ig</strong></span><br /><span style="font-size: 10pt;"
 ><strong>ebÃ©dszÃ¼net:</strong> 13:30-14:30-Ã³rÃ¡ig </span><br /><span styl
 e="font-size: 10pt;"><strong>kÃ©rdÃ©sek, vÃ¡laszok:</strong> 18:00-19:00-Ã³
 rÃ¡ig<br /></span></p><p><span style="font-size: 10pt;">bontÃ¡si lehetÅ‘sÃ©
 g: nincs</span></p><p><span style="font-size: 10pt;"><strong>elÅ‘feltÃ©tel<
 /strong>: <a href="publikaciok/alapismeretek-oktato-videok.html" target="_b
 lank"><span style="text-decoration: underline; color: #000080;"><strong>5 b
 iolÃ³giai termÃ©szettÃ¶rvÃ©ny online</strong></span></a>, ingyenes elÅ‘adÃ¡
 s megtekintÃ©se legalÃ¡bb kÃ©tszer</span><strong><span style="font-size: 10
 pt;"> </span></strong></p><p><strong><span style="font-size: 10pt;">tanfoly
 amdÃ­jak:</span></strong></p><p><span style="font-size: 10pt;">rÃ©szvÃ©teli
  dÃ­j 4 napra: 1000-RON/fÅ‘</span><br /><span style="font-size: 10pt;">elÅ‘
 jelentkezÃ©ssel januÃ¡r 20-Ã¡ig: 700-RON/fÅ‘</span><br /><span style="font-
 size: 10pt;">kedvezmÃ©nyes Ã¡rak: biologika alaptanfolyamot mÃ¡r vÃ©gzett i
 smÃ©tlÅ‘knek: 400-RON/fÅ‘</span><br /><span style="font-size: 10pt;">korked
 vezmÃ©nyek: nyugdÃ­jasoknak 500-RON/fÅ‘,</span><br /><span style="font-size
 : 10pt;">felnÅ‘tt csalÃ¡dtaggal Ã©rkezÅ‘ 18 Ã©v alatti rÃ©sztvevÅ‘knek a ta
 nfolyam ingyenes</span></p><p>&nbsp;</p><p><span style="font-size: 10pt;">A
  hely foglalÃ¡sa 200-RON elÅ‘leggel tÃ¶rtÃ©nik.</span></p><p>&nbsp;</p><p><
 span style="font-size: 10pt;">jelentkezÃ©s: 
 <script language='JavaScript'
  type='text/javascript'>
 <!--
 var prefix = 'm&#97;&#105;lt&#111;:';
 var 
 suffix = '';
 var attribs = '';
 var path = 'hr' + 'ef' + '=';
 var addy621
 68 = 'kr&#105;szt&#105;n&#97;.b&#101;nk&#111;' + '&#64;';
 addy62168 = addy
 62168 + 'bbsc&#111;ns&#117;lt&#105;ng' + '&#46;' + 'n&#101;t';
 document.wr
 ite( '<a ' + path + '\'' + prefix + addy62168 + suffix + '\'' + attribs + '
 >' );
 document.write( addy62168 );
 document.write( '<\/a>' );
 //-->
 </s
 cript><script language='JavaScript' type='text/javascript'>
 <!--
 document
 .write( '<span style=\'display: none;\'>' );
 //-->
 </script>Ez az email c
 Ã­m vÃ©dett a spam robotoktÃ³l, a megtekintÃ©sÃ©hez engedÃ©lyezni kell a Ja
 vascriptet.
 <script language='JavaScript' type='text/javascript'>
 <!--
 d
 ocument.write( '</' );
 document.write( 'span>' );
 //-->
 </script>, vagy 
 
 <script language='JavaScript' type='text/javascript'>
 <!--
 var prefix =
  'm&#97;&#105;lt&#111;:';
 var suffix = '';
 var attribs = '';
 var path = 
 'hr' + 'ef' + '=';
 var addy94003 = 'z&#111;lt&#97;n.b&#97;l&#111;gh' + '&#
 64;';
 addy94003 = addy94003 + 'bbsc&#111;ns&#117;lt&#105;ng' + '&#46;' + '
 n&#101;t';
 document.write( '<a ' + path + '\'' + prefix + addy94003 + suff
 ix + '\'' + attribs + '>' );
 document.write( addy94003 );
 document.write(
  '<\/a>' );
 //-->
 </script><script language='JavaScript' type='text/javas
 cript'>
 <!--
 document.write( '<span style=\'display: none;\'>' );
 //-->

  </script>Ez az email cÃ­m vÃ©dett a spam robotoktÃ³l, a megtekintÃ©sÃ©hez 
 engedÃ©lyezni kell a Javascriptet.
 <script language='JavaScript' type='tex
 t/javascript'>
 <!--
 document.write( '</' );
 document.write( 'span>' );
 
 //-->
 </script> Tel: 0744-</span><span style="font-size: 10pt;">398984; 07
 43-038178</span></p><p><span style="font-size: 10pt;">tovÃ¡bbi programok (t
 anfolyam, konzultÃ¡ciÃ³, klub, elÅ‘adÃ¡s): MarosvÃ¡sÃ¡rhely, Zilah, ErdÃ©ly
 ben: a BBSLife honlapjÃ¡n Ã©s facebook oldalÃ¡n:</span><br /><span style="f
 ont-size: 10pt;"><a href="https://www.facebook.com/BBSLife-590093897763401/
 events">https://www.facebook.com/BBSLife-590093897763401/events</a></span><
 br /> <br /><span style="font-size: 10pt;">A tanfolyam cÃ©lja, hogy alapoka
 t adjon a biolÃ³giai termÃ©szettÃ¶rvÃ©nyek megismerÃ©sÃ©hez, a testben<br /
 >lezajlÃ³ folyamatok megÃ©rtÃ©sÃ©hez. Az elsajÃ¡tÃ­tÃ¡st agykontrollos alap
 ok biztosÃ­tjÃ¡k. A biolÃ³gia<br />termÃ©szettÃ¶rvÃ©nyei hitrendszerÃ¼nktÅ‘
 l fÃ¼ggetlenÃ¼l mÅ±kÃ¶dnek, egyÃ©nileg ellenÅ‘rizhetÅ‘ek akÃ¡r<br />visszam
 enÅ‘leg is. A tanfolyami ismeretek elsajÃ¡tÃ­tÃ¡sa Ãºj rÃ¡lÃ¡tÃ¡st biztosÃ­
 t a betegsÃ©gek helyes<br />Ã©rtelmezÃ©sÃ©re. SegÃ­tsÃ©get nyÃºjt megalapoz
 ott dÃ¶ntÃ©seket hozni az egyÃ©n szÃ¡mÃ¡ra sajÃ¡t egÃ©szsÃ©ge<br />Ã©rdekÃ©
 ben. A biologika ismeretÃ©nek egyik legnagyobb elÅ‘nye, hogy kÃ©pessÃ© vÃ¡l
 unk a komolyabb<br />elvÃ¡ltozÃ¡sok kialakulÃ¡sÃ¡t megakadÃ¡lyozni, a mÃ¡r 
 folyamatban lÃ©vÅ‘ket a legÃ©sszerÅ±bben kezelni.<br />A tanfolyam nem gyÃ³
 gymÃ³d, nem gyÃ³gyÃ­t, nem kÃ©szÃ­t fel gyÃ³gyÃ­tÃ³ tevÃ©kenysÃ©g vÃ©gzÃ©sÃ
 ©re. Az<br />ismeretanyag az Ã¶nmagÃ¡Ã©rt felelÅ‘ssÃ©get vÃ¡llalÃ³ laikusok
 nak szÃ³l. Ennek hiÃ¡nya akÃ¡r az egÃ©szsÃ©g<br />megÅ‘rzÃ©sÃ©nek, helyreÃ¡
 llÃ­tÃ¡sÃ¡nak gÃ¡tjÃ¡vÃ¡ is vÃ¡lhat. MegÃ©rteni a bennÃ¼k zajlÃ³ Ã©rzelmi Ã
 ©s testi<br />folyamatokat egy Ãºj, minÅ‘sÃ©gibb, Ã¡ltalunk irÃ¡nyÃ­tott Ã©
 letvitel alapjÃ¡t jelentheti. Megszabadulni<br />hiedelmeinktÅ‘l, fÃ©lelmei
 nktÅ‘l, betegsÃ©gtudatunktÃ³l egy magunkkal cipelt teher letÃ©telÃ©t jelent
 i.<br />A tanfolyam nem csak testi szinten tÃ¡rja fel az elvÃ¡ltozÃ¡sokat, 
 hanem megmutatja lelki szinten is a kivÃ¡ltÃ³<br />okokat, Ã©rzelmi kilengÃ
 ©seket. A trÃ©ning Barnai Roberto Ã¡ltal kÃ©szÃ­tett Szerv Atlasz tudÃ¡sany
 agÃ¡n alapul.<br />A tanfolyam cÃ©lja, hogy romÃ¡n nyelven is elÃ©rhetÅ‘ le
 gyen a Biologika. HangsÃºlyt fektetÃ¼nk azon<br />informÃ¡ciÃ³k Ã¡tadÃ¡sÃ¡r
 a, melyek Barnai RobertÃ³tÃ³l Ã©s Nicolas BarrÃ³tÃ³l Ã©rhetÅ‘k el.</span><s
 pan style="font-size: 10pt;"></span></p><p><br /><strong><span style="font-
 size: 10pt;">A tanfolyam tematikÃ¡ja:</span></strong></p><p><strong><span s
 tyle="font-size: 10pt;">1. nap</span></strong><br /><span style="font-size:
  10pt;">Az automatikus agy mÅ±kÃ¶dÃ©se, a biologika alapjai, hormonÃ¡llapot
 ok, az Ã¶t biolÃ³giai terÃ©szettÃ¶rvÃ©ny</span><span style="font-size: 10pt
 ;">.</span><br /><strong><span style="font-size: 10pt;">2. nap</span></stro
 ng><br /><span style="font-size: 10pt;">HegesedÃ©sek, lÃ¡zak, fÃ¡jdalomcsil
 lapÃ­tÃ¡s, fontosabb biolÃ³giai elvÃ¡ltozÃ¡sok, betegsÃ©glefutÃ¡sok: mirigy
 es<br />elvÃ¡ltozÃ¡sok, meddÅ‘sÃ©g</span><span style="font-size: 10pt;">. <
 br /><strong>3. nap <br /></strong>Fontosabb biolÃ³giai elvÃ¡ltozÃ¡sok, bet
 egsÃ©glefutÃ¡sok: hÃ¡rtyÃ¡s Ã©s kÃ¶tÅ‘szÃ¶vetes elvÃ¡ltozÃ¡sok, hÃ­zÃ¡s <br
  /><strong>4. nap <br /></strong>LaphÃ¡m elvÃ¡ltozÃ¡sok, elme- Ã©s viselked
 Ã©szavarok<br /></span></p><p><br style="font-size: 10pt;" /><span style="f
 ont-size: 10pt;">Tananyag: Biologika Szerv Atlasz</span><br /><span style="
 font-size: 10pt;">A Szerv Atlasz megvÃ¡sÃ¡rolhatÃ³ a webshopban vagy a trÃ©
 ningen magyar nyelven.</span></p><p><br /><span style="font-size: 10pt;">Je
 lentkezÃ©skor add meg:</span><br /><span style="font-size: 10pt;">1.) a trÃ
 ©ning nevÃ©t, helyszÃ­nÃ©t Ã©s idÅ‘pontjÃ¡t</span><br /><span style="font-s
 ize: 10pt;">2.) pontos nevedet</span><br /><span style="font-size: 10pt;">3
 .) mobil szÃ¡modat</span><br /><span style="font-size: 10pt;">4.) e-mail cÃ
 ­medet</span><br /><span style="font-size: 10pt;">5.) kedvezmÃ©ny alapjÃ¡t 
 (ha jogosult vagy)</span></p><p><span style="font-size: 10pt;"><br /></span
 ></p>
CONTACT:
 
 
 
 
 Ez az email cÃ­m vÃ©dett a spam robotoktÃ³l, a megtekintÃ©sÃ©hez engedÃ©lyezni kell a Javascriptet.
 
 
 

DTSTAMP:20260420T102719Z
DTSTART:20190124T090000Z
DTEND:20190124T180000Z
SEQUENCE:0
TRANSP:OPAQUE
END:VEVENT
END:VCALENDAR