BEGIN:VCALENDAR
VERSION:2.0
PRODID:-//jEvents 1.5 for Joomla//EN
BEGIN:VEVENT
CALSCALE:GREGORIAN
METHOD:PUBLISH

UID:8bcc55e36dbc042657dee0219df5f1d6
CATEGORIES:Alap szeminÃ¡rium 
SUMMARY:OrlikI:Biologika intenzÃ­v ALAP tanfolyam 1/2 (Tata)
LOCATION:Arany Hold JÃ³ga Ã©s TerÃ¡piÃ¡s Udvar, Tata VÃ¡ralja u. 2/b.
DESCRIPTION;ENCODING=QUOTED-PRINTABLE:<p><br /><strong><span style="font-size: 12pt;">BIOLOGIKA (GNM, ÃšJ MEDICIN
 A) TRÃ‰NING</span></strong><br /><strong><span style="font-size: 12pt;">2 n
 apos intenzÃ­v ALAP tanfolyam TatÃ¡n</span></strong></p><p><br /><strong><s
 pan style="font-size: 10pt;">tÃ©m</span></strong><span style="font-size: 10
 pt;"><strong>akÃ¶r:</strong> daganatok, sorvadÃ¡sok Ã©s mÃ¡s elvÃ¡ltozÃ¡sok
 , biolÃ³giai Ã©rtelmÃ¼k, cÃ©ljuk, rendeltetÃ©sÃ¼k Ã©s lefolyÃ¡suk</span><br
  /><span style="font-size: 10pt;"><strong>trÃ©ner:</strong> <a href="partne
 reink/orlik-ilona-biologika.html" target="_blank"><span style="text-decorat
 ion: underline;"><strong>Orlik Ilona</strong></span></a></span><br /><span 
 style="font-size: 10pt;"><strong>helyszÃ­n:</strong> AranyHold JÃ³ga Ã©s Te
 rÃ¡piÃ¡s Udvar, Tata,&nbsp; VÃ¡ralja u. 2/b.</span><br /><span style="font-
 size: 10pt;"><strong>idÅ‘tartam:</strong> 2 nap, <strong>2019. januÃ¡r 12-1
 3.</strong></span><br /><span style="font-size: 10pt;">ebÃ©dszÃ¼net: 12:00-
 13:00 Ã³rÃ¡ig</span><br /><span style="font-size: 10pt;"><strong>elÅ‘feltÃ©
 tel:</strong> <a href="https://www.youtube.com/watch?v=kKaM1mGtrwc&amp;inde
 x=1&amp;list=PL9UBjX2XUV_1zwIcRD71ahjlFrp_UQBu9" target="_blank"><span styl
 e="text-decoration: underline;">Alapismeretek online, ingyenes elÅ‘adÃ¡s me
 gtekintÃ©se legalÃ¡bb kÃ©tszer<br /></span></a><br /><span style="font-size
 : 10pt;"><strong>jelentkezÃ©si hatÃ¡ridÅ‘:</strong> 2019. januÃ¡r 4-ig<br /
 ><span style="font-size: 10pt;"><strong>jelentkezÃ©s:</strong> <span style=
 "color: #800000;"><strong>Ã­rÃ¡sos elÅ‘regisztrÃ¡ciÃ³ kÃ¶telezÅ‘</strong></
 span> az <a href="mailto:&lt;a href=" mailto:ica="" biologika="" hu="">
 <s
 cript language='JavaScript' type='text/javascript'>
 <!--
 var prefix = 'm&
 #97;&#105;lt&#111;:';
 var suffix = '';
 var attribs = '';
 var path = 'hr'
  + 'ef' + '=';
 var addy80227 = '&#105;c&#97;' + '&#64;';
 addy80227 = addy
 80227 + 'b&#105;&#111;l&#111;g&#105;k&#97;' + '&#46;' + 'h&#117;';
 documen
 t.write( '<a ' + path + '\'' + prefix + addy80227 + suffix + '\'' + attribs
  + '>' );
 document.write( addy80227 );
 document.write( '<\/a>' );
 //-->

  </script><script language='JavaScript' type='text/javascript'>
 <!--
 docu
 ment.write( '<span style=\'display: none;\'>' );
 //-->
 </script>Ez az ema
 il cÃ­m vÃ©dett a spam robotoktÃ³l, a megtekintÃ©sÃ©hez engedÃ©lyezni kell 
 a Javascriptet.
 <script language='JavaScript' type='text/javascript'>
 <!-
 -
 document.write( '</' );
 document.write( 'span>' );
 //-->
 </script></a
 > e-mail cÃ­men</span><br /></span><br /><strong>rÃ©szvÃ©teli dÃ­j:</strong
 > (2 nap): 30.000-Ft/fÅ‘/2 nap</span><br /><span></span></p><p><span style=
 "font-size: 10pt;">KedvezmÃ©nyes tanfolyamdÃ­jak:</span><br /><span style="
 font-size: 10pt;">- A jelentkezÃ©si hatÃ¡ridÅ‘ig regisztrÃ¡lÃ³knak: 27.000-
 Ft/fÅ‘/2 nap</span><br /><span style="font-size: 10pt;">- 60 Ã©v feletti ko
 rkedvezmÃ©ny: 20.000-Ft/fÅ‘/2 nap</span><br /><span style="font-size: 10pt;
 ">- IsmÃ©tlÅ‘ kedvezmÃ©ny: 10.000-Ft/2 nap</span><br /><span style="font-si
 ze: 10pt;">- 12-18 kÃ¶zÃ¶tti fiatalok rÃ©szÃ©re ingyenes a tanfolyam.</span
 ><br /><span style="font-size: 10pt;">Az egyes kedvezmÃ©nyek nem vonhatÃ³k 
 Ã¶ssze.</span><br /><span style="font-size: 10pt;">A felsorolt dÃ­jak: nett
 Ã³ Ã¡rak.<br /><br />A tanfolyam cÃ©lja, hogy alapokat adjon a biolÃ³giai t
 ermÃ©szettÃ¶rvÃ©nyek megismerÃ©sÃ©hez, a testben lezajlÃ³ folyamatok megÃ©r
 tÃ©sÃ©hez.<br /><br />A biolÃ³gia termÃ©szettÃ¶rvÃ©nyei hitrendszerÃ¼nktÅ‘l
  fÃ¼ggetlenÃ¼l mÅ±kÃ¶dnek, egyÃ©nileg ellenÅ‘rizhetÅ‘ek akÃ¡r visszamenÅ‘le
 g is.<br /><br />A tanfolyami ismeretek elsajÃ¡tÃ­tÃ¡sa Ãºj rÃ¡lÃ¡tÃ¡st biz
 tosÃ­t a betegsÃ©gek helyes Ã©rtelmezÃ©sÃ©re. SegÃ­tsÃ©get nyÃºjt megalapoz
 ott dÃ¶ntÃ©seket hozni az egyÃ©n szÃ¡mÃ¡ra sajÃ¡t egÃ©szsÃ©ge Ã©rdekÃ©ben. 
 A Biologika ismeretÃ©nek egyik legnagyobb elÅ‘nye, hogy kÃ©pessÃ© vÃ¡lunk a
  komolyabb elvÃ¡ltozÃ¡sok kialakulÃ¡sÃ¡t megakadÃ¡lyozni, a mÃ¡r folyamatba
 n lÃ©vÅ‘ket a legÃ©sszerÅ±bben kezelni.<br /><br />A tanfolyam nem gyÃ³gymÃ
 ³d, nem gyÃ³gyÃ­t, nem kÃ©szÃ­t fel gyÃ³gyÃ­tÃ³ tevÃ©kenysÃ©g vÃ©gzÃ©sÃ©re.
  Az ismeretanyag az Ã¶nmagÃ¡Ã©rt felelÅ‘ssÃ©get vÃ¡llalÃ³ hÃ©tkÃ¶znapi embe
 rnek szÃ³l. Ennek hiÃ¡nya akÃ¡r az egÃ©szsÃ©g megÅ‘rzÃ©sÃ©nek, helyreÃ¡llÃ­
 tÃ¡sÃ¡nak gÃ¡tjÃ¡vÃ¡ is vÃ¡lhat. MegÃ©rteni a bennÃ¼nk zajlÃ³ Ã©rzelmi Ã©s 
 testi folyamatokat egy Ãºj, minÅ‘sÃ©gibb, Ã¡ltalunk irÃ¡nyÃ­tott Ã©letvitel
  alapjÃ¡t jelentheti. Megszabadulni hiedelmeinktÅ‘l, fÃ©lelmeinktÅ‘l, beteg
 sÃ©gtudatunktÃ³l egy magunkkal cipelt teher letÃ©telÃ©t jelenti.<br /><br /
 >A tanfolyam nem csak testi szinten tÃ¡rja fel az elvÃ¡ltozÃ¡sokat, hanem m
 egmutatja lelki szinten is a kivÃ¡ltÃ³ okokat, Ã©rzelmi kilengÃ©seket.<br /
 ><br />A trÃ©ning Barnai Roberto Ã¡ltal kÃ©szÃ­tett Szerv Atlasz tudÃ¡sanya
 gÃ¡n alapul.</span><br /><br /><strong><span style="font-size: 10pt;">A 2 n
 apos ALAP tanfolyam tematikÃ¡ja:<br /><br />1. nap</span></strong><br /><br
  /><span style="font-size: 10pt;">Az Ã¶t biolÃ³giai termÃ©szettÃ¶rvÃ©ny - D
 r. Ryke Geerd Hammer munkÃ¡ssÃ¡ga</span><br /><span style="font-size: 10pt;
 ">Barnai Roberto: Biologika Szerv Atlasz felÃ©pÃ­tÃ©se Ã©s hasznÃ¡lata</spa
 n><br /><span style="font-size: 10pt;">Az agytÃ¶rzs vezÃ©relte mirigyszÃ¶ve
 tes szervek elvÃ¡ltozÃ¡sai</span><br /><span style="font-size: 10pt;">A kÃ¶
 zÃ©pagy vezÃ©relte simaizomszÃ¶vetek elvÃ¡ltozÃ¡sai (miÃ³mÃ¡k)</span><br />
 <br /><strong><span style="font-size: 10pt;">2. nap</span></strong><br /><b
 r /><span style="font-size: 10pt;">A kisagy vezÃ©relte szervek elvÃ¡ltozÃ¡s
 ai (hÃ¡rtyaszÃ¶vetek, bÅ‘rirha, tejmirigyek)</span><br /><span style="font-
 size: 10pt;">A velÅ‘Ã¡llomÃ¡ny vezÃ©relte szervek elvÃ¡ltozÃ¡sai Ã©s a valÃ
 ³di cisztÃ¡k</span><br /><span style="font-size: 10pt;">KÃ¶tÅ‘szÃ¶vetek, vÃ
 ¡zrendszer</span><br /><span style="font-size: 10pt;">A szÃ­v elvÃ¡ltozÃ¡sa
 i</span><br /><span style="font-size: 10pt;">VÃ©r- Ã©s nyirokrendszer (leuk
 Ã©mia)</span><br /><span style="font-size: 10pt;">Magas vÃ©rnyomÃ¡s (vesekÃ
 ©reg elvÃ¡ltozÃ¡sa)</span><br /><span style="font-size: 10pt;">Here Ã©s pet
 efÃ©szekciszta</span><br /><br /><span style="font-size: 10pt;">Tananyag: B
 iologika Szerv Atlasz<br /><br />Roberto elÅ‘adÃ¡sainak prezentÃ¡ciÃ³s anya
 ga az Ãºj medicina kÃ©zikÃ¶nyvÃ©vÃ© nÅ‘tte ki magÃ¡t. A Szerv Atlasz megvÃ¡
 sÃ¡rolhatÃ³ a webshopban vagy a trÃ©ningen. A Szerv Atlasz jelenleg az egye
 tlen Ãºj medicinÃ¡s kÃ©zikÃ¶nyv a vilÃ¡gon.<br /><br />JelentkezÃ©skor add 
 meg:<br /><br />1.) a trÃ©ning nevÃ©t, helyszÃ­nÃ©t Ã©s idÅ‘pontjÃ¡t</span>
 <br /><span style="font-size: 10pt;">2.) pontos nevedet</span><br /><span s
 tyle="font-size: 10pt;">3.) mobil szÃ¡modat</span><br /><span style="font-s
 ize: 10pt;">4.) e-mail cÃ­medet</span><br /><span style="font-size: 10pt;">
 5.) kedvezmÃ©ny alapjÃ¡t (ha jogosult vagy)</span></p><p><span style="font-
 size: 10pt;"></span><span style="font-size: 10pt;"><br style="font-size: 10
 pt;" /></span></p>
CONTACT:
 
 
 
 
 Ez az email cÃ­m vÃ©dett a spam robotoktÃ³l, a megtekintÃ©sÃ©hez engedÃ©lyezni kell a Javascriptet.
 
 
 

DTSTAMP:20260420T103130Z
DTSTART:20190112T080000Z
DTEND:20190112T160000Z
SEQUENCE:0
TRANSP:OPAQUE
END:VEVENT
END:VCALENDAR