BEGIN:VCALENDAR
VERSION:2.0
PRODID:-//jEvents 1.5 for Joomla//EN
BEGIN:VEVENT
CALSCALE:GREGORIAN
METHOD:PUBLISH

UID:5142583a27c3873e3f0fffc2f9a04498
CATEGORIES:Egyéb kapcsolódó tanfolyam
SUMMARY:AndocsiV: Biologika-Gyermekbetegségek Tréning (Zalaegerszeg)
LOCATION:Zalaegerszeg, szervezés alatt
DESCRIPTION;ENCODING=QUOTED-PRINTABLE:<p><strong><span style="font-size: 12pt;">BIOLOGIKA (újmedicina)-Gyermekbe
 tegségek<br /> 1 napos tréning Zalaegerszegen<br /><br /></span></strong>
 </p><p><span style="font-size: 10pt;"><strong><br />Előadó: <a href="part
 nereink/andocsi-valeria.html" target="_blank"><span style="text-decoration:
  underline;">Andocsi Valéria</span></a></strong></span><br /><span style="
 font-size: 10pt;"><strong>Helyszín:</strong> Zalaegerszeg, szervezés alat
 t</span><br /><span style="font-size: 10pt;"><strong>Időpont:</strong> 201
 8. október 27.&nbsp;&nbsp;&nbsp; 9.00 -&nbsp; 18.00 &nbsp;</span><br /><sp
 an style="font-size: 10pt;">(Ebédszünet: 12.00 - 13.00)<br /><br /><stron
 g>Részvételi díj:</strong> 15.000 Ft / Fő<br /><br />Kedvezmények:</sp
 an><br /><span style="font-size: 10pt;">Okt. 22-ig jelentkezőknek: 12.000 
 Ft /fő</span><br /><span style="font-size: 10pt;">Tanfolyamot végzettekne
 k: 10.000 Ft/ fő</span><br /><span style="font-size: 10pt;">Házaspárokna
 k 7.500 Ft /fő</span><br /><span style="font-size: 10pt;">Nyugdíjasoknak:
  5000 Ft / fő</span><br /><span style="font-size: 10pt;">A kedvezmények n
 em vonhatók össze!<br /><br /><strong>Jelentkezés:</strong> <span style=
 "color: #800000;"><strong>írásos előregisztráció kötelező</strong></
 span> a 
 <script language='JavaScript' type='text/javascript'>
 <!--
 var 
 prefix = 'm&#97;&#105;lt&#111;:';
 var suffix = '';
 var attribs = '';
 var
  path = 'hr' + 'ef' + '=';
 var addy91891 = 'b&#105;&#111;l&#111;g&#105;k&#
 97;z&#101;g' + '&#64;';
 addy91891 = addy91891 + 'gm&#97;&#105;l' + '&#46;'
  + 'c&#111;m';
 document.write( '<a ' + path + '\'' + prefix + addy91891 + 
 suffix + '\'' + attribs + '>' );
 document.write( addy91891 );
 document.wr
 ite( '<\/a>' );
 //-->
 </script><script language='JavaScript' type='text/j
 avascript'>
 <!--
 document.write( '<span style=\'display: none;\'>' );
 //
 -->
 </script>Ez az email cím védett a spam robotoktól, a megtekintésé
 hez engedélyezni kell a Javascriptet.
 <script language='JavaScript' type=
 'text/javascript'>
 <!--
 document.write( '</' );
 document.write( 'span>' 
 );
 //-->
 </script> email címen</span><br /><span style="font-size: 10pt;
 ">További információ 
 <script language='JavaScript' type='text/javascri
 pt'>
 <!--
 var prefix = 'm&#97;&#105;lt&#111;:';
 var suffix = '';
 var at
 tribs = '';
 var path = 'hr' + 'ef' + '=';
 var addy96431 = 'b&#105;&#111;l
 &#111;g&#105;k&#97;z&#101;g' + '&#64;';
 addy96431 = addy96431 + 'gm&#97;&#
 105;l' + '&#46;' + 'c&#111;m';
 document.write( '<a ' + path + '\'' + prefi
 x + addy96431 + suffix + '\'' + attribs + '>' );
 document.write( addy96431
  );
 document.write( '<\/a>' );
 //-->
 </script><script language='JavaScri
 pt' type='text/javascript'>
 <!--
 document.write( '<span style=\'display: 
 none;\'>' );
 //-->
 </script>Ez az email cím védett a spam robotoktól, 
 a megtekintéséhez engedélyezni kell a Javascriptet.
 <script language='J
 avaScript' type='text/javascript'>
 <!--
 document.write( '</' );
 document
 .write( 'span>' );
 //-->
 </script> email címen vagy +36 30 5552256 telef
 onszámon</span><br /><br /><strong><span style="font-size: 10pt;">Téma:</
 span></strong><br /><br /><span style="font-size: 10pt;">1.Az öt természe
 ttörvény rövid áttekintése</span><br /><span style="font-size: 10pt;">
 2.A gyermekbetegségek<br /><br />Jelentkezéskor add meg:<br /><br />1.) a
  tréning időpontját</span><br /><span style="font-size: 10pt;">2.) ponto
 s nevedet</span><br /><span style="font-size: 10pt;">3.) mobil számodat</s
 pan><br /><span style="font-size: 10pt;">4.) e-mail címedet<br /><br />Min
 denkit szeretettel várunk!</span><br /><span style="font-size: 10pt;">Ando
 csi Valéria<br /><br /><br /></span></p>
CONTACT:
 
 
 
 
 Ez az email cím védett a spam robotoktól, a megtekintéséhez engedélyezni kell a Javascriptet.
 
 
  vagy +36 30 5552256

DTSTAMP:20260423T011727Z
DTSTART:20181027T070000Z
DTEND:20181027T160000Z
SEQUENCE:0
TRANSP:OPAQUE
END:VEVENT
END:VCALENDAR