BEGIN:VCALENDAR
VERSION:2.0
PRODID:-//jEvents 1.5 for Joomla//EN
BEGIN:VEVENT
CALSCALE:GREGORIAN
METHOD:PUBLISH

UID:3cc00b33e8df7ee2f3c83a870ca6136f
CATEGORIES:Alap szeminÃ¡rium 
SUMMARY:ElekN: Biologika IntenzÃ­v Tanfolyam 1/4 (Budapest)
LOCATION:Budapest, szervezÃ©s alatt
DESCRIPTION;ENCODING=QUOTED-PRINTABLE:<p><strong><span style="font-size: 12pt;">BIOLOGIKA (GNM ÃšJ MEDICINA) TRÃ‰
 NING</span></strong><br /><strong><span style="font-size: 12pt;">3 nap ALAP
  + 1 nap HALADÃ“ tanfolyam Budapesten</span></strong><br /><span style="fon
 t-size: 10pt;">&nbsp;</span><br /><span style="font-size: 10pt;">tÃ©makÃ¶r:
  daganatok, sorvadÃ¡sok Ã©s mÃ¡s elvÃ¡ltozÃ¡sok, biolÃ³giai Ã©rtelmÃ¼k, cÃ©
 ljuk, rendeltetÃ©sÃ¼k Ã©s lefolyÃ¡suk, hangulatzavarok Ã©s elmebajok</span>
 <br /><span style="font-size: 10pt;">elnevezÃ©s: Biologika (Ãšj Medicina) t
 anfolyam</span><br /><span style="font-size: 10pt;">kategÃ³ria: biologika <
 /span><br /><span style="font-size: 10pt;">lÃ©tszÃ¡mkorlÃ¡t: nincs </span><
 br /><span style="font-size: 10pt;"><strong>trÃ©ner:</strong> <a href="part
 nereink/elek-noemi-ujmedicina-konzulensek.html" target="_blank"><span style
 ="text-decoration: underline;"><strong>Elek NoÃ©mi</strong></span></a></spa
 n><br /><span style="font-size: 10pt;"><strong>helyszÃ­n:</strong> Budapest
 , szervezÃ©s alatt, fÃ¼gg a lÃ©tszÃ¡mtÃ³l - tovÃ¡bbi informÃ¡ciÃ³ e-mailben
 </span><br /><span style="font-size: 10pt;"><strong>idÅ‘tartam:</strong> 4 
 nap, <strong>2018. november 24-25., december 1-2.</strong></span></p><p><sp
 an style="font-size: 10pt;"><strong>rÃ©szvÃ©teli dÃ­j:</strong> (4 nap): 60
 .000.-Ft / fÅ‘ / 4 nap</span><br /><span style="font-size: 10pt;"><strong>j
 elentkezÃ©si hatÃ¡ridÅ‘</strong>:2018. november 21.</span><br /><strong><sp
 an style="font-size: 10pt;">KedvezmÃ©nyes tanfolyamdÃ­jak:</span></strong><
 br /><span style="font-size: 10pt;">- 2018. november 11-ig tÃ¶rtÃ©nÅ‘ regis
 ztÃ¡ciÃ³ esetÃ©n: 45.000.-Ft/fÅ‘/4 nap<br /></span><br /><span style="font-
 size: 10pt;"><strong>jelentkezÃ©s:</strong> <span style="color: #800000;"><
 strong>Ã­rÃ¡sos elÅ‘regisztrÃ¡ciÃ³ kÃ¶telezÅ‘</strong></span> a 
 <script l
 anguage='JavaScript' type='text/javascript'>
 <!--
 var prefix = 'm&#97;&#1
 05;lt&#111;:';
 var suffix = '';
 var attribs = '';
 var path = 'hr' + 'ef'
  + '=';
 var addy51656 = 'n&#111;&#101;m&#105;' + '&#64;';
 addy51656 = add
 y51656 + 'b&#105;&#111;l&#111;g&#105;k&#97;' + '&#46;' + 'h&#117;';
 docume
 nt.write( '<a ' + path + '\'' + prefix + addy51656 + suffix + '\'' + attrib
 s + '>' );
 document.write( addy51656 );
 document.write( '<\/a>' );
 //-->
 
 </script><script language='JavaScript' type='text/javascript'>
 <!--
 doc
 ument.write( '<span style=\'display: none;\'>' );
 //-->
 </script>Ez az em
 ail cÃ­m vÃ©dett a spam robotoktÃ³l, a megtekintÃ©sÃ©hez engedÃ©lyezni kell
  a Javascriptet.
 <script language='JavaScript' type='text/javascript'>
 <!
 --
 document.write( '</' );
 document.write( 'span>' );
 //-->
 </script> e
 -mail cÃ­men</span><br /><a href="https://elengedes.hu/course/4-napos-biolo
 gika-alaptrening-november/"><span style="font-size: 10pt;">https://elengede
 s.hu/course/4-napos-biologika-alaptrening-november/<br /></span></a><br /><
 span style="font-size: 10pt;">A tanfolyam cÃ©lja, hogy alapokat adjon a bio
 lÃ³giai termÃ©szettÃ¶rvÃ©nyek megismerÃ©sÃ©hez, a testben lezajlÃ³ folyamat
 ok megÃ©rtÃ©sÃ©hez. </span><br /><span style="font-size: 10pt;">A biolÃ³gia
  termÃ©szettÃ¶rvÃ©nyei hitrendszerÃ¼nktÅ‘l fÃ¼ggetlenÃ¼l mÅ±kÃ¶dnek, egyÃ©n
 ileg ellenÅ‘rizhetÅ‘ek akÃ¡r visszamenÅ‘leg is. <br /></span><br /><span st
 yle="font-size: 10pt;">A tanfolyami ismeretek elsajÃ¡tÃ­tÃ¡sa Ãºj rÃ¡lÃ¡tÃ¡
 st biztosÃ­t a betegsÃ©gek helyes Ã©rtelmezÃ©sÃ©re. SegÃ­tsÃ©get nyÃºjt meg
 alapozott dÃ¶ntÃ©seket hozni az egyÃ©n szÃ¡mÃ¡ra sajÃ¡t egÃ©szsÃ©ge Ã©rdekÃ
 ©ben. A Biologika ismeretÃ©nek egyik legnagyobb elÅ‘nye, hogy kÃ©pessÃ© vÃ¡
 lunk a komolyabb elvÃ¡ltozÃ¡sok kialakulÃ¡sÃ¡t megakadÃ¡lyozni, a mÃ¡r foly
 amatban lÃ©vÅ‘ket a legÃ©sszerÅ±bben kezelni. <br /></span><br /><span styl
 e="font-size: 10pt;">A tanfolyam nem gyÃ³gymÃ³d, nem gyÃ³gyÃ­t, nem kÃ©szÃ­
 t fel gyÃ³gyÃ­tÃ³ tevÃ©kenysÃ©g vÃ©gzÃ©sÃ©re. Az ismeretanyag az Ã¶nmagÃ¡Ã©
 rt felelÅ‘ssÃ©get vÃ¡llalÃ³ hÃ©tkÃ¶znapi embernek szÃ³l. Ennek hiÃ¡nya akÃ¡
 r az egÃ©szsÃ©g megÅ‘rzÃ©sÃ©nek, helyreÃ¡llÃ­tÃ¡sÃ¡nak gÃ¡tjÃ¡vÃ¡ is vÃ¡lha
 t. MegÃ©rteni a bennÃ¼nk zajlÃ³ Ã©rzelmi Ã©s testi folyamatokat egy Ãºj, mi
 nÅ‘sÃ©gibb, Ã¡ltalunk irÃ¡nyÃ­tott Ã©letvitel alapjÃ¡t jelentheti. Megszaba
 dulni hiedelmeinktÅ‘l, fÃ©lelmeinktÅ‘l, betegsÃ©gtudatunktÃ³l egy magunkkal
  cipelt teher letÃ©telÃ©t jelenti. <br /></span><br /><span style="font-siz
 e: 10pt;">A tanfolyam nem csak testi szinten tÃ¡rja fel az elvÃ¡ltozÃ¡sokat
 , hanem megmutatja lelki szinten is a kivÃ¡ltÃ³ okokat, Ã©rzelmi kilengÃ©se
 ket.<br /></span><br /><span style="font-size: 10pt;">A trÃ©ning Barnai Rob
 erto Ã¡ltal kÃ©szÃ­tett Szerv Atlasz tudÃ¡sanyagÃ¡n alapul.</span><br /><sp
 an style="font-size: 10pt;">&nbsp;</span><br /><strong><span style="font-si
 ze: 10pt;">A tanfolyam tematikÃ¡ja:</span></strong><br /><strong><span styl
 e="font-size: 10pt;">1. nap</span></strong><br /><span style="font-size: 10
 pt;">Az Ã¶t biolÃ³giai termÃ©szettÃ¶rvÃ©ny - Dr. Ryke Geerd Hammer munkÃ¡ss
 Ã¡ga</span><br /><span style="font-size: 10pt;">Barnai Roberto: Biologika S
 zerv Atlasz felÃ©pÃ­tÃ©se Ã©s hasznÃ¡lata</span><br /><span style="font-siz
 e: 10pt;">Az agytÃ¶rzs vezÃ©relte mirigyszÃ¶vetes szervek elvÃ¡ltozÃ¡sai</s
 pan><br /><span style="font-size: 10pt;">Az kÃ¶zÃ©pagy vezÃ©relte simaizoms
 zÃ¶vetek elvÃ¡ltozÃ¡sai (miÃ³mÃ¡k) </span><br /><strong><span style="font-s
 ize: 10pt;">2. nap</span></strong><br /><span style="font-size: 10pt;">A ki
 sagy vezÃ©relte szervek elvÃ¡ltozÃ¡sai (hÃ¡rtyaszÃ¶vetek, bÅ‘rirha, tejmiri
 gyek)</span><br /><span style="font-size: 10pt;">A velÅ‘Ã¡llomÃ¡ny vezÃ©rel
 te szervek elvÃ¡ltozÃ¡sai Ã©s a valÃ³di cisztÃ¡k</span><br /><span style="f
 ont-size: 10pt;">KÃ¶tÅ‘szÃ¶vetek, vÃ¡zrendszer</span><br /><span style="fon
 t-size: 10pt;">A szÃ­v elvÃ¡ltozÃ¡sai</span><br /><span style="font-size: 1
 0pt;">VÃ©r- Ã©s nyirokrendszer (leukÃ©mia)</span><br /><span style="font-si
 ze: 10pt;">Magas vÃ©rnyomÃ¡s (vesekÃ©reg elvÃ¡ltozÃ¡sa)</span><br /><span s
 tyle="font-size: 10pt;">Here Ã©s petefÃ©szekciszta</span><br /><strong><spa
 n style="font-size: 10pt;">3. nap</span></strong><br /><span style="font-si
 ze: 10pt;">A kÃ©regÃ¡llomÃ¡ny vezÃ©relte szervek elvÃ¡ltozÃ¡sai</span><br /
 ><span style="font-size: 10pt;">FÃ©rfias Ã©s nÅ‘ies hormonÃ¡llapot</span><b
 r /><span style="font-size: 10pt;">FunkciÃ³-kimaradÃ¡sok, bÃ©nulÃ¡sok, cuko
 rszint vÃ¡ltozÃ¡sok</span><br /><strong><span style="font-size: 10pt;">4. n
 ap</span></strong><br /><span style="font-size: 10pt;">MentÃ¡lis kÃ¼lÃ¶npro
 gramok</span><br /><span style="font-size: 10pt;">Hangulatzavarok Ã©s elmeb
 ajok - a leggyakoribb tÃ¼netek hÃ¡tterÃ©vel.</span><br /><span style="font-
 size: 10pt;">(MegzavarodottsÃ¡g, kÃ©nyszeres sÃ©rtegetÃ©s, Ã©rtÃ©kÃ­tÃ©leti
  zavarok, </span><br /><span style="font-size: 10pt;">mÃ¡nia, depressziÃ³, 
 skizofrÃ©nia, fÃ³biÃ¡k Ã©s paranoiÃ¡k.)</span><br /><span style="font-size:
  10pt;">&nbsp;</span><br /><span style="font-size: 10pt;">Tananyag: Biologi
 ka Szerv Atlasz</span><br /><span style="font-size: 10pt;">Roberto elÅ‘adÃ¡
 sainak prezentÃ¡ciÃ³s anyaga az Ãºj medicina kÃ©zikÃ¶nyvÃ©vÃ© nÅ‘tte ki mag
 Ã¡t. A Szerv Atlasz megvÃ¡sÃ¡rolhatÃ³ a webshopban vagy a trÃ©ningen. A Sze
 rv Atlasz jelenleg az egyetlen Ãºj medicinÃ¡s kÃ©zikÃ¶nyv a vilÃ¡gon.<br />
 </span><br /><span style="font-size: 10pt;">JelentkezÃ©skor add meg:<br /><
 /span><br /><span style="font-size: 10pt;">1.) a trÃ©ning nevÃ©t, helyszÃ­n
 Ã©t Ã©s idÅ‘pontjÃ¡t</span><br /><span style="font-size: 10pt;">2.) pontos 
 nevedet</span><br /><span style="font-size: 10pt;">3.) mobil szÃ¡modat</spa
 n><br /><span style="font-size: 10pt;">4.) e-mail cÃ­medet</span></p><p><sp
 an style="font-size: 10pt;"><br /></span></p>
CONTACT:
 
 
 
 
 Ez az email cÃ­m vÃ©dett a spam robotoktÃ³l, a megtekintÃ©sÃ©hez engedÃ©lyezni kell a Javascriptet.
 
 
  +3670 3603980

DTSTAMP:20260420T103050Z
DTSTART:20181124T090000Z
DTEND:20181124T170000Z
SEQUENCE:0
TRANSP:OPAQUE
END:VEVENT
END:VCALENDAR