BEGIN:VCALENDAR
VERSION:2.0
PRODID:-//jEvents 1.5 for Joomla//EN
BEGIN:VEVENT
CALSCALE:GREGORIAN
METHOD:PUBLISH

UID:fab57623d602962ba44a86099002366f
CATEGORIES:Nyilvános összejövetel
SUMMARY:Beda-RádiuszT:BMR-LÁT Előadás: A Túlsúly lehetséges érzelmi okai(Budapest)
LOCATION:Flow Stúdió, 1071 Budapest, Murányi u. 61. II./13.
DESCRIPTION;ENCODING=QUOTED-PRINTABLE:<p><span style="font-size: 10pt;"><strong><span style="font-size: 12pt;">BM
 R-LÁT Előadás: A Túlsúly lehetséges érzelmi okai</span></strong><br 
 /></span></p><p><span style="font-size: 10pt;"><br /></span></p><p><span st
 yle="font-size: 10pt;">Szeretettel meghívunk következő interaktív esté
 nkre. Gyere el és hozd magaddal érdeklődő ismerőseidet is, akik a szó
 ban forgó témában megoldásokat keresnek, és nyitottnak érzik magukat 
 az aktuális témával kapcsolatos beszélgetésre és együtt gondolkodás
 ra!<br /><br /><strong>időpont:</strong> <strong>2018. június 29.</strong
 > (péntek) 17:30 óra</span></p><p><span style="font-size: 10pt;"><strong>
 helyszín:</strong> Flow Stúdió 1071 Budapest, Murányi u. 61. II./13.</s
 pan></p><p><span style="font-size: 10pt;"><strong>részvételi hozzájárul
 ás:</strong> 3 000 Ft</span></p><p><span style="font-size: 10pt;"><span st
 yle="font-size: 10pt;">Részvételi szándékod írásban történő jelzé
 sét</span> <a href="mailto:&lt;a href=" mailto:elemalom="" gmail="" com=""
 >
 <script language='JavaScript' type='text/javascript'>
 <!--
 var prefix 
 = 'm&#97;&#105;lt&#111;:';
 var suffix = '';
 var attribs = '';
 var path =
  'hr' + 'ef' + '=';
 var addy84991 = '&#101;l&#101;m&#97;l&#111;m' + '&#64;
 ';
 addy84991 = addy84991 + 'gm&#97;&#105;l' + '&#46;' + 'c&#111;m';
 docum
 ent.write( '<a ' + path + '\'' + prefix + addy84991 + suffix + '\'' + attri
 bs + '>' );
 document.write( addy84991 );
 document.write( '<\/a>' );
 //--
 >
 </script><script language='JavaScript' type='text/javascript'>
 <!--
 do
 cument.write( '<span style=\'display: none;\'>' );
 //-->
 </script>Ez az e
 mail cím védett a spam robotoktól, a megtekintéséhez engedélyezni kel
 l a Javascriptet.
 <script language='JavaScript' type='text/javascript'>
 <
 !--
 document.write( '</' );
 document.write( 'span>' );
 //-->
 </script><
 /a> e-mail címen köszönettel vesszük.<br /><br /><strong>téma:</strong
 > A túlsúly lehetséges érzelmi okai – Tanfolyam bemutató és önfejl
 esztő munka előkészítő előadás<br /><br />Milyen érzelmi és biolog
 ikus okok miatt van szüksége, lehet szüksége a szervezetnek a többlets
 úlyra?</span><br /><span style="font-size: 10pt;">Miért épül be a kül
 nböző testi területekre különböző mértékben a súly?</span><br />
 <span style="font-size: 10pt;">Miért lehet létszükséglet az érzelmi re
 ndszerünk számára bizonyos esetekben a többletsúly?</span><br /><span 
 style="font-size: 10pt;">Miért nem hízik meg az emberek egy része?</span
 ><br /><span style="font-size: 10pt;">Miért vagyunk képtelenek lefogyni b
 izonyos testrészeken? Több beragadt, rögzült érzelmi állapot fizikai 
 megjelenése.</span><br /><span style="font-size: 10pt;">Hogy lehet az, hog
 y valaki rengeteget eszik, és nem hízik, más meg alig eszik és nagyon h
 ízik?</span><br /><span style="font-size: 10pt;">A fogyókúra jo-jo effek
 tusa.</span><br /><span style="font-size: 10pt;">Hízás okok főbb fajtái
 . A szervezeti, biológiai elváltozás ok vagy okozat bennünk? Ki a főn
 k bennünk?</span><br /><span style="font-size: 10pt;">Édességfüggések
  lehetséges érzelmi okai.</span><br /><span style="font-size: 10pt;">Mié
 rt szeret gond nélkül rendszeresen sportolni valaki, más pedig irtózik 
 bármilyen mozgástól?</span><br /><span style="font-size: 10pt;">Hízás-
 okok lehetséges generációs okai. Kapcsolódási alapjaink a rokonokhoz, 
 hozzánk tartozókhoz.</span><br /><span style="font-size: 10pt;">Hízás 
 s fogyás életszakaszonként.</span><br /><span style="font-size: 10pt;">
 A hízás rejtett érzelmi előnyei.</span><br /><span style="font-size: 10
 pt;">Harc helyett feltárással és megértéssel a túlsúly témakörébe
 n.</span><br /><span style="font-size: 10pt;">Érzelmi oldások és megold
 sok lehetőségei holisztikus rendszerszemlélettel.</span><br /><span sty
 le="font-size: 10pt;">Az út amit kínálunk: Feltérképezzük, felfedezz
 k és megoldjuk együtt a (nem egy) okot.<br /><br />Az előadás termékb
 emutatót NEM tartalmaz.<br /><br />Ha vannak még kérdéseid, felvetései
 d az adott témával kapcsolatban, e-mailben vagy a helyszínen szívesen f
 ogadjuk.<br /><br />Szép nyári napokat kívánunk!<br /><br />Beda Boglá
 rka, Rádiusz Tamás<br /></span></p>
CONTACT:
 
 
 
 
 Ez az email cím védett a spam robotoktól, a megtekintéséhez engedélyezni kell a Javascriptet.
 
 
 

DTSTAMP:20260425T131140Z
DTSTART:20180629T153000Z
DTEND:20180629T190000Z
SEQUENCE:0
TRANSP:OPAQUE
END:VEVENT
END:VCALENDAR