BEGIN:VCALENDAR
VERSION:2.0
PRODID:-//jEvents 1.5 for Joomla//EN
BEGIN:VEVENT
CALSCALE:GREGORIAN
METHOD:PUBLISH

UID:50f74a752c5cea492c16aa485201e226
CATEGORIES:Alap szeminÃ¡rium 
SUMMARY:TarjÃ¡nyiN: Biologika ALAP tanfolyam 1/2 (Szentendre)
LOCATION:Szentendre, szervezÃ©s alatt
DESCRIPTION;ENCODING=QUOTED-PRINTABLE:<p><strong><span style="font-size: 12pt;">BIOLOGIKA (GNM ÃšJ MEDICINA) TRÃ‰
 NING</span></strong><br /><strong><span style="font-size: 12pt;">2 napos AL
 AP tanfolyam Szentendre</span></strong><br /><span style="font-size: 10pt;"
 >&nbsp;</span><br /><span style="font-size: 10pt;">tÃ©makÃ¶r: az agy mÅ±kÃ¶
 dÃ©se, a tudatszÅ±kÃ¼lÃ©s jenesÃ©ge, tÃºlÃ©lÃ©si dinamikÃ¡k, a Szerv Atlasz
  hasznÃ¡lata, hormonszint Ã©s Ã©letvitel</span><br /><span style="font-size
 : 10pt;">daganatok, sorvadÃ¡sok Ã©s mÃ¡s elvÃ¡ltozÃ¡sok, biolÃ³giai Ã©rtelm
 Ã¼k, cÃ©ljuk, rendeltetÃ©sÃ¼k Ã©s lefolyÃ¡suk. </span><br /><span style="fo
 nt-size: 10pt;">elnevezÃ©s: Biologika (Ãšj Medicina) ALAP trÃ©ning </span><
 br /><span style="font-size: 10pt;">kategÃ³ria: biologika </span><br /><spa
 n style="font-size: 10pt;">tÃ­pus: szuperintenzÃ­v trÃ©ning, tanfolyam </sp
 an><br /><span style="font-size: 10pt;"><strong>lÃ©tszÃ¡mkorlÃ¡t:</strong> 
 nincs</span><br /><span style="font-size: 10pt;"><strong>trÃ©ner:</strong> 
 <a href="partnereink/tarjanyi-nanetta.html" target="_blank"><span style="te
 xt-decoration: underline;"><strong>TarjÃ¡nyi Nanetta</strong></span></a></s
 pan><br /><span style="font-size: 10pt;"><strong>helyszÃ­n:</strong> <stron
 g>Szentendre</strong>, szervezÃ©s alatt, fÃ¼gg a lÃ©tszÃ¡mtÃ³l - tovÃ¡bbi i
 nformÃ¡ciÃ³ e-mailben</span><br /><span style="font-size: 10pt;"><strong>id
 Å‘tartam:</strong> 2 nap,&nbsp; <strong>2018. oktÃ³ber 20-21.</strong> 9-18
  Ã³rÃ¡ig</span><br /><span style="font-size: 10pt;">ebÃ©dszÃ¼net: 13-14 Ã³r
 Ã¡ig </span><br /><span style="font-size: 10pt;">kÃ©rdÃ©sek, vÃ¡laszok: 17-
 18 Ã³rÃ¡ig</span></p><p><span style="font-size: 10pt;">bontÃ¡si lehetÅ‘sÃ©g
 : van<br /><br /><strong>elÅ‘feltÃ©tel:</strong> <a href="https://www.youtu
 be.com/watch?v=kKaM1mGtrwc&amp;index=1&amp;list=PL9UBjX2XUV_1zwIcRD71ahjlFr
 p_UQBu9" target="_blank"><span style="text-decoration: underline;"><span st
 yle="color: #000080; text-decoration: underline;">5 biolÃ³giai termÃ©szettÃ
 ¶rvÃ©ny online</span></span></a>, ingyenes elÅ‘adÃ¡s megtekintÃ©se legalÃ¡b
 b kÃ©tszer<br /><br /><strong>jelentkezÃ©si hatÃ¡ridÅ‘:</strong> 2018. oktÃ
 ³ber 19.<br /><br /><span style="font-size: 10pt;"><strong>rÃ©szvÃ©teli dÃ­
 j:</strong> (2 nap): 25.000.-Ft / fÅ‘ / 2 nap</span></span></p><p><strong><
 span style="font-size: 10pt;">KedvezmÃ©nyes tanfolyamdÃ­jak:</span></strong
 ><br /><span style="font-size: 10pt;">- ismÃ©tlÅ‘ (RobertÃ³nÃ¡l Ã©s NanettÃ
 ¡nÃ¡l): 12.000.-Ft / 2 nap<br /></span><br /><span style="font-size: 10pt;"
 ><strong>jelentkezÃ©s</strong>: <strong><span style="color: #800000;">Ã­rÃ¡
 sos elÅ‘regisztrÃ¡ciÃ³ kÃ¶telezÅ‘</span></strong> a 
 <script language='Jav
 aScript' type='text/javascript'>
 <!--
 var prefix = 'm&#97;&#105;lt&#111;:
 ';
 var suffix = '';
 var attribs = '';
 var path = 'hr' + 'ef' + '=';
 var
  addy2290 = 'n&#97;n&#101;tt&#97;' + '&#64;';
 addy2290 = addy2290 + 'b&#10
 5;&#111;l&#111;g&#105;k&#97;' + '&#46;' + 'h&#117;';
 document.write( '<a '
  + path + '\'' + prefix + addy2290 + suffix + '\'' + attribs + '>' );
 docu
 ment.write( addy2290 );
 document.write( '<\/a>' );
 //-->
 </script><scrip
 t language='JavaScript' type='text/javascript'>
 <!--
 document.write( '<sp
 an style=\'display: none;\'>' );
 //-->
 </script>Ez az email cÃ­m vÃ©dett 
 a spam robotoktÃ³l, a megtekintÃ©sÃ©hez engedÃ©lyezni kell a Javascriptet.

  <script language='JavaScript' type='text/javascript'>
 <!--
 document.writ
 e( '</' );
 document.write( 'span>' );
 //-->
 </script> e-mail cÃ­men</spa
 n></p><p><span style="font-size: 10pt;"><br /></span></p><p><span style="fo
 nt-size: 10pt;">tovÃ¡bbi programok (tanfolyam, konzultÃ¡ciÃ³): Zilahon, Mar
 osvÃ¡sÃ¡rhelyen: a BBSLife honlapjÃ¡n Ã©s facebook oldalÃ¡n:</span><br /><a
  href="https://www.facebook.com/BBSLife-590093897763401/events"><span style
 ="font-size: 10pt;">https://www.facebook.com/BBSLife-590093897763401/events
 </span></a></p><p><a href="https://www.facebook.com/BBSLife-590093897763401
 /events"><span style="font-size: 10pt;"></span></a><span style="font-size: 
 10pt;"> </span><br /><span style="font-size: 10pt;">A tanfolyam cÃ©lja, hog
 y alapokat adjon a biolÃ³giai termÃ©szettÃ¶rvÃ©nyek megismerÃ©sÃ©hez, a tes
 tben lezajlÃ³ folyamatok megÃ©rtÃ©sÃ©hez. A biolÃ³gia termÃ©szettÃ¶rvÃ©nyei
  hitrendszerÃ¼nktÅ‘l fÃ¼ggetlenÃ¼l mÅ±kÃ¶dnek, egyÃ©nileg ellenÅ‘rizhetÅ‘ek
  akÃ¡r visszamenÅ‘leg is. A tanfolyami ismeretek elsajÃ¡tÃ­tÃ¡sa Ãºj rÃ¡lÃ¡
 tÃ¡st biztosÃ­t a betegsÃ©gek helyes Ã©rtelmezÃ©sÃ©re. SegÃ­tsÃ©get nyÃºjt 
 megalapozott dÃ¶ntÃ©seket hozni az egyÃ©n szÃ¡mÃ¡ra sajÃ¡t egÃ©szsÃ©ge Ã©rd
 ekÃ©ben. A biologika ismeretÃ©nek egyik legnagyobb elÅ‘nye, hogy kÃ©pessÃ© 
 vÃ¡lunk a komolyabb elvÃ¡ltozÃ¡sok kialakulÃ¡sÃ¡t megakadÃ¡lyozni, a mÃ¡r f
 olyamatban lÃ©vÅ‘ket a legÃ©sszerÅ±bben kezelni.</span><br /><span style="f
 ont-size: 10pt;">A tanfolyam nem gyÃ³gymÃ³d, nem gyÃ³gyÃ­t, nem kÃ©szÃ­t fe
 l gyÃ³gyÃ­tÃ³ tevÃ©kenysÃ©g vÃ©gzÃ©sÃ©re. Az ismeretanyag az Ã¶nmagÃ¡Ã©rt f
 elelÅ‘ssÃ©get vÃ¡llalÃ³ laikusoknak szÃ³l. MegÃ©rteni a bennÃ¼k zajlÃ³ Ã©rz
 elmi Ã©s testi folyamatokat egy Ãºj, minÅ‘sÃ©gibb, Ã¡ltalunk irÃ¡nyÃ­tott Ã
 ©letvitel alapjÃ¡t jelentheti. Megszabadulni hiedelmeinktÅ‘l, fÃ©lelmeinktÅ
 ‘l, betegsÃ©gtudatunktÃ³l egy magunkkal cipelt teher letÃ©telÃ©t jelenti.</
 span><br /><span style="font-size: 10pt;">A tanfolyam nem csak testi szinte
 n tÃ¡rja fel az elvÃ¡ltozÃ¡sokat, hanem megmutatja lelki szinten is a kivÃ¡
 ltÃ³ okokat, Ã©rzelmi kilengÃ©seket. A trÃ©ning Barnai Roberto Ã¡ltal kÃ©sz
 Ã­tett Szerv Atlasz tudÃ¡sanyagÃ¡n alapul.</span><br /><span style="font-si
 ze: 10pt;">A kÃ©tnapos alaptanfolyam rendszerszemlÃ©letet, tovÃ¡bbi tÃ¡jÃ©k
 ozÃ³dÃ¡s alapja. KÃ©tszer valÃ³ ismÃ©tlÃ©se elmÃ©lyÃ­ti a tudÃ¡st annyira, 
 hogy a kÃ©tnapos alapos haladÃ³ra felkÃ©szÃ¼ljÃ¼nk. Ne feledjÃ¼k, nem egy Ã
 ºj ismeretet szerzÃ¼nk, hanem a rÃ©gi, Ã©vtizedeken Ã¡t tartÃ³ rossz beideg
 zÅ‘dÃ©seket Ã­rjuk Ã¡t! A hallgatÃ³ jegyzetet kap Ã©s a Szerv Atlasz hasznÃ
 ¡latÃ¡ba is betekintÃ©st nyer.</span></p><p><span style="font-size: 10pt;">
 Tananyag:Biologika Szerv Atlasz</span><br /><span style="font-size: 10pt;">
 Roberto elÅ‘adÃ¡sainak prezentÃ¡ciÃ³s anyaga az Ãºj medicina kÃ©zikÃ¶nyvÃ©v
 Ã© nÅ‘tte ki magÃ¡t. A Szerv Atlasz megvÃ¡sÃ¡rolhatÃ³ a webshopban vagy a t
 rÃ©ningen. A Szerv Atlasz jelenleg az egyetlen Ãºj medicinÃ¡s kÃ©zikÃ¶nyv a
  vilÃ¡gon.</span></p><p><br /><strong><span style="font-size: 10pt;">A tanf
 olyam tematikÃ¡ja:</span></strong></p><p><strong><span style="font-size: 10
 pt;">1. nap</span></strong><br /><span style="font-size: 10pt;">Az automati
 kus agy mÅ±kÃ¶dÃ©se</span><br /><span style="font-size: 10pt;">Az Ã¶t biolÃ
 ³giai termÃ©szettÃ¶rvÃ©ny - Dr. Ryke Geerd Hammer munkÃ¡ssÃ¡ga</span><br />
 <span style="font-size: 10pt;">Barnai Roberto: Biologika Szerv Atlasz felÃ©
 pÃ­tÃ©se Ã©s hasznÃ¡lata, tovÃ¡bbi szakirodalom Ã©s tÃ¡jÃ©kozÃ³dÃ¡si pontok
 </span><br /><strong><span style="font-size: 10pt;">2. nap</span></strong><
 br /><span style="font-size: 10pt;">Fontosabb biolÃ³giai elvÃ¡ltozÃ¡sok, be
 tegsÃ©glefutÃ¡sok</span><br /><span style="font-size: 10pt;">HormonÃ¡llapot
  Ã©s Ã©letvitel</span><br /><span style="font-size: 10pt;">Elmezavarok</spa
 n></p><p><br /><strong><span style="font-size: 10pt;">HaladÃ³ tanfolyam:</s
 pan></strong><br /><span style="font-size: 10pt;">&nbsp;<strong>1. nap</str
 ong></span><br /><span style="font-size: 10pt;">A tudat lezÃ¡rÃ³ funkciÃ³jÃ
 ¡nak elkerÃ¼lÃ©se</span><br /><span style="font-size: 10pt;">A biolÃ³giai e
 lvÃ¡ltozÃ¡sok rÃ©szletesen</span></p><p><strong><span style="font-size: 10p
 t;">2. nap</span></strong><br /><span style="font-size: 10pt;">MentÃ¡lis kÃ
 ¼lÃ¶nprogramok</span><br /><span style="font-size: 10pt;">Hangulatzavarok Ã
 ©s elmebajok - a leggyakoribb tÃ¼netek hÃ¡tterÃ©vel. (MegzavarodottsÃ¡g, kÃ
 ©nyszeres sÃ©rtegetÃ©s, Ã©rtÃ©kÃ­tÃ©leti zavarok, mÃ¡nia, depressziÃ³, skiz
 ofrÃ©nia, fÃ³biÃ¡k Ã©s paranoiÃ¡k.)</span></p><p><br /><span style="font-si
 ze: 10pt;">Tananyag: Biologika Szerv Atlasz</span><br /><span style="font-s
 ize: 10pt;">A Szerv Atlasz megvÃ¡sÃ¡rolhatÃ³ a webshopban vagy a trÃ©ningen
 .</span></p><p><br /><span style="font-size: 10pt;">JelentkezÃ©skor add meg
 :</span><br /><span style="font-size: 10pt;">1.) a trÃ©ning nevÃ©t, helyszÃ
 ­nÃ©t Ã©s idÅ‘pontjÃ¡t</span><br /><span style="font-size: 10pt;">2.) ponto
 s nevedet</span><br /><span style="font-size: 10pt;">3.) mobil szÃ¡modat</s
 pan><br /><span style="font-size: 10pt;">4.) e-mail cÃ­medet</span><br /><s
 pan style="font-size: 10pt;">5.) kedvezmÃ©ny alapjÃ¡t (ha jogosult vagy)</s
 pan></p><p><span style="font-size: 10pt;"><br /></span></p>
CONTACT:
 
 
 
 
 Ez az email cÃ­m vÃ©dett a spam robotoktÃ³l, a megtekintÃ©sÃ©hez engedÃ©lyezni kell a Javascriptet.
 
 
 

DTSTAMP:20260420T005241Z
DTSTART:20181020T080000Z
DTEND:20181020T160000Z
SEQUENCE:0
TRANSP:OPAQUE
END:VEVENT
END:VCALENDAR