BEGIN:VCALENDAR
VERSION:2.0
PRODID:-//jEvents 1.5 for Joomla//EN
BEGIN:VEVENT
CALSCALE:GREGORIAN
METHOD:PUBLISH

UID:779322a8e8ef74fa2b518712a6ecd7aa
CATEGORIES:HaladÃ³ szeminÃ¡rium 
SUMMARY:OrlikI:Biologika intenzÃ­v HaladÃ³ tanfolyam 1/2 (Szeged)
LOCATION:Szeged, szervezÃ©s alatt
DESCRIPTION;ENCODING=QUOTED-PRINTABLE:<p><strong><span style="font-size: 12pt;">BIOLOGIKA (ÃšJ MEDICINA) TRÃ‰NING
 </span></strong><br /><strong><span style="font-size: 12pt;">2 napos intenz
 Ã­v HALADÃ“ tanfolyam Szegeden</span></strong></p><p><strong><span style="f
 ont-size: 12pt;"><br /></span></strong></p><p><span style="font-size: 10pt;
 ">tÃ©makÃ¶r: daganatok, sorvadÃ¡sok Ã©s mÃ¡s elvÃ¡ltozÃ¡sok, biolÃ³giai Ã©r
 telmÃ¼k, cÃ©ljuk, rendeltetÃ©sÃ¼k Ã©s lefolyÃ¡suk, hangulatzavarok Ã©s elme
 bajok</span><br /><span style="font-size: 10pt;"><strong>trÃ©ner</strong>: 
 <a href="partnereink/orlik-ilona-biologika.html" target="_blank"><span styl
 e="text-decoration: underline;"><strong>Orlik Ilona</strong></span></a></sp
 an><br /><span style="font-size: 10pt;"><strong>helyszÃ­n</strong>: Szeged,
  szervezÃ©s alatt, fÃ¼gg a lÃ©tszÃ¡mtÃ³l - tovÃ¡bbi informÃ¡ciÃ³ e-mailben<
 /span><br /><span style="font-size: 10pt;"><strong>idÅ‘tartam</strong>: 2 n
 ap, <strong>2018. jÃºlius 21-22.</strong></span><br /><span style="font-siz
 e: 10pt;">ebÃ©dszÃ¼net: 12-13 Ã³rÃ¡ig<br /></span><br /><span style="font-s
 ize: 10pt;"><strong>elÅ‘feltÃ©tel</strong>: <a href="https://www.youtube.co
 m/watch?v=kKaM1mGtrwc&amp;index=1&amp;list=PL9UBjX2XUV_1zwIcRD71ahjlFrp_UQB
 u9" target="_blank">www.alapismeretek.biologika.hu</a> online, ingyenes elÅ
 ‘adÃ¡s megtekintÃ©se legalÃ¡bb kÃ©tszer<br /></span><br /><span style="font
 -size: 10pt;"><strong>rÃ©szvÃ©teli dÃ­j</strong>: (2 nap): 30.000.-Ft/fÅ‘/2
  nap</span><br /><span style="font-size: 10pt;"><strong>jelentkezÃ©si hatÃ¡
 ridÅ‘</strong>: 2018. jÃºnius 30.<br /></span><br /><strong><span style="fo
 nt-size: 10pt;">KedvezmÃ©nyes tanfolyamdÃ­jak:</span></strong><br /><span s
 tyle="font-size: 10pt;">- A jelentkezÃ©si hatÃ¡ridÅ‘ig regisztrÃ¡lÃ³knak: 2
 3.000Ft/fÅ‘/2 nap</span><br /><span style="font-size: 10pt;">- 60 Ã©v felet
 ti korkedvezmÃ©ny: 20.000.-Ft/fÅ‘/2 nap</span><br /><span style="font-size:
  10pt;">- IsmÃ©tlÅ‘ kedvezmÃ©ny: 10.000 Ft/2 nap</span><br /><span style="f
 ont-size: 10pt;">- 12-18 kÃ¶zÃ¶tti fiatalok rÃ©szÃ©re ingyenes a tanfolyam.
 </span><br /><span style="font-size: 10pt;">Az egyes kedvezmÃ©nyek nem vonh
 atÃ³k Ã¶ssze.</span><br /><span style="font-size: 10pt;">A felsorolt dÃ­jak
 : nettÃ³ Ã¡rak.<br /><br /></span></p><p><span style="font-size: 10pt;"><st
 rong>jelentkezÃ©s</strong>: <span style="color: #800000;"><strong>Ã­rÃ¡sos 
 elÅ‘regisztrÃ¡ciÃ³ kÃ¶telezÅ‘</strong></span> az 
 <script language='JavaSc
 ript' type='text/javascript'>
 <!--
 var prefix = 'm&#97;&#105;lt&#111;:';

  var suffix = '';
 var attribs = '';
 var path = 'hr' + 'ef' + '=';
 var ad
 dy4386 = '&#105;c&#97;' + '&#64;';
 addy4386 = addy4386 + 'b&#105;&#111;l&#
 111;g&#105;k&#97;' + '&#46;' + 'h&#117;';
 document.write( '<a ' + path + '
 \'' + prefix + addy4386 + suffix + '\'' + attribs + '>' );
 document.write(
  addy4386 );
 document.write( '<\/a>' );
 //-->
 </script><script language=
 'JavaScript' type='text/javascript'>
 <!--
 document.write( '<span style=\'
 display: none;\'>' );
 //-->
 </script>Ez az email cÃ­m vÃ©dett a spam robo
 toktÃ³l, a megtekintÃ©sÃ©hez engedÃ©lyezni kell a Javascriptet.
 <script la
 nguage='JavaScript' type='text/javascript'>
 <!--
 document.write( '</' );

  document.write( 'span>' );
 //-->
 </script> e-mail cÃ­men<br /><br /></sp
 an></p><p><span style="font-size: 10pt;">A tanfolyam cÃ©lja, hogy alapokat 
 adjon a biolÃ³giai termÃ©szettÃ¶rvÃ©nyek megismerÃ©sÃ©hez, a testben lezajl
 Ã³ folyamatok megÃ©rtÃ©sÃ©hez.<br /><br /></span></p><p><span style="font-s
 ize: 10pt;">A biolÃ³gia termÃ©szettÃ¶rvÃ©nyei hitrendszerÃ¼nktÅ‘l fÃ¼ggetle
 nÃ¼l mÅ±kÃ¶dnek, egyÃ©nileg ellenÅ‘rizhetÅ‘ek akÃ¡r visszamenÅ‘leg is.<br /
 ><br /></span></p><p><span style="font-size: 10pt;">A tanfolyami ismeretek 
 elsajÃ¡tÃ­tÃ¡sa Ãºj rÃ¡lÃ¡tÃ¡st biztosÃ­t a betegsÃ©gek helyes Ã©rtelmezÃ©s
 Ã©re. SegÃ­tsÃ©get nyÃºjt megalapozott dÃ¶ntÃ©seket hozni az egyÃ©n szÃ¡mÃ¡
 ra sajÃ¡t egÃ©szsÃ©ge Ã©rdekÃ©ben. A Biologika ismeretÃ©nek egyik legnagyob
 b elÅ‘nye, hogy kÃ©pessÃ© vÃ¡lunk a komolyabb elvÃ¡ltozÃ¡sok kialakulÃ¡sÃ¡t
  megakadÃ¡lyozni, a mÃ¡r folyamatban lÃ©vÅ‘ket a legÃ©sszerÅ±bben kezelni.<
 br /><br /></span></p><p><span style="font-size: 10pt;">A tanfolyam nem gyÃ
 ³gymÃ³d, nem gyÃ³gyÃ­t, nem kÃ©szÃ­t fel gyÃ³gyÃ­tÃ³ tevÃ©kenysÃ©g vÃ©gzÃ©s
 Ã©re. Az ismeretanyag az Ã¶nmagÃ¡Ã©rt felelÅ‘ssÃ©get vÃ¡llalÃ³ hÃ©tkÃ¶znapi
  embernek szÃ³l. Ennek hiÃ¡nya akÃ¡r az egÃ©szsÃ©g megÅ‘rzÃ©sÃ©nek, helyreÃ
 ¡llÃ­tÃ¡sÃ¡nak gÃ¡tjÃ¡vÃ¡ is vÃ¡lhat. MegÃ©rteni a bennÃ¼nk zajlÃ³ Ã©rzelmi
  Ã©s testi folyamatokat egy Ãºj, minÅ‘sÃ©gibb, Ã¡ltalunk irÃ¡nyÃ­tott Ã©let
 vitel alapjÃ¡t jelentheti. Megszabadulni hiedelmeinktÅ‘l, fÃ©lelmeinktÅ‘l, 
 betegsÃ©gtudatunktÃ³l egy magunkkal cipelt teher letÃ©telÃ©t jelenti.<br />
 <br /></span></p><p><span style="font-size: 10pt;">A tanfolyam nem csak tes
 ti szinten tÃ¡rja fel az elvÃ¡ltozÃ¡sokat, hanem megmutatja lelki szinten i
 s a kivÃ¡ltÃ³ okokat, Ã©rzelmi kilengÃ©seket.<br /><br /></span></p><p><spa
 n style="font-size: 10pt;">A trÃ©ning Barnai Roberto Ã¡ltal kÃ©szÃ­tett Sze
 rv Atlasz tudÃ¡sanyagÃ¡n alapul.<br /><br /></span></p><p><strong><span sty
 le="font-size: 10pt;">A 2 napos HALADÃ“ tanfolyam tematikÃ¡ja:<br /><br /><
 /span></strong></p><p><strong><span style="font-size: 10pt;">1. nap<br /><b
 r /></span></strong></p><p><span style="font-size: 10pt;">A kÃ©regÃ¡llomÃ¡n
 y vezÃ©relte szervek elvÃ¡ltozÃ¡sai</span><br /><span style="font-size: 10p
 t;">FÃ©rfias Ã©s nÅ‘ies hormonÃ¡llapot</span><br /><span style="font-size: 
 10pt;">FunkciÃ³-kimaradÃ¡sok, bÃ©nulÃ¡sok, cukorszint vÃ¡ltozÃ¡sok<br /><br
  /></span></p><p><strong><span style="font-size: 10pt;">2. nap<br /><br /><
 /span></strong></p><p><span style="font-size: 10pt;">MentÃ¡lis kÃ¼lÃ¶nprogr
 amok</span><br /><span style="font-size: 10pt;">Hangulatzavarok Ã©s elmebaj
 ok - a leggyakoribb tÃ¼netek hÃ¡tterÃ©vel.</span><br /><span style="font-si
 ze: 10pt;">(MegzavarodottsÃ¡g, kÃ©nyszeres sÃ©rtegetÃ©s, Ã©rtÃ©kÃ­tÃ©leti z
 avarok, </span><br /><span style="font-size: 10pt;">mÃ¡nia, depressziÃ³, sk
 izofrÃ©nia, fÃ³biÃ¡k Ã©s paranoiÃ¡k.)<br /><br /></span></p><p><span style=
 "font-size: 10pt;">Tananyag: Biologika Szerv Atlasz<br /><br /></span></p><
 p><span style="font-size: 10pt;">Roberto elÅ‘adÃ¡sainak prezentÃ¡ciÃ³s anya
 ga az Ãºj medicina kÃ©zikÃ¶nyvÃ©vÃ© nÅ‘tte ki magÃ¡t. A Szerv Atlasz megvÃ¡
 sÃ¡rolhatÃ³ a webshopban vagy a trÃ©ningen. A Szerv Atlasz jelenleg az egye
 tlen Ãºj medicinÃ¡s kÃ©zikÃ¶nyv a vilÃ¡gon.<br /><br /></span></p><p><stron
 g><span style="font-size: 10pt;">JelentkezÃ©skor add meg:<br /><br /></span
 ></strong></p><p><span style="font-size: 10pt;">1.) a trÃ©ning nevÃ©t, hely
 szÃ­nÃ©t Ã©s idÅ‘pontjÃ¡t</span><br /><span style="font-size: 10pt;">2.) po
 ntos nevedet</span><br /><span style="font-size: 10pt;">3.) mobil szÃ¡modat
 </span><br /><span style="font-size: 10pt;">4.) e-mail cÃ­medet</span><br /
 ><span style="font-size: 10pt;">5.) kedvezmÃ©ny alapjÃ¡t (ha jogosult vagy)
 </span></p><p><span style="font-size: 10pt;"><br /></span></p>
CONTACT:
 
 
 
 
 Ez az email cÃ­m vÃ©dett a spam robotoktÃ³l, a megtekintÃ©sÃ©hez engedÃ©lyezni kell a Javascriptet.
 
 
 , +36204838742

DTSTAMP:20260424T171332Z
DTSTART:20180721T070000Z
DTEND:20180721T150000Z
SEQUENCE:0
TRANSP:OPAQUE
END:VEVENT
END:VCALENDAR