BEGIN:VCALENDAR
VERSION:2.0
PRODID:-//jEvents 1.5 for Joomla//EN
BEGIN:VEVENT
CALSCALE:GREGORIAN
METHOD:PUBLISH

UID:6fe957d11d111069e8af158aba561de7
CATEGORIES:Alap szeminÃ¡rium 
SUMMARY:OrlikI: Biologika Alap Tanfolyam 1/2 (Szeged)
LOCATION:Szeged, szervezÃ©s alatt
DESCRIPTION;ENCODING=QUOTED-PRINTABLE:<p><strong><span style="font-size: 12pt;">BIOLOGIKA (ÃšJ MEDICINA) TRÃ‰NING
 </span></strong><br /><strong><span style="font-size: 12pt;">2 napos intenz
 Ã­v ALAP tanfolyam Szegeden</span></strong></p><p><strong><span style="font
 -size: 12pt;"><br /></span></strong></p><p><span style="font-size: 10pt;">t
 Ã©makÃ¶r: daganatok, sorvadÃ¡sok Ã©s mÃ¡s elvÃ¡ltozÃ¡sok, biolÃ³giai Ã©rtel
 mÃ¼k, cÃ©ljuk, rendeltetÃ©sÃ¼k Ã©s lefolyÃ¡suk, hangulatzavarok Ã©s elmebaj
 ok</span><br /><span style="font-size: 10pt;"><strong>trÃ©ner:</strong> <a 
 href="partnereink/orlik-ilona-biologika.html" target="_blank"><span style="
 text-decoration: underline;"><strong>Orlik Ilona</strong></span></a></span>
 <br /><span style="font-size: 10pt;"><strong>helyszÃ­n</strong>: Szeged, sz
 ervezÃ©s alatt, fÃ¼gg a lÃ©tszÃ¡mtÃ³l - tovÃ¡bbi informÃ¡ciÃ³ e-mailben</sp
 an><br /><span style="font-size: 10pt;"><strong>idÅ‘tartam</strong>: 2 nap,
  <strong>2018. jÃºlius 14-15.</strong></span><br /><span style="font-size: 
 10pt;">ebÃ©dszÃ¼net: 12-13 Ã³rÃ¡ig</span><br /><span style="font-size: 10pt
 ;"><strong>elÅ‘feltÃ©tel</strong>: <a href="https://www.youtube.com/watch?v
 =kKaM1mGtrwc&amp;index=1&amp;list=PL9UBjX2XUV_1zwIcRD71ahjlFrp_UQBu9" targe
 t="_blank"><span style="text-decoration: underline;">www.alapismeretek.biol
 ogika.hu</span></a> online, ingyenes elÅ‘adÃ¡s megtekintÃ©se legalÃ¡bb kÃ©t
 szer<br /></span><br /><span style="font-size: 10pt;"><strong>rÃ©szvÃ©teli 
 dÃ­j</strong>: (2 nap): 30.000.-Ft/fÅ‘/2 nap</span><br /><span style="font-
 size: 10pt;"><strong>jelentkezÃ©si hatÃ¡ridÅ‘:</strong> 2018. jÃºnius 30.<b
 r /></span><br /><strong><span style="font-size: 10pt;">KedvezmÃ©nyes tanfo
 lyamdÃ­jak:</span></strong><br /><span style="font-size: 10pt;">- A jelentk
 ezÃ©si hatÃ¡ridÅ‘ig regisztrÃ¡lÃ³knak: 23.000Ft/fÅ‘/2 nap</span><br /><span
  style="font-size: 10pt;">- 60 Ã©v feletti korkedvezmÃ©ny: 20.000.-Ft/fÅ‘/2
  nap</span><br /><span style="font-size: 10pt;">- IsmÃ©tlÅ‘ kedvezmÃ©ny: 10
 .000 Ft/2 nap</span><br /><span style="font-size: 10pt;">- 12-18 kÃ¶zÃ¶tti 
 fiatalok rÃ©szÃ©re ingyenes a tanfolyam.</span><br /><span style="font-size
 : 10pt;">Az egyes kedvezmÃ©nyek nem vonhatÃ³k Ã¶ssze.</span><br /><span sty
 le="font-size: 10pt;">A felsorolt dÃ­jak: nettÃ³ Ã¡rak.<br /><br /></span><
 /p><p><span style="font-size: 10pt;"><strong>jelentkezÃ©s:</strong> <span s
 tyle="color: #800000;"><strong>Ã­rÃ¡sos elÅ‘regisztrÃ¡ciÃ³ kÃ¶telezÅ‘</stro
 ng></span> az 
 <script language='JavaScript' type='text/javascript'>
 <!--
 
 var prefix = 'm&#97;&#105;lt&#111;:';
 var suffix = '';
 var attribs = ''
 ;
 var path = 'hr' + 'ef' + '=';
 var addy72801 = '&#105;c&#97;' + '&#64;';
 
 addy72801 = addy72801 + 'b&#105;&#111;l&#111;g&#105;k&#97;' + '&#46;' + '
 h&#117;';
 document.write( '<a ' + path + '\'' + prefix + addy72801 + suffi
 x + '\'' + attribs + '>' );
 document.write( addy72801 );
 document.write( 
 '<\/a>' );
 //-->
 </script><script language='JavaScript' type='text/javasc
 ript'>
 <!--
 document.write( '<span style=\'display: none;\'>' );
 //-->
 
 </script>Ez az email cÃ­m vÃ©dett a spam robotoktÃ³l, a megtekintÃ©sÃ©hez e
 ngedÃ©lyezni kell a Javascriptet.
 <script language='JavaScript' type='text
 /javascript'>
 <!--
 document.write( '</' );
 document.write( 'span>' );
 /
 /-->
 </script> e-mail cÃ­men<br /><br /></span></p><p><span style="font-si
 ze: 10pt;">A tanfolyam cÃ©lja, hogy alapokat adjon a biolÃ³giai termÃ©szett
 Ã¶rvÃ©nyek megismerÃ©sÃ©hez, a testben lezajlÃ³ folyamatok megÃ©rtÃ©sÃ©hez.
 <br /></span></p><p><span style="font-size: 10pt;">A biolÃ³gia termÃ©szettÃ
 ¶rvÃ©nyei hitrendszerÃ¼nktÅ‘l fÃ¼ggetlenÃ¼l mÅ±kÃ¶dnek, egyÃ©nileg ellenÅ‘r
 izhetÅ‘ek akÃ¡r visszamenÅ‘leg is.</span></p><p><span style="font-size: 10p
 t;">A tanfolyami ismeretek elsajÃ¡tÃ­tÃ¡sa Ãºj rÃ¡lÃ¡tÃ¡st biztosÃ­t a bete
 gsÃ©gek helyes Ã©rtelmezÃ©sÃ©re. SegÃ­tsÃ©get nyÃºjt megalapozott dÃ¶ntÃ©se
 ket hozni az egyÃ©n szÃ¡mÃ¡ra sajÃ¡t egÃ©szsÃ©ge Ã©rdekÃ©ben. A Biologika i
 smeretÃ©nek egyik legnagyobb elÅ‘nye, hogy kÃ©pessÃ© vÃ¡lunk a komolyabb el
 vÃ¡ltozÃ¡sok kialakulÃ¡sÃ¡t megakadÃ¡lyozni, a mÃ¡r folyamatban lÃ©vÅ‘ket a
  legÃ©sszerÅ±bben kezelni.</span></p><p><span style="font-size: 10pt;">A ta
 nfolyam nem gyÃ³gymÃ³d, nem gyÃ³gyÃ­t, nem kÃ©szÃ­t fel gyÃ³gyÃ­tÃ³ tevÃ©ke
 nysÃ©g vÃ©gzÃ©sÃ©re. Az ismeretanyag az Ã¶nmagÃ¡Ã©rt felelÅ‘ssÃ©get vÃ¡llal
 Ã³ hÃ©tkÃ¶znapi embernek szÃ³l. Ennek hiÃ¡nya akÃ¡r az egÃ©szsÃ©g megÅ‘rzÃ©
 sÃ©nek, helyreÃ¡llÃ­tÃ¡sÃ¡nak gÃ¡tjÃ¡vÃ¡ is vÃ¡lhat. MegÃ©rteni a bennÃ¼nk 
 zajlÃ³ Ã©rzelmi Ã©s testi folyamatokat egy Ãºj, minÅ‘sÃ©gibb, Ã¡ltalunk irÃ
 ¡nyÃ­tott Ã©letvitel alapjÃ¡t jelentheti. Megszabadulni hiedelmeinktÅ‘l, fÃ
 ©lelmeinktÅ‘l, betegsÃ©gtudatunktÃ³l egy magunkkal cipelt teher letÃ©telÃ©t
  jelenti.</span></p><p><span style="font-size: 10pt;">A tanfolyam nem csak 
 testi szinten tÃ¡rja fel az elvÃ¡ltozÃ¡sokat, hanem megmutatja lelki szinte
 n is a kivÃ¡ltÃ³ okokat, Ã©rzelmi kilengÃ©seket.</span></p><p><span style="
 font-size: 10pt;">A trÃ©ning Barnai Roberto Ã¡ltal kÃ©szÃ­tett Szerv Atlasz
  tudÃ¡sanyagÃ¡n alapul.</span></p><p><span style="font-size: 10pt;"><br /><
 /span></p><p><strong><span style="font-size: 10pt;">A 2 napos ALAP tanfolya
 m tematikÃ¡ja:<br /><br /></span></strong></p><p><strong><span style="font-
 size: 10pt;">1. nap<br /><br /></span></strong></p><p><span style="font-siz
 e: 10pt;">Az Ã¶t biolÃ³giai termÃ©szettÃ¶rvÃ©ny - Dr. RykeGeerd Hammer munk
 Ã¡ssÃ¡ga</span><br /><span style="font-size: 10pt;">Barnai Roberto: Biologi
 ka Szerv Atlasz felÃ©pÃ­tÃ©se Ã©s hasznÃ¡lata</span><br /><span style="font
 -size: 10pt;">Az agytÃ¶rzs vezÃ©relte mirigyszÃ¶vetes szervek elvÃ¡ltozÃ¡sa
 i</span><br /><span style="font-size: 10pt;">A kÃ¶zÃ©pagy vezÃ©relte simaiz
 omszÃ¶vetek elvÃ¡ltozÃ¡sai (miÃ³mÃ¡k)<br /><br /></span></p><p><strong><spa
 n style="font-size: 10pt;">2. nap<br /><br /></span></strong></p><p><span s
 tyle="font-size: 10pt;">A kisagy vezÃ©relte szervek elvÃ¡ltozÃ¡sai (hÃ¡rtya
 szÃ¶vetek, bÅ‘rirha, tejmirigyek)</span><br /><span style="font-size: 10pt;
 ">A velÅ‘Ã¡llomÃ¡ny vezÃ©relte szervek elvÃ¡ltozÃ¡sai Ã©s a valÃ³di cisztÃ¡
 k</span><br /><span style="font-size: 10pt;">KÃ¶tÅ‘szÃ¶vetek, vÃ¡zrendszer<
 /span><br /><span style="font-size: 10pt;">A szÃ­v elvÃ¡ltozÃ¡sai</span><br
  /><span style="font-size: 10pt;">VÃ©r- Ã©s nyirokrendszer (leukÃ©mia)</spa
 n><br /><span style="font-size: 10pt;">Magas vÃ©rnyomÃ¡s (vesekÃ©reg elvÃ¡l
 tozÃ¡sa)</span><br /><span style="font-size: 10pt;">Here Ã©s petefÃ©szekcis
 zta<br /><br /></span></p><p><br /><span style="font-size: 10pt;">Tananyag:
  Biologika Szerv Atlasz<br /><br /></span></p><p><span style="font-size: 10
 pt;">Roberto elÅ‘adÃ¡sainak prezentÃ¡ciÃ³s anyaga az Ãºj medicina kÃ©zikÃ¶n
 yvÃ©vÃ© nÅ‘tte ki magÃ¡t. A Szerv Atlasz megvÃ¡sÃ¡rolhatÃ³ a webshopban vag
 y a trÃ©ningen. A Szerv Atlasz jelenleg az egyetlen Ãºj medicinÃ¡s kÃ©zikÃ¶
 nyv a vilÃ¡gon.<br /><br /></span></p><p><strong><span style="font-size: 10
 pt;">JelentkezÃ©skor add meg:<br /><br /></span></strong></p><p><span style
 ="font-size: 10pt;">1.) a trÃ©ning nevÃ©t, helyszÃ­nÃ©t Ã©s idÅ‘pontjÃ¡t</s
 pan><br /><span style="font-size: 10pt;">2.) pontos nevedet</span><br /><sp
 an style="font-size: 10pt;">3.) mobil szÃ¡modat</span><br /><span style="fo
 nt-size: 10pt;">4.) e-mail cÃ­medet</span><br /><span style="font-size: 10p
 t;">5.) kedvezmÃ©ny alapjÃ¡t (ha jogosult vagy)</span></p>
CONTACT:
 
 
 
 
 Ez az email cÃ­m vÃ©dett a spam robotoktÃ³l, a megtekintÃ©sÃ©hez engedÃ©lyezni kell a Javascriptet.
 
 
 , +36204838742

DTSTAMP:20260424T154904Z
DTSTART:20180714T070000Z
DTEND:20180714T150000Z
SEQUENCE:0
TRANSP:OPAQUE
END:VEVENT
END:VCALENDAR