BEGIN:VCALENDAR
VERSION:2.0
PRODID:-//jEvents 1.5 for Joomla//EN
BEGIN:VEVENT
CALSCALE:GREGORIAN
METHOD:PUBLISH

UID:721a4dacbe7aba4076ae95dadd8da843
CATEGORIES:Egyéb kapcsolódó tanfolyam
SUMMARY:Beda-RádiuszTamás:BMR-LÁT Hétvégi Alapozó Tanfolyam 1/2(Budapest)
LOCATION:Budapest, szervezés alatt
DESCRIPTION;ENCODING=QUOTED-PRINTABLE:<p><strong><span style="font-size: 12pt;">BELSŐ MEGÉLÉSEK RENDSZERE<br /
 >a BMR Lélekmodellel és a Lelki Állapotok Táblázatával<br />2 napos a
 lapozó tanfolyam Budapesten</span></strong></p><p><br /><span style="font-
 size: 10pt;">elnevezés: Belső Megélések Rendszere Alapozó Tanfolyam<br
  /></span><span style="font-size: 10pt;">kategória: konfliktusmegoldás, t
 udatosság, lélekismeret, érzelmek logikája<br /></span><span style="fon
 t-size: 10pt;">típus: intenzív tanfolyam<br /></span><span style="font-si
 ze: 10pt;"><strong>létszám</strong>: maximum 16 fő<br /></span><span sty
 le="font-size: 10pt;"><strong>átadó</strong>: <strong>Beda Boglárka, <a 
 href="partnereink/radiusz-tamas.html" target="_blank"><span style="text-dec
 oration: underline;">Rádiusz Tamás</span></a></strong><br /></span><span 
 style="font-size: 10pt;"><strong>helyszín</strong>: Budapest,szervezés al
 att<br /></span><span style="font-size: 10pt;"><strong>időtartam</strong>:
  2 nap, <strong>2018. június 23-24.</strong><br /></span><span style="font
 -size: 10pt;"><br /></span><span style="font-size: 10pt;">A részvételi d
 j tartalmazza a ~ 140 oldalas jegyzetet is és a LÁT Alaptáblázat árá
 t is.<br /></span><span style="font-size: 10pt;">Az alábbi helyeken tájé
 kozódhatsz a tanfolyam tematikájáról:<br /></span><a style="font-size: 
 10pt;" href="http://www.belsomegelesekrendszere.hu">http://www.belsomegeles
 ekrendszere.hu<br /></a><span style="font-size: 10pt;"><strong>Részvételi
  díj alkalmanként fizetve:</strong> 14 000 Ft / fő / nap.<br /></span><s
 pan style="font-size: 10pt;">(Pest megyén túlról érkezőknek a részvé
 teli díj alkalmanként fizetve: 10 000 Ft / fő / nap.)<br /></span><span 
 style="font-size: 10pt;">Tanfolyamot ismétlők számára: 6 000 Ft/nap<br 
 /></span></p><p><span style="font-size: 10pt;"><strong>Jelentkezés</strong
 >: <span style="color: #800000;"><strong>írásos előregisztrációt kér
 nk</strong></span> az 
 <script language='JavaScript' type='text/javascrip
 t'>
 <!--
 var prefix = 'm&#97;&#105;lt&#111;:';
 var suffix = '';
 var att
 ribs = '';
 var path = 'hr' + 'ef' + '=';
 var addy2571 = '&#101;l&#101;m&#
 97;l&#111;m' + '&#64;';
 addy2571 = addy2571 + 'gm&#97;&#105;l' + '&#46;' +
  'c&#111;m';
 document.write( '<a ' + path + '\'' + prefix + addy2571 + suf
 fix + '\'' + attribs + '>' );
 document.write( addy2571 );
 document.write(
  '<\/a>' );
 //-->
 </script><script language='JavaScript' type='text/javas
 cript'>
 <!--
 document.write( '<span style=\'display: none;\'>' );
 //-->

  </script>Ez az email cím védett a spam robotoktól, a megtekintéséhez 
 engedélyezni kell a Javascriptet.
 <script language='JavaScript' type='tex
 t/javascript'>
 <!--
 document.write( '</' );
 document.write( 'span>' );
 
 //-->
 </script> e-mail címen. Jelentkezés lemondása: írásban lehetsé
 ges</span></p><p><span style="font-size: 10pt;"></span><span style="font-si
 ze: 10pt;">Miért jó a belső világunkat megismerni?<br /><br /></span><s
 pan style="font-size: 10pt;">Belső világunk (lelkünk) az érzelmünk és
  tudatunk, belső indíttatásunk, motivációnk forrása. Ez az origónk. 
 Lelkünk állapota határozza meg például,</span></p><p><span style="font
 -size: 10pt;">– hogyan érezzük magunkat a saját bőrünkben,</span><br
  /><span style="font-size: 10pt;">– meglátjuk-e és éljük-e a hozott 
 rzelmi többletünket, az életünk értelmét,</span><br /><span style="f
 ont-size: 10pt;">– képesek vagyunk-e hozott többletünket adva boldogg
  válni,</span><br /><span style="font-size: 10pt;">– rászorulunk-e má
 sok kapcsolatára, tudunk-e, és ha igen, hogyan tudunk kapcsolatokat épí
 teni környezetünkkel, játszma vagy játékalapú lesz-e kapcsolódásunk
  formája,</span><br /><span style="font-size: 10pt;">– hogyan reagálunk
  a minket ért veszteségekre, képesek vagyunk-e a veszteségek feldolgoz
 sára.</span></p><p>&nbsp;</p><p><span style="font-size: 10pt;">A külvil
 g csak adott milyenségű kapcsolódási lehetőségeket nyújt nekünk, l
 elkiállapotunk határozza meg, mely kapcsolódási lehetőségekkel fogunk
  a gyakorlatban élni.</span></p><p>&nbsp;</p><p><span style="font-size: 10
 pt;">Lelkünk érzelmi és tudati állapota meghatározza észlelésünket,
  megnyithatja az utat kiteljesedésünkhöz, gerjesztheti vagy korlátozhat
 ja megnyilvánulásainkat, cselekedeteinket.</span></p><p>&nbsp;</p><p><spa
 n style="font-size: 10pt;">Érzelmi veszteségeink súlya, azok feldolgozot
 tsági foka határozza meg, hogy egy adott megélési területen meg tud-e 
 nyilvánulni belső, születésünkkel magunkkal hozott, önzetlenül adni 
 képes Érzelmi Többletünk.</span></p><p>&nbsp;</p><p><span style="font-s
 ize: 10pt;">Ezért szó szerint meghatározó számunkra, mennyire ismerjü
 k a Belső Világunkat, a Lelkünket, ahol élünk.</span></p><p>&nbsp;</p>
 <div><span style="font-size: 10pt;"><br /></span></div><p><span style="font
 -size: 10pt;"><br /></span></p><p><span style="font-size: 10pt;"><br /></sp
 an></p>
CONTACT:
 
 
 
 
 Ez az email cím védett a spam robotoktól, a megtekintéséhez engedélyezni kell a Javascriptet.
 
 
 

DTSTAMP:20260425T030704Z
DTSTART:20180623T070000Z
DTEND:20180623T160000Z
SEQUENCE:0
TRANSP:OPAQUE
END:VEVENT
END:VCALENDAR