BEGIN:VCALENDAR
VERSION:2.0
PRODID:-//jEvents 1.5 for Joomla//EN
BEGIN:VEVENT
CALSCALE:GREGORIAN
METHOD:PUBLISH

UID:196e353050fdbf1409eeaad79bd32cf8
CATEGORIES:Egyéb kapcsolódó tanfolyam
SUMMARY:Beda-RádiuszTamás:BMR-LÁT Hétvégi Alapozó Tanfolyam 1/2(Budapest)
LOCATION:Budapest, szervezés alatt
DESCRIPTION;ENCODING=QUOTED-PRINTABLE:<p><br /><strong><span style="font-size: 12pt;">BELSŐ MEGÉLÉSEK RENDSZER
 E</span></strong><br /><strong><span style="font-size: 12pt;">a BMR Lélekm
 odellel és a Lelki Állapotok Táblázatával</span></strong></p><p><stron
 g><span style="font-size: 10pt;">2 napos alapozó és 10 napos haladó tanf
 olyam Budapesten</span></strong></p><p><span style="font-size: 10pt;">elnev
 ezés: Belső Megélések Rendszere Alapozó és Haladó Tanfolyam</span></
 p><p><span style="font-size: 10pt;">kategória: konfliktusmegoldás, tudato
 sság, lélekismeret, érzelmek logikája</span><br /><span style="font-siz
 e: 10pt;">típus: intenzív tanfolyam</span><br /><span style="font-size: 1
 0pt;">létszám: maximum 16 fő</span><br /><span style="font-size: 10pt;">
 <strong>átadó</strong>: Beda Boglárka, <a href="partnereink/radiusz-tama
 s.html" target="_blank"><span style="text-decoration: underline;">Rádiusz 
 Tamás </span></a></span><br /><span style="font-size: 10pt;"><strong>helys
 zín</strong>: Budapest</span><br /><span style="font-size: 10pt;"><strong>
 időtartam</strong>: 2 és 10 nap, ebből</span></p><p><span style="font-si
 ze: 10pt;">Hétvégi <strong>Alapozó Tanfolyam</strong>: 2018. február 17
 -18.</span><br /><span style="font-size: 10pt;">A részvételi díj tartalm
 azza a ~ 140 oldalas jegyzetet is és a LÁT Alaptáblázat árát is.</spa
 n></p><p><span style="font-size: 10pt;">Hétvégi <strong>Haladó Tanfolyam
 </strong> a Belső Megélések Rendszerével:</span><br /><span style="font
 -size: 10pt;">2018. február 24- 25.</span><br /><span style="font-size: 10
 pt;">A további tanfolyami napok tervezett időpontjai:</span><br /><span s
 tyle="font-size: 10pt;">2018. március 3-4., március 24-25., május 5-6., 
 május 19-20.</span><br /><span style="font-size: 10pt;">A részvételi dí
 j tartalmazza a ~ 400 oldalas jegyzet árát is.</span></p><p><span style="
 font-size: 10pt;">Az alábbi helyeken tájékozódhatsz mindkét tanfolyam 
 tematikájáról:</span><br /><span style="font-size: 10pt;"><a href="http:
 //www.belsomegelesekrendszere.hu">http://www.belsomegelesekrendszere.hu</a>
 </span></p><p><span style="font-size: 10pt;">Részvételi díj alkalmankén
 t fizetve: 14 000 Ft / fő / nap.</span><br /><span style="font-size: 10pt;
 ">(Pest megyén túlról érkezőknek a részvételi díj alkalmanként fiz
 etve: 11 000 Ft / fő / nap.)</span><br /><span style="font-size: 10pt;">Ta
 nfolyamot ismétlők számára: 6 000 Ft/nap</span></p><p><span style="font
 -size: 10pt;">előfeltétel: nincs (viszont a modulok elvégzése sorrendhe
 z kötött, napokat kihagyni nem ajánlott)</span></p><p><span style="font-
 size: 10pt;">Jelentkezés: írásos előregisztrációt kérünk az 
 <scri
 pt language='JavaScript' type='text/javascript'>
 <!--
 var prefix = 'm&#97
 ;&#105;lt&#111;:';
 var suffix = '';
 var attribs = '';
 var path = 'hr' + 
 'ef' + '=';
 var addy91164 = '&#101;l&#101;m&#97;l&#111;m' + '&#64;';
 addy
 91164 = addy91164 + 'gm&#97;&#105;l' + '&#46;' + 'c&#111;m';
 document.writ
 e( '<a ' + path + '\'' + prefix + addy91164 + suffix + '\'' + attribs + '>'
  );
 document.write( addy91164 );
 document.write( '<\/a>' );
 //-->
 </scr
 ipt><script language='JavaScript' type='text/javascript'>
 <!--
 document.w
 rite( '<span style=\'display: none;\'>' );
 //-->
 </script>Ez az email cí
 m védett a spam robotoktól, a megtekintéséhez engedélyezni kell a Java
 scriptet.
 <script language='JavaScript' type='text/javascript'>
 <!--
 doc
 ument.write( '</' );
 document.write( 'span>' );
 //-->
 </script> e-mail c
 ímen. Jelentkezés lemondása: írásban lehetséges</span></p><p><span st
 yle="font-size: 10pt;">Miért jó a belső világunkat megismerni?</span></
 p><p><span style="font-size: 10pt;">Belső világunk (lelkünk) az érzelm
 nk és tudatunk, belső indíttatásunk, motivációnk forrása. Ez az ori
 gónk. Lelkünk állapota határozza meg például,</span><br /><span style
 ="font-size: 10pt;">– hogyan érezzük magunkat a saját bőrünkben,</sp
 an><br /><span style="font-size: 10pt;">– meglátjuk-e és éljük-e a ho
 zott érzelmi többletünket, az életünk értelmét,</span><br /><span st
 yle="font-size: 10pt;">– képesek vagyunk-e hozott többletünket adva bo
 ldoggá válni,</span><br /><span style="font-size: 10pt;">– rászorulunk
 -e mások kapcsolatára, tudunk-e, és ha igen, hogyan tudunk kapcsolatokat
  építeni környezetünkkel, játszma vagy játékalapú lesz-e kapcsolód
 ásunk formája,</span><br /><span style="font-size: 10pt;">– hogyan reag
 álunk a minket ért veszteségekre, képesek vagyunk-e a veszteségek feld
 olgozására.</span></p><p><span style="font-size: 10pt;">A külvilág csak
  adott milyenségű kapcsolódási lehetőségeket nyújt nekünk, lelkiál
 lapotunk határozza meg, mely kapcsolódási lehetőségekkel fogunk a gyak
 orlatban élni.</span></p><p><span style="font-size: 10pt;">Lelkünk érzel
 mi és tudati állapota meghatározza észlelésünket, megnyithatja az uta
 t kiteljesedésünkhöz, gerjesztheti vagy korlátozhatja megnyilvánulása
 inkat, cselekedeteinket.</span></p><p><span style="font-size: 10pt;">Érzel
 mi veszteségeink súlya, azok feldolgozottsági foka határozza meg, hogy 
 egy adott megélési területen meg tud-e nyilvánulni belső, születésü
 nkkel magunkkal hozott, önzetlenül adni képes Érzelmi Többletünk.</sp
 an></p><p><span style="font-size: 10pt;">Ezért szó szerint meghatározó 
 számunkra, mennyire ismerjük a Belső Világunkat, a Lelkünket, ahol él
 ünk.</span></p>
CONTACT:
 
 
 
 
 Ez az email cím védett a spam robotoktól, a megtekintéséhez engedélyezni kell a Javascriptet.
 
 
 

DTSTAMP:20260425T202226Z
DTSTART:20180217T090000Z
DTEND:20180217T170000Z
SEQUENCE:0
TRANSP:OPAQUE
END:VEVENT
END:VCALENDAR